From mboxrd@z Thu Jan 1 00:00:00 1970 Return-Path: Received: from mails.dpdk.org (mails.dpdk.org [217.70.189.124]) by inbox.dpdk.org (Postfix) with ESMTP id C55C0467B0 for ; Wed, 21 May 2025 19:21:56 +0200 (CEST) Received: from mails.dpdk.org (localhost [127.0.0.1]) by mails.dpdk.org (Postfix) with ESMTP id A52A9427D3; Wed, 21 May 2025 19:21:56 +0200 (CEST) Received: from mail-qt1-f225.google.com (mail-qt1-f225.google.com [209.85.160.225]) by mails.dpdk.org (Postfix) with ESMTP id 1AE2A40298 for ; Wed, 21 May 2025 19:21:55 +0200 (CEST) Received: by mail-qt1-f225.google.com with SMTP id d75a77b69052e-4767e969b94so124786141cf.2 for ; Wed, 21 May 2025 10:21:55 -0700 (PDT) DKIM-Signature: v=1; a=rsa-sha256; c=relaxed/relaxed; d=iol.unh.edu; s=unh-iol; t=1747848114; x=1748452914; darn=dpdk.org; h=references:in-reply-to:cc:to:from:subject:message-id:date:from:to :cc:subject:date:message-id:reply-to; bh=/LKWM93ofU0vbWNfQTIN2BjEy77Pf7Zwv3Fg4/nU4EI=; b=AOF2zGfznTlY7Exkv58PHugmuwoVMQlE3Wx0cyWSBAvwwDmrNz6P8uVWfS4YCNH9M0 yafhn2TLXoKwItpCHXT6FUyFWkROeaAsSnRGVyGkiJW3o5lUzI2y965qGS43GdvR3XKI JxCSrL+IYqr9f0homtIFKHpjKJEIpUbLS9Z9E= X-Google-DKIM-Signature: v=1; a=rsa-sha256; c=relaxed/relaxed; d=1e100.net; s=20230601; t=1747848114; x=1748452914; h=references:in-reply-to:cc:to:from:subject:message-id:date :x-gm-message-state:from:to:cc:subject:date:message-id:reply-to; bh=/LKWM93ofU0vbWNfQTIN2BjEy77Pf7Zwv3Fg4/nU4EI=; b=JKEcWxAEI+SDBt7XQ3BQsuHk5wL7+3MnTrWDz/4ppLwz0e9FPgQnU2AjYYzBrZuRd9 ZsyBXchCokq+Igy12UqjKFYjkd9tTD1kCN96YEOYvvKOj3VplFf3U0tOvcufEvrQD/pS 64g37RSpmpG0nCjTU8JXSB/oLqd+SlJBK9zY4uTI4kXkNWEPltXtTDvVfrJpYxASqbsc K7ly6T6Set83rNT3H+9yuPmTd+IGtk7uPhqGf/HQLngNBxSKk2/iHllecasHYH23G3en iC8ohagEG/FlbKWyvu/6jkTvL2f0ud7HCQMNoqiu8GRjrjDQ2VUJEgw52NrN6EBlAWgH 1GIA== X-Gm-Message-State: AOJu0YyTl3IPdNZoSDcKU1GxLkaxn0sgMyu50DiaQkE2tdLxK0NJMp2M G2w+JxW5H4awoGLVRj3O48eGESvBi/fGOXTmwVQzb10M5Ke8d5AKma7hjHmF9uvhZDKHNX7gCC1 /Y3xvxTdx/iO0cJFDIGEY8gxsDE2cWxh6lRDec8fuswcJ X-Gm-Gg: ASbGncvGO770JtZfnxFqspbl/wC6Lx+xfykrPX9+LZZeGpWaVOUsFD6fXOA8mlJGEE/ 8K/wHncL3hLwTwiaGiygMxCfh/7yQG1SEq4VA9Lc7o41AudFLOH3WVvzXSrxWvqic9OlTK1Oi4U AjhQBSppUq/u5R6bpfafwmmYGu+/O4dl/95UbfLcoPWIQjcxnGJLMuCTV7MNlqC6Sep0oFRo0zG iEBbDe4ahghIGIEQOoqrqiD3pmGTWzRsDXOfoBwgS9d9ykOMc/Q1OAJFyOKoeL23g3K0U9rFrp/ sSwQ8CavNS9mvPyaiz0Exdp/q6eYxhgjUDtJPkEyJ31pQKn1uPlycPUR3ps= X-Google-Smtp-Source: AGHT+IH9P0xjfdhRdfHv29uRoI1huufGYliF3zt6Wgac4oZ0uYAcx96NdLTVUJ3sAd04xhK2Ly5D7JyAfCbl X-Received: by 2002:a05:622a:5147:b0:494:adc6:239f with SMTP id d75a77b69052e-494b075bf8emr278831861cf.10.1747848114366; Wed, 21 May 2025 10:21:54 -0700 (PDT) Received: from postal.iol.unh.edu (postal.iol.unh.edu. [132.177.123.84]) by smtp-relay.gmail.com with ESMTPS id d75a77b69052e-494ae4e1bcesm5126431cf.17.2025.05.21.10.21.54 (version=TLS1_2 cipher=ECDHE-ECDSA-AES128-GCM-SHA256 bits=128/128); Wed, 21 May 2025 10:21:54 -0700 (PDT) X-Relaying-Domain: iol.unh.edu Date: Wed, 21 May 2025 10:21:54 -0700 (PDT) Message-ID: <682e0bb2.050a0220.3ccd2d.be83SMTPIN_ADDED_MISSING@mx.google.com> Received: from [172.21.0.5] (unknown [172.18.0.240]) by postal.iol.unh.edu (Postfix) with ESMTP id E854E6052471; Wed, 21 May 2025 13:21:53 -0400 (EDT) Subject: |SUCCESS| pw153561 [PATCH] [v2] ethdev: optimize how the values of t From: dpdklab@iol.unh.edu To: Test Report Cc: dpdk-test-reports@iol.unh.edu In-Reply-To: <20250521101531.34240-1-sunyang.wu@jaguarmicro.com> References: <20250521101531.34240-1-sunyang.wu@jaguarmicro.com> Content-Type: text/plain X-BeenThere: test-report@dpdk.org X-Mailman-Version: 2.1.29 Precedence: list List-Id: automatic DPDK test reports List-Unsubscribe: , List-Archive: List-Post: List-Help: List-Subscribe: , Errors-To: test-report-bounces@dpdk.org Test-Label: iol-compile-arm64-testing Test-Status: SUCCESS http://dpdk.org/patch/153561 _Testing PASS_ Submitter: Sunyang Wu Date: Wednesday, May 21 2025 10:15:31 DPDK git baseline: Repo:dpdk Branch: master CommitID:a0dde342cc312fd75b63281f63d757db7482cdab 153561 --> testing pass Upstream job id: Generic-DPDK-Compile-Meson#390054 Test environment and result as below: +----------------------------------------+--------------------+ | Environment | dpdk_meson_compile | +========================================+====================+ | RHEL9 (ARM) | PASS | +----------------------------------------+--------------------+ | Ubuntu 20.04 ARM GCC Cross Compile | PASS | +----------------------------------------+--------------------+ | Ubuntu 20.04 ARM SVE | PASS | +----------------------------------------+--------------------+ | Debian 12 with MUSDK | PASS | +----------------------------------------+--------------------+ | Fedora 40 (ARM) | PASS | +----------------------------------------+--------------------+ | Fedora 40 (ARM Clang) | PASS | +----------------------------------------+--------------------+ | Fedora 41 (ARM) | PASS | +----------------------------------------+--------------------+ | Fedora 41 (ARM Clang) | PASS | +----------------------------------------+--------------------+ | Ubuntu 20.04 (ARM) | PASS | +----------------------------------------+--------------------+ | Ubuntu 22.04 (ARM) | PASS | +----------------------------------------+--------------------+ | Ubuntu 24.04 (ARM) | PASS | +----------------------------------------+--------------------+ | CentOS Stream 9 (ARM) | PASS | +----------------------------------------+--------------------+ | CentOS Stream 10 (ARM) | PASS | +----------------------------------------+--------------------+ | Debian 12 (arm) | PASS | +----------------------------------------+--------------------+ | Ubuntu 20.04 ARM Clang Cross Compile | PASS | +----------------------------------------+--------------------+ | Ubuntu 20.04 aarch32 GCC Cross Compile | PASS | +----------------------------------------+--------------------+ RHEL9 (ARM) Kernel: Depends on container host Compiler: gcc 11.5.0 20240719 (Red Hat 11.5.0-2) Ubuntu 20.04 ARM GCC Cross Compile Kernel: Depends on container host Compiler: aarch64-linux-gnu-gcc (Ubuntu 9.4.0-1ubuntu1~20.04.2) 9.4.0 Ubuntu 20.04 ARM SVE Kernel: Depends on container host Compiler: gcc (Ubuntu 10.5.0-1ubuntu1~20.04) 10.5.0 Debian 12 with MUSDK Kernel: Depends on container host Compiler: gcc (Debian 12.2.0-14) 12.2.0 Fedora 40 (ARM) Kernel: Depends on container host Compiler: gcc 14.2.1 20240912 (Red Hat 14.2.1-3) Fedora 40 (ARM Clang) Kernel: Depends on container host Compiler: clang 18.1.8 (Fedora 18.1.8-1.fc40) Fedora 41 (ARM) Kernel: Depends on container host Compiler: gcc 14.2.1 20240912 (Red Hat 14.2.1-3) Fedora 41 (ARM Clang) Kernel: Depends on container host Compiler: clang 19.1.5 (Fedora 19.1.5-1.fc41) Ubuntu 20.04 (ARM) Kernel: Depends on container host Compiler: gcc (Ubuntu 9.4.0-1ubuntu1~20.04.2) 9.4.0 Ubuntu 22.04 (ARM) Kernel: Depends on container host Compiler: gcc (Ubuntu 11.4.0-1ubuntu1~22.04) 11.4.0 Ubuntu 24.04 (ARM) Kernel: Depends on container host Compiler: gcc (Ubuntu 13.3.0-6ubuntu2~24.04) 13.3.0 CentOS Stream 9 (ARM) Kernel: Depends on container host Compiler: gcc 11.5.0 20240719 (Red Hat 11.5.0-2) CentOS Stream 10 (ARM) Kernel: Depends on container host Compiler: gcc 14.2.1 20241104 (Red Hat 14.2.1-6) Debian 12 (arm) Kernel: Depends on container host Compiler: gcc (Debian 12.2.0-14) 12.2.0 Ubuntu 20.04 ARM Clang Cross Compile Kernel: Depends on container host Compiler: clang 10.0.0-4ubuntu1 Ubuntu 20.04 aarch32 GCC Cross Compile Kernel: Depends on container host Compiler: gcc 9.4.0 To view detailed results, visit: https://lab.dpdk.org/results/dashboard/patchsets/33221/ UNH-IOL DPDK Community Lab To manage your email subscriptions, visit: https://lab.dpdk.org/results/dashboard/preferences/subscriptions/