From mboxrd@z Thu Jan 1 00:00:00 1970 Return-Path: Received: from mails.dpdk.org (mails.dpdk.org [217.70.189.124]) by inbox.dpdk.org (Postfix) with ESMTP id 330BE467B0 for ; Wed, 21 May 2025 19:26:06 +0200 (CEST) Received: from mails.dpdk.org (localhost [127.0.0.1]) by mails.dpdk.org (Postfix) with ESMTP id 2F01F42DDC; Wed, 21 May 2025 19:26:06 +0200 (CEST) Received: from mail-pj1-f97.google.com (mail-pj1-f97.google.com [209.85.216.97]) by mails.dpdk.org (Postfix) with ESMTP id 8268140298 for ; Wed, 21 May 2025 19:26:04 +0200 (CEST) Received: by mail-pj1-f97.google.com with SMTP id 98e67ed59e1d1-30ea8b7c5c2so4292195a91.3 for ; Wed, 21 May 2025 10:26:04 -0700 (PDT) DKIM-Signature: v=1; a=rsa-sha256; c=relaxed/relaxed; d=iol.unh.edu; s=unh-iol; t=1747848363; x=1748453163; darn=dpdk.org; h=cc:to:from:subject:message-id:date:from:to:cc:subject:date :message-id:reply-to; bh=45dLxZfEnRTNuHNGFSfdPB7L00JlT9WBNPclXkyPoLg=; b=P9D+5HTJ9gl5w7Dodjl7kLAPr4668XGLtMX4XAc5MaPWjde2XudEs+sVOSYoJbH2+5 OE4IVeqkL96De7IgZsvpcarwEXjnKCLbdUqGyX7ApF7Yw/Zw7nkKnzh7xzfQMQjgpdAU ChkHxk2SiuvFwBblui+kh94JE3HjWCm4mGstA= X-Google-DKIM-Signature: v=1; a=rsa-sha256; c=relaxed/relaxed; d=1e100.net; s=20230601; t=1747848363; x=1748453163; h=cc:to:from:subject:message-id:date:x-gm-message-state:from:to:cc :subject:date:message-id:reply-to; bh=45dLxZfEnRTNuHNGFSfdPB7L00JlT9WBNPclXkyPoLg=; b=fM6CET5l4/0hPGFSgo7SQ+i0aYkFj9Woy0K3OCQOKqmlPFUSR2OnLPS8CR42znWXfS SvQxhI6J+ulwjeyUKXea7AXtgWwLbtexath9PYSzoNmVc/UW+MDZvQIdyf4arCLffs4z ZKYECPrP4w8gpyruvVGXLvkX9NxUmpIfGnLRdMd7xQ7zSvzBxTV79rjXMQ73KvdWKkce CzWWGd3jX7SEKnzjMiZKaVmsLJnK2tESe8ecNouKarueI6Q1FHIFo53XeDzKlZvbXT+r 2H+JjuRPlfgzO+CqVap+cdTxC5QM64BcSEpTSmAwiSos8tXaIBwWAI0Sc0vCWzl65kO4 IpNw== X-Gm-Message-State: AOJu0YwkUm9IUPMBsKcdb+uRLu2TJnWAn1u1aYz03DTbFjusuo5G+4H0 9uBCAZ4NRf6nyxQf7M3IUN1k/Obm54srHOuxqjbOvniQoXLxYc8xqHs34zDzlBlqIfPvIhC2J6A vLigIrro3Wt6wNprhGK+R1PFdwx28ZivexK1Vin0gxtdu X-Gm-Gg: ASbGncugkranL73rFRQWgpdvdfzhQZY+w5ZeV3uTtwQIsahF68eOQdZu4JGn4pOjkWU hYMY8FvHYS1NRShNgtuo17yQeDGRFbwikItlW6PnaKzQAMbByDJZS2CCrMnfcNM9siUO5uuRi6B arKv/LNc0A3FcNIhSDNJDYdxhiT/yW3CsPD1tyNTxji5n7EeG/cjZOf/AvaUU3Grtih3N9Kt5UQ dYDLtPIxLj9wmSn4P1hHUd3df0/WjVNuTvJUH0rnRtu60T4Iw1QZhDKJj0EtYuAXug+CG2LIVbv nDbXsTYgCbMj6YFeZM68vtpHYopQZTRffrzC4Nz9V25YX7SOObwUvutvzkw= X-Google-Smtp-Source: AGHT+IGG9tcCdqKKw4nt3wnv9/UJhErDVEJMtev9vjmyYI3TcQdYUZqaw9mCSBpvomg8CZ13cVtTGS2aHk45 X-Received: by 2002:a17:90b:3b48:b0:30a:4874:5397 with SMTP id 98e67ed59e1d1-30e7d50affamr35514020a91.9.1747848363449; Wed, 21 May 2025 10:26:03 -0700 (PDT) Received: from postal.iol.unh.edu (postal.iol.unh.edu. [132.177.123.84]) by smtp-relay.gmail.com with ESMTPS id 98e67ed59e1d1-30f365d7768sm317595a91.3.2025.05.21.10.26.03 (version=TLS1_2 cipher=ECDHE-ECDSA-AES128-GCM-SHA256 bits=128/128); Wed, 21 May 2025 10:26:03 -0700 (PDT) X-Relaying-Domain: iol.unh.edu Date: Wed, 21 May 2025 10:26:03 -0700 (PDT) Message-ID: <682e0cab.170a0220.27ffbd.0bdeSMTPIN_ADDED_MISSING@mx.google.com> Received: from [172.21.0.5] (unknown [172.18.0.240]) by postal.iol.unh.edu (Postfix) with ESMTP id A22E56052472; Wed, 21 May 2025 13:26:02 -0400 (EDT) Subject: |SUCCESS| [GIT MASTER] 3fea4e6b376fe7c0be0103e0ca238761f5e22457 From: dpdklab@iol.unh.edu To: Test Report Cc: dpdk-test-reports@iol.unh.edu, Bruce Richardson Content-Type: text/plain X-BeenThere: test-report@dpdk.org X-Mailman-Version: 2.1.29 Precedence: list List-Id: automatic DPDK test reports List-Unsubscribe: , List-Archive: List-Post: List-Help: List-Subscribe: , Errors-To: test-report-bounces@dpdk.org _Testing PASS_ Branch: dpdk-next-net-intel 3fea4e6b376fe7c0be0103e0ca238761f5e22457 --> testing pass Upstream job id: Generic-DPDK-Compile-Meson#390038 Test environment and result as below: +----------------------------------------+--------------------+ | Environment | dpdk_meson_compile | +========================================+====================+ | RHEL9 (ARM) | PASS | +----------------------------------------+--------------------+ | Ubuntu 20.04 ARM GCC Cross Compile | PASS | +----------------------------------------+--------------------+ | Ubuntu 20.04 ARM SVE | PASS | +----------------------------------------+--------------------+ | Debian 12 with MUSDK | PASS | +----------------------------------------+--------------------+ | Fedora 40 (ARM) | PASS | +----------------------------------------+--------------------+ | Fedora 40 (ARM Clang) | PASS | +----------------------------------------+--------------------+ | Fedora 41 (ARM) | PASS | +----------------------------------------+--------------------+ | Fedora 41 (ARM Clang) | PASS | +----------------------------------------+--------------------+ | Ubuntu 20.04 (ARM) | PASS | +----------------------------------------+--------------------+ | Ubuntu 22.04 (ARM) | PASS | +----------------------------------------+--------------------+ | Ubuntu 24.04 (ARM) | PASS | +----------------------------------------+--------------------+ | CentOS Stream 9 (ARM) | PASS | +----------------------------------------+--------------------+ | CentOS Stream 10 (ARM) | PASS | +----------------------------------------+--------------------+ | Debian 12 (arm) | PASS | +----------------------------------------+--------------------+ | Ubuntu 20.04 ARM Clang Cross Compile | PASS | +----------------------------------------+--------------------+ | Ubuntu 20.04 aarch32 GCC Cross Compile | PASS | +----------------------------------------+--------------------+ RHEL9 (ARM) Kernel: Depends on container host Compiler: gcc 11.5.0 20240719 (Red Hat 11.5.0-2) Ubuntu 20.04 ARM GCC Cross Compile Kernel: Depends on container host Compiler: aarch64-linux-gnu-gcc (Ubuntu 9.4.0-1ubuntu1~20.04.2) 9.4.0 Ubuntu 20.04 ARM SVE Kernel: Depends on container host Compiler: gcc (Ubuntu 10.5.0-1ubuntu1~20.04) 10.5.0 Debian 12 with MUSDK Kernel: Depends on container host Compiler: gcc (Debian 12.2.0-14) 12.2.0 Fedora 40 (ARM) Kernel: Depends on container host Compiler: gcc 14.2.1 20240912 (Red Hat 14.2.1-3) Fedora 40 (ARM Clang) Kernel: Depends on container host Compiler: clang 18.1.8 (Fedora 18.1.8-1.fc40) Fedora 41 (ARM) Kernel: Depends on container host Compiler: gcc 14.2.1 20240912 (Red Hat 14.2.1-3) Fedora 41 (ARM Clang) Kernel: Depends on container host Compiler: clang 19.1.5 (Fedora 19.1.5-1.fc41) Ubuntu 20.04 (ARM) Kernel: Depends on container host Compiler: gcc (Ubuntu 9.4.0-1ubuntu1~20.04.2) 9.4.0 Ubuntu 22.04 (ARM) Kernel: Depends on container host Compiler: gcc (Ubuntu 11.4.0-1ubuntu1~22.04) 11.4.0 Ubuntu 24.04 (ARM) Kernel: Depends on container host Compiler: gcc (Ubuntu 13.3.0-6ubuntu2~24.04) 13.3.0 CentOS Stream 9 (ARM) Kernel: Depends on container host Compiler: gcc 11.5.0 20240719 (Red Hat 11.5.0-2) CentOS Stream 10 (ARM) Kernel: Depends on container host Compiler: gcc 14.2.1 20241104 (Red Hat 14.2.1-6) Debian 12 (arm) Kernel: Depends on container host Compiler: gcc (Debian 12.2.0-14) 12.2.0 Ubuntu 20.04 ARM Clang Cross Compile Kernel: Depends on container host Compiler: clang 10.0.0-4ubuntu1 Ubuntu 20.04 aarch32 GCC Cross Compile Kernel: Depends on container host Compiler: gcc 9.4.0 To view detailed results, visit: https://lab.dpdk.org/results/dashboard/tarballs/33601/ UNH-IOL DPDK Community Lab To manage your email subscriptions, visit: https://lab.dpdk.org/results/dashboard/preferences/subscriptions/