From mboxrd@z Thu Jan 1 00:00:00 1970 Return-Path: Received: from mails.dpdk.org (mails.dpdk.org [217.70.189.124]) by inbox.dpdk.org (Postfix) with ESMTP id DFE92467B0 for ; Wed, 21 May 2025 19:31:18 +0200 (CEST) Received: from mails.dpdk.org (localhost [127.0.0.1]) by mails.dpdk.org (Postfix) with ESMTP id C5FA842DDC; Wed, 21 May 2025 19:31:18 +0200 (CEST) Received: from mail-yb1-f225.google.com (mail-yb1-f225.google.com [209.85.219.225]) by mails.dpdk.org (Postfix) with ESMTP id 6C84240298 for ; Wed, 21 May 2025 19:31:17 +0200 (CEST) Received: by mail-yb1-f225.google.com with SMTP id 3f1490d57ef6-e7b811be6dbso4615147276.2 for ; Wed, 21 May 2025 10:31:17 -0700 (PDT) DKIM-Signature: v=1; a=rsa-sha256; c=relaxed/relaxed; d=iol.unh.edu; s=unh-iol; t=1747848676; x=1748453476; darn=dpdk.org; h=references:in-reply-to:cc:to:from:subject:message-id:date:from:to :cc:subject:date:message-id:reply-to; bh=9DAa5S2gzthvztK2rEsMPvfebcjgjmJ7Kah0WugAN/4=; b=ZU9QVBiKpagmsC9jmiUfVL0XRoGPevjNK22LaIogmgO8JMj041GL33c25hmsIdskd3 wwSNHWy70C9cSfbR+Ao0Scr63FpHvhU1SwGg5I3yBGXTBNQ6Nr5Q5yONDe9VfnUObytf WuiovC4vky1VgFTg01PR/bjuwMUq9VNevp5ck= X-Google-DKIM-Signature: v=1; a=rsa-sha256; c=relaxed/relaxed; d=1e100.net; s=20230601; t=1747848676; x=1748453476; h=references:in-reply-to:cc:to:from:subject:message-id:date :x-gm-message-state:from:to:cc:subject:date:message-id:reply-to; bh=9DAa5S2gzthvztK2rEsMPvfebcjgjmJ7Kah0WugAN/4=; b=wMzx/+JpFtLKqS4fAr4+G7vFzpMSQ/F+VaOz3tUaU1JTkWuzNBYi55qZ/04YPYk7As tq392moo4LUW1p7iuPvallFwCU5CbzUmUW9ycsTsimTJgVNk/g7NPphu3NRO1vJF38+p 7BBAKCRrZ9/ec/8sABS1Zz+q7v1t0u2eSPNw80LK1Lj8eTxqr7eSR3w6c89px17/Yszl L4E4Se4sjXveLc1suXOQhxJ/mdJJ0tomwvBq1ah4CxizNP259q8TRqV2ZTlouHmgdFMY nA9vLFhXtg0qrnllvneiSqMh+IgnY5h+98YRDmLX4MWLMpcwlRYREP+wIZIjzg7zZmj1 UY0Q== X-Gm-Message-State: AOJu0Yzs79IeFeliaPL4EKhzt+t3Rw1CEkDGPIx4qGTDBkW+SXmN7O3P 1O/WSE6cfht2Extahs75zaRXYPAu9N+tCE2ffOFWIYpSc3CNL25eL50BUjAnaIStyYB0nJiKuHV G3M3faJTNj0Hd0NcCid6HJI3efdo9dYRv+e1ZssRc9gWY X-Gm-Gg: ASbGncueJh80o631n57uJTOOqVI/Mye9a3WIncA6iaX8xsnSJUaR5Mo8eLQ/YdptCBa JI13WUeZoxNtb2B9CncURg46WAlmZ9loH3p47vM9FcHO6ukWGpTMEmzW0WCyo4X/cUaupi9Qh8j J3N6cljG8+cYSdXXHDiH92bIMNTHuO202fqZ/nWPZawcgbD/x48tPFCogLG8eG+NnzrQK7wpXUH XMDBedvGteFBO3E1F8yKD/zoxjA+5l3QtZZ1B+smaPlIWS7r5sa1qx8uhETF/L4IYKfHj7zvfvs 7Da6oX+25pM2MAOgmBwJnqJeen9XEeHMAUk42Sao16SVRinPsxsmZPaWS0E= X-Google-Smtp-Source: AGHT+IE7ddbtrkyTNbS/zatCCw04rD0YUBD1dbCbmpt7idpGT99OTfThUeelR7+y7MRkV4iugTNEyfj3peWF X-Received: by 2002:a05:6902:124d:b0:e78:e830:c646 with SMTP id 3f1490d57ef6-e7b6a543c25mr29708426276.49.1747848676646; Wed, 21 May 2025 10:31:16 -0700 (PDT) Received: from postal.iol.unh.edu (postal.iol.unh.edu. [132.177.123.84]) by smtp-relay.gmail.com with ESMTPS id 3f1490d57ef6-e7d6609f93dsm49629276.3.2025.05.21.10.31.16 (version=TLS1_2 cipher=ECDHE-ECDSA-AES128-GCM-SHA256 bits=128/128); Wed, 21 May 2025 10:31:16 -0700 (PDT) X-Relaying-Domain: iol.unh.edu Date: Wed, 21 May 2025 10:31:16 -0700 (PDT) Message-ID: <682e0de4.250a0220.5388d.2af1SMTPIN_ADDED_MISSING@mx.google.com> Received: from [172.21.0.5] (unknown [172.18.0.240]) by postal.iol.unh.edu (Postfix) with ESMTP id 481E86052471; Wed, 21 May 2025 13:31:16 -0400 (EDT) Subject: |SUCCESS| pw153566-153573 [PATCH] [8/8] net/ena: upgrade driver vers From: dpdklab@iol.unh.edu To: Test Report Cc: dpdk-test-reports@iol.unh.edu In-Reply-To: <20250521140620.2841-1-shaibran@amazon.com> References: <20250521140620.2841-1-shaibran@amazon.com> Content-Type: text/plain X-BeenThere: test-report@dpdk.org X-Mailman-Version: 2.1.29 Precedence: list List-Id: automatic DPDK test reports List-Unsubscribe: , List-Archive: List-Post: List-Help: List-Subscribe: , Errors-To: test-report-bounces@dpdk.org Test-Label: iol-unit-amd64-testing Test-Status: SUCCESS http://dpdk.org/patch/153573 _Testing PASS_ Submitter: Shai Brandes Date: Wednesday, May 21 2025 14:06:20 DPDK git baseline: Repo:dpdk Branch: master CommitID:a0dde342cc312fd75b63281f63d757db7482cdab 153566-153573 --> testing pass Upstream job id: Generic-Unit-Test-DPDK#339625 Test environment and result as below: +---------------------+----------------+ | Environment | dpdk_unit_test | +=====================+================+ | Fedora 40 | PASS | +---------------------+----------------+ | Debian 12 | PASS | +---------------------+----------------+ | CentOS Stream 10 | PASS | +---------------------+----------------+ | CentOS Stream 9 | PASS | +---------------------+----------------+ | Fedora 40 (Clang) | PASS | +---------------------+----------------+ | Fedora 41 | PASS | +---------------------+----------------+ | RHEL8 | PASS | +---------------------+----------------+ | Fedora 41 (Clang) | PASS | +---------------------+----------------+ | Ubuntu 22.04 | PASS | +---------------------+----------------+ | RHEL9 | PASS | +---------------------+----------------+ | Ubuntu 20.04 | PASS | +---------------------+----------------+ | Ubuntu 24.04 | PASS | +---------------------+----------------+ | Windows Server 2022 | PASS | +---------------------+----------------+ Fedora 40 Kernel: Depends on container host Compiler: gcc 14.2.1 20240912 (Red Hat 14.2.1-3) Debian 12 Kernel: Depends on container host Compiler: gcc (Debian 12.2.0-14) 12.2.0 CentOS Stream 10 Kernel: Depends on container host Compiler: gcc 14.2.1 20241104 (Red Hat 14.2.1-6) CentOS Stream 9 Kernel: Depends on container host Compiler: gcc 11.5.0 20240719 (Red Hat 11.5.0-2) Fedora 40 (Clang) Kernel: Depends on container host Compiler: clang 18.1.8 (Fedora 18.1.8-1.fc40) Fedora 41 Kernel: Depends on container host Compiler: gcc 14.2.1 20240912 (Red Hat 14.2.1-3) RHEL8 Kernel: Depends on container host Compiler: gcc 8.5.0 20210514 (Red Hat 8.5.0-22) Fedora 41 (Clang) Kernel: Depends on container host Compiler: clang 19.1.5 (Fedora 19.1.5-1.fc41) Ubuntu 22.04 Kernel: Depends on container host Compiler: gcc (Ubuntu 11.4.0-1ubuntu1~22.04) 11.4.0 RHEL9 Kernel: Depends on container host Compiler: gcc 11.5.0 20240719 (Red Hat 11.5.0-2) Ubuntu 20.04 Kernel: Depends on container host Compiler: gcc (Ubuntu 9.4.0-1ubuntu1~20.04.2) 9.4.0 Ubuntu 24.04 Kernel: Depends on container host Compiler: gcc (Ubuntu 13.3.0-6ubuntu2~24.04) 13.3.0 Windows Server 2022 Kernel: 10.0.20348.2031 Compiler: clang 15.0.7, gcc 14.1.0 (MinGW), and MSVC VS 19.39.33521 To view detailed results, visit: https://lab.dpdk.org/results/dashboard/patchsets/33223/ UNH-IOL DPDK Community Lab To manage your email subscriptions, visit: https://lab.dpdk.org/results/dashboard/preferences/subscriptions/