From mboxrd@z Thu Jan 1 00:00:00 1970 Return-Path: Received: from mails.dpdk.org (mails.dpdk.org [217.70.189.124]) by inbox.dpdk.org (Postfix) with ESMTP id 127F7467B0 for ; Wed, 21 May 2025 19:33:12 +0200 (CEST) Received: from mails.dpdk.org (localhost [127.0.0.1]) by mails.dpdk.org (Postfix) with ESMTP id 0E84342DDC; Wed, 21 May 2025 19:33:12 +0200 (CEST) Received: from mail-ot1-f97.google.com (mail-ot1-f97.google.com [209.85.210.97]) by mails.dpdk.org (Postfix) with ESMTP id 37A4040298 for ; Wed, 21 May 2025 19:33:10 +0200 (CEST) Received: by mail-ot1-f97.google.com with SMTP id 46e09a7af769-72c27166ab3so5525076a34.1 for ; Wed, 21 May 2025 10:33:10 -0700 (PDT) DKIM-Signature: v=1; a=rsa-sha256; c=relaxed/relaxed; d=iol.unh.edu; s=unh-iol; t=1747848789; x=1748453589; darn=dpdk.org; h=references:in-reply-to:cc:to:from:subject:message-id:date:from:to :cc:subject:date:message-id:reply-to; bh=eqj6lXYXWIILpEAqGeA0mUoGp/s71PToT0tTYWbkVYk=; b=TzJmSl5eZroZt7pHRUniqogNUP0xIo8SErSvSG4ZvAJHZGm82YeEjjZX4Xlwr6JdEg VpoI4DVeN2CcTqHbSNNNRN+Ujs5G9+jYD4zNOE7TqVrYSvjZacrMRMgWJlHh4HGyhFkD 5ohhp3cG8wLeq6RrPynFR8B1r68yAk2orL6c4= X-Google-DKIM-Signature: v=1; a=rsa-sha256; c=relaxed/relaxed; d=1e100.net; s=20230601; t=1747848789; x=1748453589; h=references:in-reply-to:cc:to:from:subject:message-id:date :x-gm-message-state:from:to:cc:subject:date:message-id:reply-to; bh=eqj6lXYXWIILpEAqGeA0mUoGp/s71PToT0tTYWbkVYk=; b=OrOq6aRpdbrbh8S9kt6dwY8dyfD+AN6sW6rZ7hvm1PDc2bp6rdI/WBxCGiyaMCTiH7 O7K6Fd5Q5sbOLee5ERFuwNUiudKT5hgfkTLRyqUWA78cjIj4UvIZjWHG2I1PeCG/8wau URWilNiXXDcbux5bXuvUS0PhksM6FM1zXVxkozkXwmLz79PfKVyzEOQkivU1t+c32mdT BV7PspOtWf04Cx6xxLYccs1NeJTOye+46pfbLQqsF1t7DzkKiLBsw0edJDS7EVbHX0QS yGcoKuovypgwhcL3kiFYbp4HDQaA+44Qj9aCiK/ZxOgsZEqZe5pLBcPZ1csVdwtfWFlR +Prw== X-Gm-Message-State: AOJu0YwQutYczjU76+J/9ESv4fUcbbqsfKi8g+9gPMqK1CrtZ6U72NqB SKd8LJ2YvrS1cJhXZb0W5fR8xY57v6wdQdmmOtyIPnwQC3xcPk4p1j4CTdX4PAsF/ob+k1HAsKm NfTUy0pk7ZVrzB5nyqlETFfEiS8Z0W6+6VU8XSxHSuJy/ X-Gm-Gg: ASbGnct0jWLy6odQSFlip1MbZkGpfDAA3wHtowRkH0jbLr+QRtxIJ9IAa5ie+i38mkw HEiuZrKb9F4IEr8d/GdXgh1429zmuadRnh2efLSRKI+VOMzftt8hhDJGXXw8+gi48ynrDflteRG dvyKY6yHdA/g9bIQkIPuZBj2ne02AUBuikmBOLPEFMGcEciucerfUqIVivV3G2QJD/wb7Ir9m90 l1bry9ugFoVNefBPlCN/C16FpaCPROq7L4hWm7EoW8eLLaI5jABfmIz+ay0Qv0M5TQB6q6FaWPH DsfLUfD2VDpEULPyqIPLRYVRQT8wfcb/Z8COMlR4AZT9vemb9CwAqoBu+m8= X-Google-Smtp-Source: AGHT+IGHnfaktBcqTLTzSAthUk8gFSoL2UKXwxxTQ73Li23vRk/HgJNXtQk1i2qEpuEeJKSi0MZ6wMGRvL6g X-Received: by 2002:a05:6870:ad83:b0:2c1:b58c:c0c with SMTP id 586e51a60fabf-2e3c85e2fb2mr13912082fac.34.1747848789226; Wed, 21 May 2025 10:33:09 -0700 (PDT) Received: from postal.iol.unh.edu (postal.iol.unh.edu. [132.177.123.84]) by smtp-relay.gmail.com with ESMTPS id 586e51a60fabf-2e3c06b0ac0sm612515fac.14.2025.05.21.10.33.09 (version=TLS1_2 cipher=ECDHE-ECDSA-AES128-GCM-SHA256 bits=128/128); Wed, 21 May 2025 10:33:09 -0700 (PDT) X-Relaying-Domain: iol.unh.edu Date: Wed, 21 May 2025 10:33:09 -0700 (PDT) Message-ID: <682e0e55.050a0220.300f7f.1b36SMTPIN_ADDED_MISSING@mx.google.com> Received: from [172.21.0.5] (unknown [172.18.0.240]) by postal.iol.unh.edu (Postfix) with ESMTP id 9DF2D6052471; Wed, 21 May 2025 13:33:08 -0400 (EDT) Subject: |SUCCESS| pw153566-153573 [PATCH] [8/8] net/ena: upgrade driver vers From: dpdklab@iol.unh.edu To: Test Report Cc: dpdk-test-reports@iol.unh.edu In-Reply-To: <20250521140620.2841-1-shaibran@amazon.com> References: <20250521140620.2841-1-shaibran@amazon.com> Content-Type: text/plain X-BeenThere: test-report@dpdk.org X-Mailman-Version: 2.1.29 Precedence: list List-Id: automatic DPDK test reports List-Unsubscribe: , List-Archive: List-Post: List-Help: List-Subscribe: , Errors-To: test-report-bounces@dpdk.org Test-Label: iol-unit-arm64-testing Test-Status: SUCCESS http://dpdk.org/patch/153573 _Testing PASS_ Submitter: Shai Brandes Date: Wednesday, May 21 2025 14:06:20 DPDK git baseline: Repo:dpdk Branch: master CommitID:a0dde342cc312fd75b63281f63d757db7482cdab 153566-153573 --> testing pass Upstream job id: Generic-Unit-Test-DPDK#339636 Test environment and result as below: +-----------------------------+----------------+--------------+------------------------------+---------------------------+ | Environment | dpdk_unit_test | lpm_autotest | cryptodev_sw_snow3g_autotest | cryptodev_sw_zuc_autotest | +=============================+================+==============+==============================+===========================+ | CentOS Stream 9 (ARM) | PASS | SKIPPED | SKIPPED | SKIPPED | +-----------------------------+----------------+--------------+------------------------------+---------------------------+ | CentOS Stream 10 (ARM) | PASS | SKIPPED | SKIPPED | SKIPPED | +-----------------------------+----------------+--------------+------------------------------+---------------------------+ | Debian 12 (arm) | PASS | SKIPPED | PASS | PASS | +-----------------------------+----------------+--------------+------------------------------+---------------------------+ | Fedora 40 (ARM Clang) | PASS | SKIPPED | SKIPPED | SKIPPED | +-----------------------------+----------------+--------------+------------------------------+---------------------------+ | Fedora 40 (ARM) | PASS | SKIPPED | SKIPPED | SKIPPED | +-----------------------------+----------------+--------------+------------------------------+---------------------------+ | Fedora 41 (ARM) | PASS | SKIPPED | SKIPPED | SKIPPED | +-----------------------------+----------------+--------------+------------------------------+---------------------------+ | Fedora 41 (ARM Clang) | PASS | SKIPPED | SKIPPED | SKIPPED | +-----------------------------+----------------+--------------+------------------------------+---------------------------+ | Ubuntu 20.04 (ARM) | PASS | SKIPPED | SKIPPED | SKIPPED | +-----------------------------+----------------+--------------+------------------------------+---------------------------+ | RHEL9 (ARM) | PASS | SKIPPED | SKIPPED | SKIPPED | +-----------------------------+----------------+--------------+------------------------------+---------------------------+ | Ubuntu 22.04 (ARM) | PASS | SKIPPED | SKIPPED | SKIPPED | +-----------------------------+----------------+--------------+------------------------------+---------------------------+ | Ubuntu 24.04 (ARM) | PASS | SKIPPED | SKIPPED | SKIPPED | +-----------------------------+----------------+--------------+------------------------------+---------------------------+ | 32-bit Ubuntu 22.04.4 (ARM) | PASS | SKIPPED | SKIPPED | SKIPPED | +-----------------------------+----------------+--------------+------------------------------+---------------------------+ | Ubuntu 20.04 ARM SVE | SKIPPED | PASS | SKIPPED | SKIPPED | +-----------------------------+----------------+--------------+------------------------------+---------------------------+ CentOS Stream 9 (ARM) Kernel: Depends on container host Compiler: gcc 11.5.0 20240719 (Red Hat 11.5.0-2) CentOS Stream 10 (ARM) Kernel: Depends on container host Compiler: gcc 14.2.1 20241104 (Red Hat 14.2.1-6) Debian 12 (arm) Kernel: Depends on container host Compiler: gcc (Debian 12.2.0-14) 12.2.0 Fedora 40 (ARM Clang) Kernel: Depends on container host Compiler: clang 18.1.8 (Fedora 18.1.8-1.fc40) Fedora 40 (ARM) Kernel: Depends on container host Compiler: gcc 14.2.1 20240912 (Red Hat 14.2.1-3) Fedora 41 (ARM) Kernel: Depends on container host Compiler: gcc 14.2.1 20240912 (Red Hat 14.2.1-3) Fedora 41 (ARM Clang) Kernel: Depends on container host Compiler: clang 19.1.5 (Fedora 19.1.5-1.fc41) Ubuntu 20.04 (ARM) Kernel: Depends on container host Compiler: gcc (Ubuntu 9.4.0-1ubuntu1~20.04.2) 9.4.0 RHEL9 (ARM) Kernel: Depends on container host Compiler: gcc 11.5.0 20240719 (Red Hat 11.5.0-2) Ubuntu 22.04 (ARM) Kernel: Depends on container host Compiler: gcc (Ubuntu 11.4.0-1ubuntu1~22.04) 11.4.0 Ubuntu 24.04 (ARM) Kernel: Depends on container host Compiler: gcc (Ubuntu 13.3.0-6ubuntu2~24.04) 13.3.0 32-bit Ubuntu 22.04.4 (ARM) Kernel: 5.15.83+ aarch64 Compiler: gcc (Ubuntu 11.4.0-1ubuntu1~22.04) 11.4.0 Ubuntu 20.04 ARM SVE Kernel: Depends on container host Compiler: gcc (Ubuntu 10.5.0-1ubuntu1~20.04) 10.5.0 To view detailed results, visit: https://lab.dpdk.org/results/dashboard/patchsets/33223/ UNH-IOL DPDK Community Lab To manage your email subscriptions, visit: https://lab.dpdk.org/results/dashboard/preferences/subscriptions/