From mboxrd@z Thu Jan 1 00:00:00 1970 Return-Path: Received: from mails.dpdk.org (mails.dpdk.org [217.70.189.124]) by inbox.dpdk.org (Postfix) with ESMTP id C3BAF467B1 for ; Wed, 21 May 2025 20:58:43 +0200 (CEST) Received: from mails.dpdk.org (localhost [127.0.0.1]) by mails.dpdk.org (Postfix) with ESMTP id AADF142DE3; Wed, 21 May 2025 20:58:43 +0200 (CEST) Received: from mail-pl1-f225.google.com (mail-pl1-f225.google.com [209.85.214.225]) by mails.dpdk.org (Postfix) with ESMTP id 1D5614065B for ; Wed, 21 May 2025 20:58:42 +0200 (CEST) Received: by mail-pl1-f225.google.com with SMTP id d9443c01a7336-231e331baceso55689395ad.0 for ; Wed, 21 May 2025 11:58:42 -0700 (PDT) DKIM-Signature: v=1; a=rsa-sha256; c=relaxed/relaxed; d=iol.unh.edu; s=unh-iol; t=1747853921; x=1748458721; darn=dpdk.org; h=references:in-reply-to:cc:to:from:subject:message-id:date:from:to :cc:subject:date:message-id:reply-to; bh=L0ZQwqq3FQ2CKMv5AsgH0QzAV/vEmYQWkNH72sbDzlQ=; b=QwGXwVPaeF66GkA7nkt6NmyQqQ4Mhz+44adX+vo8IyVS6IR5n8MxEyjg7sFmCyDIGs SDzH/HWrcSVj1V8Whl+ZQ5hf1XdtDXnEV0OPkYw1gK9M53xhxKJ9RVlA7nf80MdZWjF3 Oulfo7ZnM4QiNXQiSvUEJJNtdn2kl6xkyKu28= X-Google-DKIM-Signature: v=1; a=rsa-sha256; c=relaxed/relaxed; d=1e100.net; s=20230601; t=1747853921; x=1748458721; h=references:in-reply-to:cc:to:from:subject:message-id:date :x-gm-message-state:from:to:cc:subject:date:message-id:reply-to; bh=L0ZQwqq3FQ2CKMv5AsgH0QzAV/vEmYQWkNH72sbDzlQ=; b=R7ZiLofEDtnbglK+yOfMdwSKhhhCNTExozERvyHJjcHI3chrFDDDw4aKhB1FBR81Uz KaZczyUbDEMSR+P1TBBrBTSka5+x5OPayS9rIUuDHKHqdFF4t0kw/VUebmFDAnJRj2YA jwlghm6x+nNAhcoU2OI5jd4Zgqm//2xdb3gu6thWY0+4DMV+jg8roLIf72/tQyTl4GJJ ElmYLKiP0e+11z7iTEDyh5DNL9/29Dtn18huOGJAKjj6peBPzCjCJxD+wpYseDaM1fKn KBl9fs2wUtNY+t7qLkCm09uqClwjZfq/CkP5VERaKF6LtmNOgNye48H4YWRYyXD/3O1J jTGg== X-Gm-Message-State: AOJu0YzGeQ2y3COLWLF6u5MgjiD7WjzxsE+wLpJzE+oXIfhDjTDu+qXp bIRdLC/3bJMgTBI6tccBai+cF1BjxqFBIqpxh+CwhMCLUBNwDeUk5e7oOFyStaC4tJKG/AKfmR4 h3RH6W9KSUfbx1PoGKebt6qL6+9tC8ygeHN0yvbZ34zTHWSIt1gruVBx2WD1w X-Gm-Gg: ASbGncvZJFMGUW/Gu+WlabILALSTeLxG3PDTg7/YEvhbBDybUj/STSjPhPdiMiO/OJ7 8M0afbTJtnSUbJhgtN6MYfquOg4UVMKpn/LXYUsPyr50OHwctglrFthnoaoYUr6f+uYWMEAUk0M IQQOjxTlGXPP5IE+7ohJGp/BtjCfSlvVOP0/c3HOqfmRcRtY1m2JUzgdhonQ9bY5DmY5QjzRyVF fCF5pIAURLZqVH3xzfhk23kz/uQT6PPq1Kc18ulpcJKsUUpc/896HEn3JkiKoIg3+lbrERnf0ar DQdnEjLvGWhBPMmp+K+2o3nfxGH4baX7jEdf X-Google-Smtp-Source: AGHT+IHL9ayxWAlL5jLFy8Beer3mpi9rafH8ewNzKOe0fZGTIFVxBDnMU7JZK+3a9SA38A4ByCuBoEiXwZWx X-Received: by 2002:a17:902:d4c9:b0:232:202e:ab18 with SMTP id d9443c01a7336-232202eac80mr205052665ad.26.1747853920865; Wed, 21 May 2025 11:58:40 -0700 (PDT) Received: from postal.iol.unh.edu (postal.iol.unh.edu. [2606:4100:3880:1234::84]) by smtp-relay.gmail.com with ESMTPS id d9443c01a7336-231d4ecf6d0sm7129645ad.122.2025.05.21.11.58.40 (version=TLS1_2 cipher=ECDHE-ECDSA-AES128-GCM-SHA256 bits=128/128); Wed, 21 May 2025 11:58:40 -0700 (PDT) X-Relaying-Domain: iol.unh.edu Date: Wed, 21 May 2025 11:58:40 -0700 (PDT) Message-ID: <682e2260.170a0220.355dee.6b5cSMTPIN_ADDED_MISSING@mx.google.com> Received: from [172.21.0.5] (unknown [172.18.0.240]) by postal.iol.unh.edu (Postfix) with ESMTP id 05DB46052471; Wed, 21 May 2025 14:58:40 -0400 (EDT) Subject: |SUCCESS| pw153574 [PATCH] [v1] net/virtio-user: implement MAC setti From: dpdklab@iol.unh.edu To: Test Report Cc: dpdk-test-reports@iol.unh.edu In-Reply-To: <20250521142305.343264-1-maxime.coquelin@redhat.com> References: <20250521142305.343264-1-maxime.coquelin@redhat.com> Content-Type: text/plain X-BeenThere: test-report@dpdk.org X-Mailman-Version: 2.1.29 Precedence: list List-Id: automatic DPDK test reports List-Unsubscribe: , List-Archive: List-Post: List-Help: List-Subscribe: , Errors-To: test-report-bounces@dpdk.org Test-Label: iol-compile-amd64-testing Test-Status: SUCCESS http://dpdk.org/patch/153574 _Testing PASS_ Submitter: Maxime Coquelin Date: Wednesday, May 21 2025 14:23:05 DPDK git baseline: Repo:dpdk Branch: master CommitID:3223019e73391066cbb0d248051b163e5373034c 153574 --> testing pass Upstream job id: Windows-Compile-DPDK-VS#5785 Test environment and result as below: +---------------------+--------------------+-------------------+ | Environment | dpdk_meson_compile | dpdk_msvc_compile | +=====================+====================+===================+ | Ubuntu 20.04 | PASS | SKIPPED | +---------------------+--------------------+-------------------+ | FreeBSD 13.5 | PASS | SKIPPED | +---------------------+--------------------+-------------------+ | FreeBSD 14.2 | PASS | SKIPPED | +---------------------+--------------------+-------------------+ | Windows Server 2022 | SKIPPED | PASS | +---------------------+--------------------+-------------------+ Ubuntu 20.04 Kernel: 4.19.325-0419325-generic Compiler: gcc (Ubuntu 9.4.0-1ubuntu1~20.04.2) 9.4.0 FreeBSD 13.5 Kernel: 13.5-RELEASE Compiler: clang 19.1.7 FreeBSD 14.2 Kernel: 14.2-RELEASE Compiler: clang 18.1.6 Windows Server 2022 Kernel: 10.0.20348.2031 Compiler: clang 15.0.7, gcc 14.1.0 (MinGW), and MSVC VS 19.39.33521 To view detailed results, visit: https://lab.dpdk.org/results/dashboard/patchsets/33224/ UNH-IOL DPDK Community Lab To manage your email subscriptions, visit: https://lab.dpdk.org/results/dashboard/preferences/subscriptions/