From mboxrd@z Thu Jan 1 00:00:00 1970 Return-Path: Received: from mails.dpdk.org (mails.dpdk.org [217.70.189.124]) by inbox.dpdk.org (Postfix) with ESMTP id D49BF467B1 for ; Wed, 21 May 2025 20:59:59 +0200 (CEST) Received: from mails.dpdk.org (localhost [127.0.0.1]) by mails.dpdk.org (Postfix) with ESMTP id CF04942DE3; Wed, 21 May 2025 20:59:59 +0200 (CEST) Received: from mail-qv1-f99.google.com (mail-qv1-f99.google.com [209.85.219.99]) by mails.dpdk.org (Postfix) with ESMTP id A3AD64065B for ; Wed, 21 May 2025 20:59:58 +0200 (CEST) Received: by mail-qv1-f99.google.com with SMTP id 6a1803df08f44-6f0ad74483fso75595096d6.1 for ; Wed, 21 May 2025 11:59:58 -0700 (PDT) DKIM-Signature: v=1; a=rsa-sha256; c=relaxed/relaxed; d=iol.unh.edu; s=unh-iol; t=1747853998; x=1748458798; darn=dpdk.org; h=references:in-reply-to:cc:to:from:subject:message-id:date:from:to :cc:subject:date:message-id:reply-to; bh=bPm0dvlISdxCm1cd9c2E/dtucUqWf2rr5mi5831eSkI=; b=iry+uSOOD+3Tx65T4QBMf6kWW3f4nuqZ6hMim0Q5YlQdOFPE4IDUSfO1uegSK+YmKQ 5rqT2H4mFVMqou3lz9srWe8tfte5u2xw54qm/gBrXSdiu6/J6WeJ+C8t4cT+Se+bpKIL KDIB3+WCARqwCpLQ0H+WD4SY9It7W2hYs9OcU= X-Google-DKIM-Signature: v=1; a=rsa-sha256; c=relaxed/relaxed; d=1e100.net; s=20230601; t=1747853998; x=1748458798; h=references:in-reply-to:cc:to:from:subject:message-id:date :x-gm-message-state:from:to:cc:subject:date:message-id:reply-to; bh=bPm0dvlISdxCm1cd9c2E/dtucUqWf2rr5mi5831eSkI=; b=R4pJyi1P7dYVrF+2pKCJEFsiGp57Y5ATblaQBVEp2ojn4w27GMsPXarci4JuZz44nb yfq9KVr2tg6fHkh8cJ7ItEx3U2nRYGiott78P1rhJFqYhMvrCDlBVYs2TO5B0wkEtO2C Huf2q4lb9UDoDnN5DeZqlkbaJl/uK1iIJrwDSDDojHjgPB7Qxf4YW5acy3iC1Fa+LX0d qavp1QQztRnXptxiGEMO7urR+Kdddvti/oxvZE0P686hVHF0FEcynpk01ZBnPSTNppkJ dcH+5v4G4Cp0V7Z1JKThtxuoFXNIhf/VtKGeiNjEyzCu5NjK6v2TNI5Dp/jVJIj1t8WL D33g== X-Gm-Message-State: AOJu0YxbZqOtxzMb0SKnHe/iQfQIqgdmK9HUbbNF+GJGHwno+3X2VFN9 RZqOz0QnG1FRYmSW/rrzhjNYPoqFgAkzWSqY+sL2JJ+jriwAowCgA3HkrR1BxXRd7EWggHmUlzy NpBnk9BEwXI+8LycBK2qFdycQr/pYu1FbT9zQ3EHo1lRv X-Gm-Gg: ASbGnct5V3WHCaDo5saUV6Slf9r2yTrpX9qqcWAw+juBVCUR6ahX+ADizGArMp5HJej LNFgv9KROlVZwz5wZ4hWBwjAEwjvkpqLWV1VopgRET3uLXjVHTUH6OVAHbpste4dcdT+PbO2V4A RjweHn3ZC6SydiPzTIfrg9NTbkFTmyPh36iWVoyHziVtqvYBryDOMRuOE1910434gbn59z0CmMi zOIr6gRk8yTKFPtQXpZIFN9XMVLncZaVh1Cvh9o4O9KuXGwjbmBWcOIqsh/OBFLYtwHUntqAjBv 0EK2s2nqr5nrqa5ai3K3/o/hW0X+49dL+eARxTGHVtJtz7PhjHhL11JWPgA= X-Google-Smtp-Source: AGHT+IG/jE6XLCczHWt1mujGpEmjW4pcwe0dniuzxYhCfPcgjkc3Hv81RtQi7Bg128APMA4Q0bE7vuwTox9f X-Received: by 2002:a05:6214:627:b0:6f8:f1a5:e6a4 with SMTP id 6a1803df08f44-6f8f1a5e80emr61018666d6.22.1747853997990; Wed, 21 May 2025 11:59:57 -0700 (PDT) Received: from postal.iol.unh.edu (postal.iol.unh.edu. [132.177.123.84]) by smtp-relay.gmail.com with ESMTPS id 6a1803df08f44-6f8b089cf04sm4698886d6.5.2025.05.21.11.59.57 (version=TLS1_2 cipher=ECDHE-ECDSA-AES128-GCM-SHA256 bits=128/128); Wed, 21 May 2025 11:59:57 -0700 (PDT) X-Relaying-Domain: iol.unh.edu Date: Wed, 21 May 2025 11:59:57 -0700 (PDT) Message-ID: <682e22ad.050a0220.2a5a10.a863SMTPIN_ADDED_MISSING@mx.google.com> Received: from [172.21.0.6] (unknown [172.18.0.240]) by postal.iol.unh.edu (Postfix) with ESMTP id ACEF06052471; Wed, 21 May 2025 14:59:57 -0400 (EDT) Subject: |SUCCESS| pw153562-153565 [PATCH] [v1,4/4] config/x86: enable RTE_US From: dpdklab@iol.unh.edu To: Test Report Cc: dpdk-test-reports@iol.unh.edu In-Reply-To: <20250521111432.207936-5-konstantin.ananyev@huawei.com> References: <20250521111432.207936-5-konstantin.ananyev@huawei.com> Content-Type: text/plain X-BeenThere: test-report@dpdk.org X-Mailman-Version: 2.1.29 Precedence: list List-Id: automatic DPDK test reports List-Unsubscribe: , List-Archive: List-Post: List-Help: List-Subscribe: , Errors-To: test-report-bounces@dpdk.org Test-Label: iol-abi-testing Test-Status: SUCCESS http://dpdk.org/patch/153565 _Testing PASS_ Submitter: Konstantin Ananyev Date: Wednesday, May 21 2025 11:14:32 DPDK git baseline: Repo:dpdk Branch: master CommitID:117e86c4b96ed761e9a7ab766261208fe81bf5ca 153562-153565 --> testing pass Upstream job id: Generic-DPDK-Compile-ABI#127216 Test environment and result as below: +-------------------+----------+ | Environment | abi_test | +===================+==========+ | CentOS Stream 9 | PASS | +-------------------+----------+ | CentOS Stream 10 | PASS | +-------------------+----------+ | Debian 12 | PASS | +-------------------+----------+ | Fedora 40 | PASS | +-------------------+----------+ | Fedora 40 (Clang) | PASS | +-------------------+----------+ | Fedora 41 (Clang) | PASS | +-------------------+----------+ | Fedora 41 | PASS | +-------------------+----------+ | openSUSE Leap 15 | PASS | +-------------------+----------+ | RHEL8 | PASS | +-------------------+----------+ | RHEL9 | PASS | +-------------------+----------+ | Ubuntu 24.04 | PASS | +-------------------+----------+ | Ubuntu 22.04 | PASS | +-------------------+----------+ CentOS Stream 9 Kernel: Depends on container host Compiler: gcc 11.5.0 20240719 (Red Hat 11.5.0-2) CentOS Stream 10 Kernel: Depends on container host Compiler: gcc 14.2.1 20241104 (Red Hat 14.2.1-6) Debian 12 Kernel: Depends on container host Compiler: gcc (Debian 12.2.0-14) 12.2.0 Fedora 40 Kernel: Depends on container host Compiler: gcc 14.2.1 20240912 (Red Hat 14.2.1-3) Fedora 40 (Clang) Kernel: Depends on container host Compiler: clang 18.1.8 (Fedora 18.1.8-1.fc40) Fedora 41 (Clang) Kernel: Depends on container host Compiler: clang 19.1.5 (Fedora 19.1.5-1.fc41) Fedora 41 Kernel: Depends on container host Compiler: gcc 14.2.1 20240912 (Red Hat 14.2.1-3) openSUSE Leap 15 Kernel: Depends on container host Compiler: gcc (SUSE Linux) 7.5.0 RHEL8 Kernel: Depends on container host Compiler: gcc 8.5.0 20210514 (Red Hat 8.5.0-22) RHEL9 Kernel: Depends on container host Compiler: gcc 11.5.0 20240719 (Red Hat 11.5.0-2) Ubuntu 24.04 Kernel: Depends on container host Compiler: gcc (Ubuntu 13.3.0-6ubuntu2~24.04) 13.3.0 Ubuntu 22.04 Kernel: Depends on container host Compiler: gcc (Ubuntu 11.4.0-1ubuntu1~22.04) 11.4.0 To view detailed results, visit: https://lab.dpdk.org/results/dashboard/patchsets/33222/ UNH-IOL DPDK Community Lab To manage your email subscriptions, visit: https://lab.dpdk.org/results/dashboard/preferences/subscriptions/