From mboxrd@z Thu Jan 1 00:00:00 1970 Return-Path: Received: from mails.dpdk.org (mails.dpdk.org [217.70.189.124]) by inbox.dpdk.org (Postfix) with ESMTP id E026F467B1 for ; Wed, 21 May 2025 21:04:07 +0200 (CEST) Received: from mails.dpdk.org (localhost [127.0.0.1]) by mails.dpdk.org (Postfix) with ESMTP id DB38442DE3; Wed, 21 May 2025 21:04:07 +0200 (CEST) Received: from mail-pj1-f100.google.com (mail-pj1-f100.google.com [209.85.216.100]) by mails.dpdk.org (Postfix) with ESMTP id E9E354065B for ; Wed, 21 May 2025 21:04:05 +0200 (CEST) Received: by mail-pj1-f100.google.com with SMTP id 98e67ed59e1d1-30e8daea8c6so4485800a91.0 for ; Wed, 21 May 2025 12:04:05 -0700 (PDT) DKIM-Signature: v=1; a=rsa-sha256; c=relaxed/relaxed; d=iol.unh.edu; s=unh-iol; t=1747854245; x=1748459045; darn=dpdk.org; h=references:in-reply-to:cc:to:from:subject:message-id:date:from:to :cc:subject:date:message-id:reply-to; bh=hojYkALzlbmmh/S8zvRD06fQrcYYQPvJE/5C4yjUP2s=; b=L5V4f40DxXVALFNrjbiQS3wvcbq+pE5aMtMzU1tphIudm9tCdouKZ7ri4lVifKe8Z3 yjBdeCiWJ4vhns0ZBfMCW4sKh+b095qBxEmHyal9pJDkFnxjmoUwz90w1w9D635uk1mw blCKqzEStBFGhLZeDBw4wf+dtP0FRu2PclAPo= X-Google-DKIM-Signature: v=1; a=rsa-sha256; c=relaxed/relaxed; d=1e100.net; s=20230601; t=1747854245; x=1748459045; h=references:in-reply-to:cc:to:from:subject:message-id:date :x-gm-message-state:from:to:cc:subject:date:message-id:reply-to; bh=hojYkALzlbmmh/S8zvRD06fQrcYYQPvJE/5C4yjUP2s=; b=iZ3f8wjdLg/n6C4qnhmnvxb8tjlmqkwykP34FyDB2Ldy/7ouJAf+Rwb8W1kEoAige3 DXI84H6qZEZH4c2g3N1MIphDWuhv/Ig25aYPlD/x4od5tUh9h2dOzK29xJD2yQOfFvq4 89HMdtf1HplO+ZhoEWtDai2hZRBQBlw/3lqIQG9oZhLFOIyG2ukh0eS5vVHCRpua+7uI yXWXnLxNXa/MY+Hy3iTBLtyXddkYcUT24+CJ3L3mLiI2JGs0aqmmtHdD5dF65ytmE7EX XZUDsFg2nrmYloGlp3aVpDDODBSEW2oVTsFVDVkP2Y/1QTfeYaru/5zSfsARnAyYMAaG Oing== X-Gm-Message-State: AOJu0YzT27apmbSgtqG1AZPdZkwyF+XI6NpM3BZztgwddCFVGD2DG5Eu /pzPl+b0XgppgDHMtEfWrjUzBWdTQj4BljMaRx3zQK874lkBqshKU3qeJy1wqExTDdoVLj3tWWM 7FZZwkk0lnp23MwwAqV3/v3MsdcuatQ6sB7q+BCdc1yW5 X-Gm-Gg: ASbGncu5Ohh4co7ZThXQeyUB2rXgJw2Hb7FVA2iOpNHEpH5qBOyTJuHDRRAlWGnDsji uUqbNBhxvhF7grO5jw14s4a9D7k/OFzRrOHVYUTWB/Qx34SA7gMKZeMOK+UpZZd71XP7h7Jx/kw GwSb7o8L6dew9BTgv11HqnMq90rTg6JwBB7ZfpiaSm/VBzWxQE2Uh/E5Gb7sWuXqc//AIn5jcVJ 1ZFvSXj1EYXB3XJxhK0ls5PFvX7eNrYNuHJE9Npq84OLl5wStFQcY14eRW4zGWf7ndCoJI9K9qv buAR+CcKzcUIt2URVs6Q8QHHNJNK3xqNLC90h7ZCrWNlj40De7DBBsr8HbQ= X-Google-Smtp-Source: AGHT+IGQ/T6rEDvLEdcNeZLepl9zy+0wQRi4t6Dd62dkmeCz8lhPNlSa4fVNJlUdQ7tcuAq1qyGxHNfMRG0+ X-Received: by 2002:a17:90b:2d83:b0:2ee:863e:9ffc with SMTP id 98e67ed59e1d1-30e7d585bb2mr31371313a91.21.1747854244729; Wed, 21 May 2025 12:04:04 -0700 (PDT) Received: from postal.iol.unh.edu (postal.iol.unh.edu. [132.177.123.84]) by smtp-relay.gmail.com with ESMTPS id 98e67ed59e1d1-30f364f9b12sm323651a91.11.2025.05.21.12.04.04 (version=TLS1_2 cipher=ECDHE-ECDSA-AES128-GCM-SHA256 bits=128/128); Wed, 21 May 2025 12:04:04 -0700 (PDT) X-Relaying-Domain: iol.unh.edu Date: Wed, 21 May 2025 12:04:04 -0700 (PDT) Message-ID: <682e23a4.170a0220.11cb72.0d00SMTPIN_ADDED_MISSING@mx.google.com> Received: from [172.21.0.5] (unknown [172.18.0.240]) by postal.iol.unh.edu (Postfix) with ESMTP id D116C6052471; Wed, 21 May 2025 15:04:03 -0400 (EDT) Subject: |WARNING| pw153562-153565 [PATCH] [v1,4/4] config/x86: enable RTE_US From: dpdklab@iol.unh.edu To: Test Report Cc: dpdk-test-reports@iol.unh.edu In-Reply-To: <20250521111432.207936-5-konstantin.ananyev@huawei.com> References: <20250521111432.207936-5-konstantin.ananyev@huawei.com> Content-Type: text/plain X-BeenThere: test-report@dpdk.org X-Mailman-Version: 2.1.29 Precedence: list List-Id: automatic DPDK test reports List-Unsubscribe: , List-Archive: List-Post: List-Help: List-Subscribe: , Errors-To: test-report-bounces@dpdk.org Test-Label: iol-compile-amd64-testing Test-Status: WARNING http://dpdk.org/patch/153565 _Testing issues_ Submitter: Konstantin Ananyev Date: Wednesday, May 21 2025 11:14:32 DPDK git baseline: Repo:dpdk Branch: master CommitID:117e86c4b96ed761e9a7ab766261208fe81bf5ca 153562-153565 --> testing issues Upstream job id: Generic-DPDK-Compile-Meson#390136 Test environment and result as below: +-----------------------------------+--------------------+-------------------+------------------+-------------------+-------------------------+----------------------+ | Environment | dpdk_meson_compile | dpdk_compile_spdk | dpdk_compile_ovs | dpdk_msvc_compile | dpdk_llvm_clang_compile | dpdk_mingw64_compile | +===================================+====================+===================+==================+===================+=========================+======================+ | CentOS Stream 10 | PASS | SKIPPED | SKIPPED | SKIPPED | SKIPPED | SKIPPED | +-----------------------------------+--------------------+-------------------+------------------+-------------------+-------------------------+----------------------+ | openSUSE Leap 15 | PASS | SKIPPED | SKIPPED | SKIPPED | SKIPPED | SKIPPED | +-----------------------------------+--------------------+-------------------+------------------+-------------------+-------------------------+----------------------+ | CentOS Stream 9 | PASS | PASS | SKIPPED | SKIPPED | SKIPPED | SKIPPED | +-----------------------------------+--------------------+-------------------+------------------+-------------------+-------------------------+----------------------+ | Fedora 40 | PEND | PEND | SKIPPED | SKIPPED | SKIPPED | SKIPPED | +-----------------------------------+--------------------+-------------------+------------------+-------------------+-------------------------+----------------------+ | Fedora 41 | PEND | PEND | PEND | SKIPPED | SKIPPED | SKIPPED | +-----------------------------------+--------------------+-------------------+------------------+-------------------+-------------------------+----------------------+ | Fedora 40 (Clang) | PASS | WARN | SKIPPED | SKIPPED | SKIPPED | SKIPPED | +-----------------------------------+--------------------+-------------------+------------------+-------------------+-------------------------+----------------------+ | Debian 12 | PASS | PASS | SKIPPED | SKIPPED | SKIPPED | SKIPPED | +-----------------------------------+--------------------+-------------------+------------------+-------------------+-------------------------+----------------------+ | RHEL8 | PASS | SKIPPED | SKIPPED | SKIPPED | SKIPPED | SKIPPED | +-----------------------------------+--------------------+-------------------+------------------+-------------------+-------------------------+----------------------+ | Fedora 41 (Clang) | PEND | PEND | PEND | SKIPPED | SKIPPED | SKIPPED | +-----------------------------------+--------------------+-------------------+------------------+-------------------+-------------------------+----------------------+ | Alpine | PEND | SKIPPED | SKIPPED | SKIPPED | SKIPPED | SKIPPED | +-----------------------------------+--------------------+-------------------+------------------+-------------------+-------------------------+----------------------+ | FreeBSD 13.5 | PASS | SKIPPED | SKIPPED | SKIPPED | SKIPPED | SKIPPED | +-----------------------------------+--------------------+-------------------+------------------+-------------------+-------------------------+----------------------+ | Ubuntu 24.04 | PEND | PEND | PEND | SKIPPED | SKIPPED | SKIPPED | +-----------------------------------+--------------------+-------------------+------------------+-------------------+-------------------------+----------------------+ | Ubuntu 20.04 | PEND | SKIPPED | SKIPPED | SKIPPED | SKIPPED | SKIPPED | +-----------------------------------+--------------------+-------------------+------------------+-------------------+-------------------------+----------------------+ | Ubuntu 22.04 | PEND | PEND | SKIPPED | SKIPPED | SKIPPED | SKIPPED | +-----------------------------------+--------------------+-------------------+------------------+-------------------+-------------------------+----------------------+ | RHEL9 | PEND | SKIPPED | SKIPPED | SKIPPED | SKIPPED | SKIPPED | +-----------------------------------+--------------------+-------------------+------------------+-------------------+-------------------------+----------------------+ | Ubuntu 24.04 32 Bit Cross Compile | PEND | SKIPPED | SKIPPED | SKIPPED | SKIPPED | SKIPPED | +-----------------------------------+--------------------+-------------------+------------------+-------------------+-------------------------+----------------------+ | FreeBSD 14.2 | PASS | SKIPPED | SKIPPED | SKIPPED | SKIPPED | SKIPPED | +-----------------------------------+--------------------+-------------------+------------------+-------------------+-------------------------+----------------------+ | Windows Server 2022 | SKIPPED | SKIPPED | SKIPPED | PASS | PASS | PASS | +-----------------------------------+--------------------+-------------------+------------------+-------------------+-------------------------+----------------------+ ==== 20 line log output for Fedora 40 (Clang) (dpdk_compile_spdk): ==== --- Failed to get log output --- ==== End log output ==== CentOS Stream 10 Kernel: Depends on container host Compiler: gcc 14.2.1 20241104 (Red Hat 14.2.1-6) openSUSE Leap 15 Kernel: Depends on container host Compiler: gcc (SUSE Linux) 7.5.0 CentOS Stream 9 Kernel: Depends on container host Compiler: gcc 11.5.0 20240719 (Red Hat 11.5.0-2) Fedora 40 Kernel: Depends on container host Compiler: gcc 14.2.1 20240912 (Red Hat 14.2.1-3) Fedora 41 Kernel: Depends on container host Compiler: gcc 14.2.1 20240912 (Red Hat 14.2.1-3) Fedora 40 (Clang) Kernel: Depends on container host Compiler: clang 18.1.8 (Fedora 18.1.8-1.fc40) Debian 12 Kernel: Depends on container host Compiler: gcc (Debian 12.2.0-14) 12.2.0 RHEL8 Kernel: Depends on container host Compiler: gcc 8.5.0 20210514 (Red Hat 8.5.0-22) Fedora 41 (Clang) Kernel: Depends on container host Compiler: clang 19.1.5 (Fedora 19.1.5-1.fc41) Alpine Kernel: Depends on container host Compiler: gcc (Alpine 14.2.0) 14.2.0 FreeBSD 13.5 Kernel: 13.5-RELEASE Compiler: clang 19.1.7 Ubuntu 24.04 Kernel: Depends on container host Compiler: gcc (Ubuntu 13.3.0-6ubuntu2~24.04) 13.3.0 Ubuntu 20.04 Kernel: 4.19.325-0419325-generic Compiler: gcc (Ubuntu 9.4.0-1ubuntu1~20.04.2) 9.4.0 Ubuntu 22.04 Kernel: Depends on container host Compiler: gcc (Ubuntu 11.4.0-1ubuntu1~22.04) 11.4.0 RHEL9 Kernel: Depends on container host Compiler: gcc 11.5.0 20240719 (Red Hat 11.5.0-2) Ubuntu 24.04 32 Bit Cross Compile Kernel: Depends on container host Compiler: gcc (Ubuntu 13.3.0-6ubuntu2~24.04) 13.3.0 FreeBSD 14.2 Kernel: 14.2-RELEASE Compiler: clang 18.1.6 Windows Server 2022 Kernel: 10.0.20348.2031 Compiler: clang 15.0.7, gcc 14.1.0 (MinGW), and MSVC VS 19.39.33521 To view detailed results, visit: https://lab.dpdk.org/results/dashboard/patchsets/33222/ UNH-IOL DPDK Community Lab To manage your email subscriptions, visit: https://lab.dpdk.org/results/dashboard/preferences/subscriptions/