From mboxrd@z Thu Jan 1 00:00:00 1970 Return-Path: Received: from mails.dpdk.org (mails.dpdk.org [217.70.189.124]) by inbox.dpdk.org (Postfix) with ESMTP id 494DC467B1 for ; Wed, 21 May 2025 21:07:28 +0200 (CEST) Received: from mails.dpdk.org (localhost [127.0.0.1]) by mails.dpdk.org (Postfix) with ESMTP id 4446C42DE3; Wed, 21 May 2025 21:07:28 +0200 (CEST) Received: from mail-ua1-f100.google.com (mail-ua1-f100.google.com [209.85.222.100]) by mails.dpdk.org (Postfix) with ESMTP id D93AD4065B for ; Wed, 21 May 2025 21:07:26 +0200 (CEST) Received: by mail-ua1-f100.google.com with SMTP id a1e0cc1a2514c-86d5e3ddb66so1797711241.2 for ; Wed, 21 May 2025 12:07:26 -0700 (PDT) DKIM-Signature: v=1; a=rsa-sha256; c=relaxed/relaxed; d=iol.unh.edu; s=unh-iol; t=1747854446; x=1748459246; darn=dpdk.org; h=references:in-reply-to:cc:to:from:subject:message-id:date:from:to :cc:subject:date:message-id:reply-to; bh=in10NgiHOjiMKKyMF8gKQt1FX3Lpd1JHMMfGlzj1k3I=; b=fbpbtHRUG3UZ9DIXm9K2cJZmOCvbC+nzBvc3vUnsm+B6g/kCvA1ULtFIKpQf3YLVZy 9jiYfw8hF+A1SgdVzgw2rtGXRykYxXPuDbAcpuxHa66ZHyspTvsS3Mb7WK+dGOmHvz8K ZuNTRF4cqYe9jDkOrvAYmEsaI8UUGO6YmvZrM= X-Google-DKIM-Signature: v=1; a=rsa-sha256; c=relaxed/relaxed; d=1e100.net; s=20230601; t=1747854446; x=1748459246; h=references:in-reply-to:cc:to:from:subject:message-id:date :x-gm-message-state:from:to:cc:subject:date:message-id:reply-to; bh=in10NgiHOjiMKKyMF8gKQt1FX3Lpd1JHMMfGlzj1k3I=; b=jZBR9ieGbOMQaOQztdRwgKp1/GeLpWPMxXO8yrwJ1JeVPtjmcaGyw0B6QdEz3YKETT phYMLm003tHTQhSpcg0nIwJ7eQHVUXApNHMwQCjXOrKWvT4QsyqDugXm8BIIdIiTSiCp STcOPMeMm00QQ4CfRFdb+EVAMOnuwSEOesAPVFppyurIEi53P9XlrkFRhqTPJg8d3TxR fiMiS/MJUsUOur6H2ivOP4nHpzorQ7dlzx2GiI1+Wij/AG+dipz/Ov2fKnfVhhIJuFCo bDjS8naAzA3FO7sptofnCr4lJffPUerzWHbsv4y4hU8zNlZR5i++DtxCU8TgX936k4AB r7LA== X-Gm-Message-State: AOJu0YzZwcYW6QsDWd3fGjHNSxcOv6VNRA5PMuyYExaiH1Mwe7ybASKN 3hhb7MIxgSoRjNAQEpYMrHUoeD1NGiBMIJJbIcCBA6ZFmqXu//fPyB0yIIUtzjRQiwcBNEN92Y8 8NJ28HxbT3y4f511SGFcBaIeSnC1wXp7/1vhvr+5TteJfhwIlq9HDS/cPbTwq X-Gm-Gg: ASbGncuxxuBc56JDB0nxjCMUZHsVHPVFmq76gAfKZKelDsHtK9lOQoiSJ5h2gY8T8fJ FBW7DnKAsS67Boa7lfSw872U38GmoEpuwMcLhBUe1n6KB/IWSHpHuhFqk8/HHw7u5BQvQmBfVol UjjAGjbMwDgywZwRxtjFKtQODGgKfw/UYDjCBa36a54DpVqu7aILCmo656YJH3lpk9/rESs1vww Ge82wdBSkQ5w8dpN2Fh4GEv/XXnA5WYVecPLNTOxLMvA2yuf32exnBlWtcVuf9HisLfBSawQTrm qnCFKyMEyu2lauVTXCe1Pu5U02zPpSCDjB9Q X-Google-Smtp-Source: AGHT+IGYeOWK08EEr//RZ/lZS1HuyUCkgHYAwVCnwCJl6xTfjyMevBJA6xPhzQ8bXprgqRI7tZAHcdgPZIkd X-Received: by 2002:a05:6122:da8:b0:52d:b855:e0b5 with SMTP id 71dfb90a1353d-52dba83a776mr19873757e0c.3.1747854446174; Wed, 21 May 2025 12:07:26 -0700 (PDT) Received: from postal.iol.unh.edu (postal.iol.unh.edu. [2606:4100:3880:1234::84]) by smtp-relay.gmail.com with ESMTPS id 71dfb90a1353d-52dbaa472b8sm503842e0c.12.2025.05.21.12.07.26 (version=TLS1_2 cipher=ECDHE-ECDSA-AES128-GCM-SHA256 bits=128/128); Wed, 21 May 2025 12:07:26 -0700 (PDT) X-Relaying-Domain: iol.unh.edu Date: Wed, 21 May 2025 12:07:26 -0700 (PDT) Message-ID: <682e246e.050a0220.11117b.a82dSMTPIN_ADDED_MISSING@mx.google.com> Received: from [172.21.0.6] (unknown [172.18.0.240]) by postal.iol.unh.edu (Postfix) with ESMTP id CE7EE6052471; Wed, 21 May 2025 15:07:25 -0400 (EDT) Subject: |SUCCESS| pw153562-153565 [PATCH] [v1,4/4] config/x86: enable RTE_US From: dpdklab@iol.unh.edu To: Test Report Cc: dpdk-test-reports@iol.unh.edu In-Reply-To: <20250521111432.207936-5-konstantin.ananyev@huawei.com> References: <20250521111432.207936-5-konstantin.ananyev@huawei.com> Content-Type: text/plain X-BeenThere: test-report@dpdk.org X-Mailman-Version: 2.1.29 Precedence: list List-Id: automatic DPDK test reports List-Unsubscribe: , List-Archive: List-Post: List-Help: List-Subscribe: , Errors-To: test-report-bounces@dpdk.org Test-Label: iol-unit-amd64-testing Test-Status: SUCCESS http://dpdk.org/patch/153565 _Testing PASS_ Submitter: Konstantin Ananyev Date: Wednesday, May 21 2025 11:14:32 DPDK git baseline: Repo:dpdk Branch: master CommitID:117e86c4b96ed761e9a7ab766261208fe81bf5ca 153562-153565 --> testing pass Upstream job id: Generic-Unit-Test-DPDK#339657 Test environment and result as below: +---------------------+----------------+ | Environment | dpdk_unit_test | +=====================+================+ | RHEL8 | PASS | +---------------------+----------------+ | Fedora 41 (Clang) | PASS | +---------------------+----------------+ | Fedora 40 | PASS | +---------------------+----------------+ | CentOS Stream 10 | PASS | +---------------------+----------------+ | Fedora 41 | PASS | +---------------------+----------------+ | Debian 12 | PASS | +---------------------+----------------+ | Fedora 40 (Clang) | PASS | +---------------------+----------------+ | Ubuntu 24.04 | PASS | +---------------------+----------------+ | Ubuntu 20.04 | PASS | +---------------------+----------------+ | Ubuntu 22.04 | PASS | +---------------------+----------------+ | RHEL9 | PASS | +---------------------+----------------+ | CentOS Stream 9 | PASS | +---------------------+----------------+ | Windows Server 2022 | PASS | +---------------------+----------------+ RHEL8 Kernel: Depends on container host Compiler: gcc 8.5.0 20210514 (Red Hat 8.5.0-22) Fedora 41 (Clang) Kernel: Depends on container host Compiler: clang 19.1.5 (Fedora 19.1.5-1.fc41) Fedora 40 Kernel: Depends on container host Compiler: gcc 14.2.1 20240912 (Red Hat 14.2.1-3) CentOS Stream 10 Kernel: Depends on container host Compiler: gcc 14.2.1 20241104 (Red Hat 14.2.1-6) Fedora 41 Kernel: Depends on container host Compiler: gcc 14.2.1 20240912 (Red Hat 14.2.1-3) Debian 12 Kernel: Depends on container host Compiler: gcc (Debian 12.2.0-14) 12.2.0 Fedora 40 (Clang) Kernel: Depends on container host Compiler: clang 18.1.8 (Fedora 18.1.8-1.fc40) Ubuntu 24.04 Kernel: Depends on container host Compiler: gcc (Ubuntu 13.3.0-6ubuntu2~24.04) 13.3.0 Ubuntu 20.04 Kernel: Depends on container host Compiler: gcc (Ubuntu 9.4.0-1ubuntu1~20.04.2) 9.4.0 Ubuntu 22.04 Kernel: Depends on container host Compiler: gcc (Ubuntu 11.4.0-1ubuntu1~22.04) 11.4.0 RHEL9 Kernel: Depends on container host Compiler: gcc 11.5.0 20240719 (Red Hat 11.5.0-2) CentOS Stream 9 Kernel: Depends on container host Compiler: gcc 11.5.0 20240719 (Red Hat 11.5.0-2) Windows Server 2022 Kernel: 10.0.20348.2031 Compiler: clang 15.0.7, gcc 14.1.0 (MinGW), and MSVC VS 19.39.33521 To view detailed results, visit: https://lab.dpdk.org/results/dashboard/patchsets/33222/ UNH-IOL DPDK Community Lab To manage your email subscriptions, visit: https://lab.dpdk.org/results/dashboard/preferences/subscriptions/