From mboxrd@z Thu Jan 1 00:00:00 1970 Return-Path: Received: from mails.dpdk.org (mails.dpdk.org [217.70.189.124]) by inbox.dpdk.org (Postfix) with ESMTP id 5A372467B1 for ; Wed, 21 May 2025 21:17:26 +0200 (CEST) Received: from mails.dpdk.org (localhost [127.0.0.1]) by mails.dpdk.org (Postfix) with ESMTP id 425CE42DE3; Wed, 21 May 2025 21:17:26 +0200 (CEST) Received: from mail-qv1-f97.google.com (mail-qv1-f97.google.com [209.85.219.97]) by mails.dpdk.org (Postfix) with ESMTP id C873A4060F for ; Wed, 21 May 2025 21:17:24 +0200 (CEST) Received: by mail-qv1-f97.google.com with SMTP id 6a1803df08f44-6f8aa9e6ffdso75550986d6.3 for ; Wed, 21 May 2025 12:17:24 -0700 (PDT) DKIM-Signature: v=1; a=rsa-sha256; c=relaxed/relaxed; d=iol.unh.edu; s=unh-iol; t=1747855044; x=1748459844; darn=dpdk.org; h=references:in-reply-to:cc:to:from:subject:message-id:date:from:to :cc:subject:date:message-id:reply-to; bh=ewMoeB963IslVYY1aJAtapJPGqUyl51VeNOgYP+rRHY=; b=EY9aeUvIGbVrBu2+5yiLcU0LvgPKxclIfDM9ncH6PkHEBdZ3DvDVVf8pQkWywwTBcl uVUnNNBsK8UoyH/gG9LRRx1NnAB6g3h1AwksQNB2SkkmiZ41vwHCdHTNVSy/4vbpJnFb zTuo9n+FcuG/fEXsSBo3YAsBqyqkSd7WMg3KE= X-Google-DKIM-Signature: v=1; a=rsa-sha256; c=relaxed/relaxed; d=1e100.net; s=20230601; t=1747855044; x=1748459844; h=references:in-reply-to:cc:to:from:subject:message-id:date :x-gm-message-state:from:to:cc:subject:date:message-id:reply-to; bh=ewMoeB963IslVYY1aJAtapJPGqUyl51VeNOgYP+rRHY=; b=erDB3B62Pqmw+ejviUTAy1gbGgfT7svWyz0lG5LoaIhhAuGjVvAALqJlPI6hlgaj68 td/NKjMowjWw8Za/AMdHuQO3zqVvz+NT2GgYK0pdOUSmHSGs+gpXBfISyawweSKg1X5V HMEdiBz1OZ1wNrB4GkaEqKCMDn9ULzG4dz7Rf4VATBdzQ54mHheJjGD1z/y9krb+MqTM Ye27pXhSJiq2ND1AOT5SwfbPWw2JhPVHAsjjraX8IIoCff0wfLn1Pzb+o6AbU3LQZMEX bV21Ukstmdi0JwDKmxABOsPIN/Ejl6XZ4oKe0MvZEeZS9PRjbefvT52a0UkKhZ3R0GTk INsQ== X-Gm-Message-State: AOJu0YyHS5sjjWHZ4pe+s35bY0ybAihJPXBimDmBjPUwYyafHd4kTeEF AHNiB+s8hefNSkS94e0FMzhIxZcSsAC24bPweEL4mxKsL9j9RCG8onxC8AMPqaYKjPHr3VoC0iU gZ7Nl54tBbAKJMfeKIdpjyDj2pwAozoLWf7hp0Q+iVqBKtrZn7RytsSsOe6uy X-Gm-Gg: ASbGncvsPA9QBEYyeC78MGlXqZgsnJdhPqFLkhEEBQMBqNKZumOf0628UXvUyX8AOXk yLWIsbtQtnEGEt1k6tDzPpl778LjPUZNIT2uyDjAUjlpCVeo9qmxNvvdlcsf0msEhYaG/f2zqE8 kwuaRMfQWUV+B4za6yk4+ZOXSxBEbPbuAR+MAIE8PXXjozxYarxQE58SZWy2PfZ+NvxwYK91Yn2 6KdHSCCsArCX0z2dGHwcJj6XzhyN10EHx2L/i91eJAAkOJ7QEhse8JcrsnpN4yCIFTSxcPpMNfM 1nwk+gkUNJOJBQLkuRgyva8p3H6IzyJecefu X-Google-Smtp-Source: AGHT+IGbZp8zr/UHb47SHLrTCAQooOaanlyh23M7kKCE0KnzymRKDltHGlnET/Puw5UmkmLAloZaxf/n0OXg X-Received: by 2002:ad4:576c:0:b0:6d8:6a74:ae68 with SMTP id 6a1803df08f44-6f8b08d3dedmr316491456d6.29.1747855043997; Wed, 21 May 2025 12:17:23 -0700 (PDT) Received: from postal.iol.unh.edu (postal.iol.unh.edu. [2606:4100:3880:1234::84]) by smtp-relay.gmail.com with ESMTPS id 71dfb90a1353d-52dba91b3cdsm567813e0c.2.2025.05.21.12.17.23 (version=TLS1_2 cipher=ECDHE-ECDSA-AES128-GCM-SHA256 bits=128/128); Wed, 21 May 2025 12:17:23 -0700 (PDT) X-Relaying-Domain: iol.unh.edu Date: Wed, 21 May 2025 12:17:23 -0700 (PDT) Message-ID: <682e26c3.050a0220.e70ba.e124SMTPIN_ADDED_MISSING@mx.google.com> Received: from [172.21.0.5] (unknown [172.18.0.240]) by postal.iol.unh.edu (Postfix) with ESMTP id A8A486052471; Wed, 21 May 2025 15:17:23 -0400 (EDT) Subject: |SUCCESS| pw153574 [PATCH] [v1] net/virtio-user: implement MAC setti From: dpdklab@iol.unh.edu To: Test Report Cc: dpdk-test-reports@iol.unh.edu In-Reply-To: <20250521142305.343264-1-maxime.coquelin@redhat.com> References: <20250521142305.343264-1-maxime.coquelin@redhat.com> Content-Type: text/plain X-BeenThere: test-report@dpdk.org X-Mailman-Version: 2.1.29 Precedence: list List-Id: automatic DPDK test reports List-Unsubscribe: , List-Archive: List-Post: List-Help: List-Subscribe: , Errors-To: test-report-bounces@dpdk.org Test-Label: iol-compile-amd64-testing Test-Status: SUCCESS http://dpdk.org/patch/153574 _Testing PASS_ Submitter: Maxime Coquelin Date: Wednesday, May 21 2025 14:23:05 DPDK git baseline: Repo:dpdk Branch: master CommitID:3223019e73391066cbb0d248051b163e5373034c 153574 --> testing pass Upstream job id: Windows-Compile-DPDK-Native#28545 Test environment and result as below: +---------------------+--------------------+-------------------+-------------------------+----------------------+ | Environment | dpdk_meson_compile | dpdk_msvc_compile | dpdk_llvm_clang_compile | dpdk_mingw64_compile | +=====================+====================+===================+=========================+======================+ | Ubuntu 20.04 | PASS | SKIPPED | SKIPPED | SKIPPED | +---------------------+--------------------+-------------------+-------------------------+----------------------+ | FreeBSD 13.5 | PASS | SKIPPED | SKIPPED | SKIPPED | +---------------------+--------------------+-------------------+-------------------------+----------------------+ | FreeBSD 14.2 | PASS | SKIPPED | SKIPPED | SKIPPED | +---------------------+--------------------+-------------------+-------------------------+----------------------+ | Windows Server 2022 | SKIPPED | PASS | PASS | PASS | +---------------------+--------------------+-------------------+-------------------------+----------------------+ Ubuntu 20.04 Kernel: 4.19.325-0419325-generic Compiler: gcc (Ubuntu 9.4.0-1ubuntu1~20.04.2) 9.4.0 FreeBSD 13.5 Kernel: 13.5-RELEASE Compiler: clang 19.1.7 FreeBSD 14.2 Kernel: 14.2-RELEASE Compiler: clang 18.1.6 Windows Server 2022 Kernel: 10.0.20348.2031 Compiler: clang 15.0.7, gcc 14.1.0 (MinGW), and MSVC VS 19.39.33521 To view detailed results, visit: https://lab.dpdk.org/results/dashboard/patchsets/33224/ UNH-IOL DPDK Community Lab To manage your email subscriptions, visit: https://lab.dpdk.org/results/dashboard/preferences/subscriptions/