From mboxrd@z Thu Jan 1 00:00:00 1970 Return-Path: Received: from mails.dpdk.org (mails.dpdk.org [217.70.189.124]) by inbox.dpdk.org (Postfix) with ESMTP id 2C929467B1 for ; Wed, 21 May 2025 21:47:01 +0200 (CEST) Received: from mails.dpdk.org (localhost [127.0.0.1]) by mails.dpdk.org (Postfix) with ESMTP id 0790342E15; Wed, 21 May 2025 21:47:01 +0200 (CEST) Received: from mail-oo1-f99.google.com (mail-oo1-f99.google.com [209.85.161.99]) by mails.dpdk.org (Postfix) with ESMTP id 15BCC402CD for ; Wed, 21 May 2025 21:47:00 +0200 (CEST) Received: by mail-oo1-f99.google.com with SMTP id 006d021491bc7-6066c02cd92so3845699eaf.2 for ; Wed, 21 May 2025 12:46:59 -0700 (PDT) DKIM-Signature: v=1; a=rsa-sha256; c=relaxed/relaxed; d=iol.unh.edu; s=unh-iol; t=1747856819; x=1748461619; darn=dpdk.org; h=references:in-reply-to:cc:to:from:subject:message-id:date:from:to :cc:subject:date:message-id:reply-to; bh=VyAaEodKGaha4RbhHFDlRW5mUSWF7qEErRQjoZidZbc=; b=fjhfh0KekJZq/5dp+w8bJ/hlMe4n6Rudo+KZEl87pPUnSlAKnySYPxSAkASzjoz/8d Sn3KUIvy/blUCMzX4gomRqS8i3ZYl7Q6g9Vjt/e/fNcuoGY3nds3MtIbK7n1Q2xY9SV2 Wj+rE+oxwS21w2u+eNbSa6VqFvcH+/fbsMAWg= X-Google-DKIM-Signature: v=1; a=rsa-sha256; c=relaxed/relaxed; d=1e100.net; s=20230601; t=1747856819; x=1748461619; h=references:in-reply-to:cc:to:from:subject:message-id:date :x-gm-message-state:from:to:cc:subject:date:message-id:reply-to; bh=VyAaEodKGaha4RbhHFDlRW5mUSWF7qEErRQjoZidZbc=; b=vgw7nwSz9HuCGh1gEw/IeUUSn1P/cflNGJXzkERMc/sbiYkuG5n1LIvGL2abbLRCSe eqx5ErPew6xqC+mn9uLxG+otv/OHlqSVYathRY4uyN6mah5+iZg3Fdkpyfzo3U95m2KY HGgS4ExnpqwREEl3JTj64gXUUoBCmo8xLzvoPP4BaQGm+PYdiXDcjAD/wT0HSB2sVJ19 Pi3xUoldqVXNIZiiIH6Jx+TrQIyn/p+GZYG0mtCrYCLOyL7HOFer0mlFwq1mBNOc6OsP OypTz1p3TB95psXQt1rLvUbgbW6P9yMN+VIJ9TUXTCQMopHuMKnEcXOc4M1XHhon6UK/ gRhA== X-Gm-Message-State: AOJu0YwKiEhtEPdyYfBP08VuGDSw9mCJ6kak9foNS7WQksfP3w/ofAvl NMnutOuv7w/xTCI/kp/YN6IMH1V8Pn91792a+QKLoZzEhu0QpVl8kOke34MJ7xawL11nvX4Dj8D xVuera8ek4kHZQbPen5bDDZh1iqoxAZ60vaIYP8WXOVf0EZ+znINDX2jRrOQE X-Gm-Gg: ASbGncsafrrkPgUau2EOTFxv5/Rky4DEV3GGPA4Ig3EMW1M7Idc5Gm2lL/u6X1LdhAc zzQAJluQYAdcK59Dt3RnU5RtIqvLV+wlR/ADqPPcuJZmKgz76HkspmGSpd2l4wiQbzlTrN0vjfi pmTs2yeQqN8ESBjVghwi35ojCLzsZKnh1ehJeeEpR5w4HSGkzj9wNTiQSGgzwy8+Tk8Lz6Uq2Co Wg2+tVi1H8AQ2UJmRZZxAo8l0hZOOptJfr9Ttvjll0zaRP2Hh87raW6Q/G1ZwbvelG3veMev7/+ vMkvkjdXdewElqcJAYhSNRSLGGEdBuYY8iJH X-Google-Smtp-Source: AGHT+IH94mXsQL5gR3ijqm5ecw4zio+FMGAqM89TdRlmm5PZN/yVE6DpogAkqZdKVyYiSOaAhBsSmCbfaE+l X-Received: by 2002:a05:6820:c83:b0:60a:5d5:b087 with SMTP id 006d021491bc7-60a05d5b3b8mr11586098eaf.6.1747856819102; Wed, 21 May 2025 12:46:59 -0700 (PDT) Received: from postal.iol.unh.edu (postal.iol.unh.edu. [2606:4100:3880:1234::84]) by smtp-relay.gmail.com with ESMTPS id 006d021491bc7-609f2fbf5c0sm516532eaf.13.2025.05.21.12.46.59 (version=TLS1_2 cipher=ECDHE-ECDSA-AES128-GCM-SHA256 bits=128/128); Wed, 21 May 2025 12:46:59 -0700 (PDT) X-Relaying-Domain: iol.unh.edu Date: Wed, 21 May 2025 12:46:59 -0700 (PDT) Message-ID: <682e2db3.050a0220.7399c.19adSMTPIN_ADDED_MISSING@mx.google.com> Received: from [172.21.0.5] (unknown [172.18.0.240]) by postal.iol.unh.edu (Postfix) with ESMTP id 85CD56052471; Wed, 21 May 2025 15:46:58 -0400 (EDT) Subject: |WARNING| pw153562-153565 [PATCH] [v1,4/4] config/x86: enable RTE_US From: dpdklab@iol.unh.edu To: Test Report Cc: dpdk-test-reports@iol.unh.edu In-Reply-To: <20250521111432.207936-5-konstantin.ananyev@huawei.com> References: <20250521111432.207936-5-konstantin.ananyev@huawei.com> Content-Type: text/plain X-BeenThere: test-report@dpdk.org X-Mailman-Version: 2.1.29 Precedence: list List-Id: automatic DPDK test reports List-Unsubscribe: , List-Archive: List-Post: List-Help: List-Subscribe: , Errors-To: test-report-bounces@dpdk.org Test-Label: iol-compile-amd64-testing Test-Status: WARNING http://dpdk.org/patch/153565 _Testing issues_ Submitter: Konstantin Ananyev Date: Wednesday, May 21 2025 11:14:32 DPDK git baseline: Repo:dpdk Branch: master CommitID:117e86c4b96ed761e9a7ab766261208fe81bf5ca 153562-153565 --> testing issues Upstream job id: Generic-DPDK-Compile-Meson#390143 Test environment and result as below: +-----------------------------------+--------------------+-------------------+------------------+-------------------+-------------------------+----------------------+ | Environment | dpdk_meson_compile | dpdk_compile_spdk | dpdk_compile_ovs | dpdk_msvc_compile | dpdk_llvm_clang_compile | dpdk_mingw64_compile | +===================================+====================+===================+==================+===================+=========================+======================+ | CentOS Stream 10 | PASS | SKIPPED | SKIPPED | SKIPPED | SKIPPED | SKIPPED | +-----------------------------------+--------------------+-------------------+------------------+-------------------+-------------------------+----------------------+ | openSUSE Leap 15 | PASS | SKIPPED | SKIPPED | SKIPPED | SKIPPED | SKIPPED | +-----------------------------------+--------------------+-------------------+------------------+-------------------+-------------------------+----------------------+ | CentOS Stream 9 | PASS | PASS | SKIPPED | SKIPPED | SKIPPED | SKIPPED | +-----------------------------------+--------------------+-------------------+------------------+-------------------+-------------------------+----------------------+ | Fedora 40 | PASS | PASS | SKIPPED | SKIPPED | SKIPPED | SKIPPED | +-----------------------------------+--------------------+-------------------+------------------+-------------------+-------------------------+----------------------+ | Fedora 41 | PASS | PASS | PASS | SKIPPED | SKIPPED | SKIPPED | +-----------------------------------+--------------------+-------------------+------------------+-------------------+-------------------------+----------------------+ | Fedora 40 (Clang) | PASS | WARN | SKIPPED | SKIPPED | SKIPPED | SKIPPED | +-----------------------------------+--------------------+-------------------+------------------+-------------------+-------------------------+----------------------+ | Debian 12 | PASS | PASS | SKIPPED | SKIPPED | SKIPPED | SKIPPED | +-----------------------------------+--------------------+-------------------+------------------+-------------------+-------------------------+----------------------+ | RHEL8 | PASS | SKIPPED | SKIPPED | SKIPPED | SKIPPED | SKIPPED | +-----------------------------------+--------------------+-------------------+------------------+-------------------+-------------------------+----------------------+ | Fedora 41 (Clang) | PASS | WARN | PASS | SKIPPED | SKIPPED | SKIPPED | +-----------------------------------+--------------------+-------------------+------------------+-------------------+-------------------------+----------------------+ | Alpine | PASS | SKIPPED | SKIPPED | SKIPPED | SKIPPED | SKIPPED | +-----------------------------------+--------------------+-------------------+------------------+-------------------+-------------------------+----------------------+ | FreeBSD 13.5 | PASS | SKIPPED | SKIPPED | SKIPPED | SKIPPED | SKIPPED | +-----------------------------------+--------------------+-------------------+------------------+-------------------+-------------------------+----------------------+ | Ubuntu 24.04 | PASS | PASS | PASS | SKIPPED | SKIPPED | SKIPPED | +-----------------------------------+--------------------+-------------------+------------------+-------------------+-------------------------+----------------------+ | Ubuntu 20.04 | PASS | SKIPPED | SKIPPED | SKIPPED | SKIPPED | SKIPPED | +-----------------------------------+--------------------+-------------------+------------------+-------------------+-------------------------+----------------------+ | Ubuntu 22.04 | PASS | PASS | SKIPPED | SKIPPED | SKIPPED | SKIPPED | +-----------------------------------+--------------------+-------------------+------------------+-------------------+-------------------------+----------------------+ | RHEL9 | PASS | SKIPPED | SKIPPED | SKIPPED | SKIPPED | SKIPPED | +-----------------------------------+--------------------+-------------------+------------------+-------------------+-------------------------+----------------------+ | Ubuntu 24.04 32 Bit Cross Compile | PASS | SKIPPED | SKIPPED | SKIPPED | SKIPPED | SKIPPED | +-----------------------------------+--------------------+-------------------+------------------+-------------------+-------------------------+----------------------+ | FreeBSD 14.2 | PASS | SKIPPED | SKIPPED | SKIPPED | SKIPPED | SKIPPED | +-----------------------------------+--------------------+-------------------+------------------+-------------------+-------------------------+----------------------+ | Windows Server 2022 | SKIPPED | SKIPPED | SKIPPED | PASS | PASS | PASS | +-----------------------------------+--------------------+-------------------+------------------+-------------------+-------------------------+----------------------+ ==== 20 line log output for Fedora 41 (Clang) (dpdk_compile_spdk): ==== --- Failed to get log output --- ==== End log output ==== CentOS Stream 10 Kernel: Depends on container host Compiler: gcc 14.2.1 20241104 (Red Hat 14.2.1-6) openSUSE Leap 15 Kernel: Depends on container host Compiler: gcc (SUSE Linux) 7.5.0 CentOS Stream 9 Kernel: Depends on container host Compiler: gcc 11.5.0 20240719 (Red Hat 11.5.0-2) Fedora 40 Kernel: Depends on container host Compiler: gcc 14.2.1 20240912 (Red Hat 14.2.1-3) Fedora 41 Kernel: Depends on container host Compiler: gcc 14.2.1 20240912 (Red Hat 14.2.1-3) Fedora 40 (Clang) Kernel: Depends on container host Compiler: clang 18.1.8 (Fedora 18.1.8-1.fc40) Debian 12 Kernel: Depends on container host Compiler: gcc (Debian 12.2.0-14) 12.2.0 RHEL8 Kernel: Depends on container host Compiler: gcc 8.5.0 20210514 (Red Hat 8.5.0-22) Fedora 41 (Clang) Kernel: Depends on container host Compiler: clang 19.1.5 (Fedora 19.1.5-1.fc41) Alpine Kernel: Depends on container host Compiler: gcc (Alpine 14.2.0) 14.2.0 FreeBSD 13.5 Kernel: 13.5-RELEASE Compiler: clang 19.1.7 Ubuntu 24.04 Kernel: Depends on container host Compiler: gcc (Ubuntu 13.3.0-6ubuntu2~24.04) 13.3.0 Ubuntu 20.04 Kernel: 4.19.325-0419325-generic Compiler: gcc (Ubuntu 9.4.0-1ubuntu1~20.04.2) 9.4.0 Ubuntu 22.04 Kernel: Depends on container host Compiler: gcc (Ubuntu 11.4.0-1ubuntu1~22.04) 11.4.0 RHEL9 Kernel: Depends on container host Compiler: gcc 11.5.0 20240719 (Red Hat 11.5.0-2) Ubuntu 24.04 32 Bit Cross Compile Kernel: Depends on container host Compiler: gcc (Ubuntu 13.3.0-6ubuntu2~24.04) 13.3.0 FreeBSD 14.2 Kernel: 14.2-RELEASE Compiler: clang 18.1.6 Windows Server 2022 Kernel: 10.0.20348.2031 Compiler: clang 15.0.7, gcc 14.1.0 (MinGW), and MSVC VS 19.39.33521 To view detailed results, visit: https://lab.dpdk.org/results/dashboard/patchsets/33222/ UNH-IOL DPDK Community Lab To manage your email subscriptions, visit: https://lab.dpdk.org/results/dashboard/preferences/subscriptions/