From mboxrd@z Thu Jan 1 00:00:00 1970 Return-Path: Received: from mails.dpdk.org (mails.dpdk.org [217.70.189.124]) by inbox.dpdk.org (Postfix) with ESMTP id 135A9467B2 for ; Wed, 21 May 2025 22:06:42 +0200 (CEST) Received: from mails.dpdk.org (localhost [127.0.0.1]) by mails.dpdk.org (Postfix) with ESMTP id DE4C942E37; Wed, 21 May 2025 22:06:41 +0200 (CEST) Received: from mail-pg1-f227.google.com (mail-pg1-f227.google.com [209.85.215.227]) by mails.dpdk.org (Postfix) with ESMTP id 717AB402CD for ; Wed, 21 May 2025 22:06:40 +0200 (CEST) Received: by mail-pg1-f227.google.com with SMTP id 41be03b00d2f7-b26df8f44e6so6910925a12.2 for ; Wed, 21 May 2025 13:06:40 -0700 (PDT) DKIM-Signature: v=1; a=rsa-sha256; c=relaxed/relaxed; d=iol.unh.edu; s=unh-iol; t=1747857999; x=1748462799; darn=dpdk.org; h=references:in-reply-to:cc:to:from:subject:message-id:date:from:to :cc:subject:date:message-id:reply-to; bh=gv50M7cmQVAN8v3MGdaeKRwFYWkLWFJdk2mNMbV7v9o=; b=MwPZGZiVY/U6xaJzcasQh+FAdOZJfn9RtVkFXEvx2j+csAQ30Ia54DyUoL/X2hZhdT nRMfj6sh/ejVjvgBvTzeOs9tjofgEhyOZySqwoeU7U2a09PcVexa3OLavn81W/BCmHuA ZKsUQPQmQZkhHEvH3SMX6k0dlXxliL+2ZzbdI= X-Google-DKIM-Signature: v=1; a=rsa-sha256; c=relaxed/relaxed; d=1e100.net; s=20230601; t=1747857999; x=1748462799; h=references:in-reply-to:cc:to:from:subject:message-id:date :x-gm-message-state:from:to:cc:subject:date:message-id:reply-to; bh=gv50M7cmQVAN8v3MGdaeKRwFYWkLWFJdk2mNMbV7v9o=; b=I0kgAvpBoCddy8JX4p3liTlqTk33Y36CT+phJ+o4XCdHXH5Yb5W2JrAu5SPVANoUCJ xzeE8FYoghAu0U+bZWHhgoFwzYB1cQuDwZgRxgrNTwPO7lwx441u9YapguDWv0LKCch8 cyCTe9OX1gpnVQR7UqIVHKc5udUrxFZHfFFSy6GeWyNdz/RYaSK/xB2cgIjUlMD6ygvx xBkjgixySenUGuxzT+MMiOyQVtpF/xLrRSJ9/YOsB9+N98ROQrSpZA7OJmzs2TTpczzE aA9fz/02XduHve0RpkTVhNYuIub9+ABKXywJLZRdahYujYPzJ03qyYq2Wpescb0iMZGC QRlQ== X-Gm-Message-State: AOJu0Yy9zVtymyXxmU6iIpKWY/Y93HzK1C1X/tPdo2R1mnhzvGaOnQE2 D/89ROKKcSViRsYeQStoBBc5vMtxffadFln/YuXRZjBnoMYS3S8ecgzGUMUSLjrlD1doMf3nWxL huKN6p6PdYlhzybTV+bF7U/RhCY9sKG2BK5hmhw2GaKP+g8L5Z8ESSJ+7tzGU X-Gm-Gg: ASbGnct6uosuieUzx82hUZcIZcpAabewNGjo8dTInnsqVEO5jDBrcAZWRVUMMNu4Ksg t77eOcpRBRGVvkbgpBTx/h2gU+EaJdi3nGlqqhrxu+QjCYoLh25oYXFxjfBgcJ4z1AkvcQkVRZK jpvak/AQHexL7Kc+/gNLS3YsJn/0WxQADo4HZoQ6WNxEl4CKXvoq+aOiEOAizBALMcSEYRGs3OB wcXmu2y2dhjTbbm5bVxpMyPF8NkuLaaK6vnKKYLAkL7oAbVhP0V+NMG0EJAH6I+L3WAcikiMSWH CGlQu4o62A4MDOYoaeskOeJk02daESBGZwxM X-Google-Smtp-Source: AGHT+IHfM03FQ4w8FLi6inoHAL72C2gjVSnSQMnGImkHn5VFjxZG93Sr5fEh1UALGEG/6SkVBZcg/I0iKlnZ X-Received: by 2002:a17:902:e803:b0:22e:50f6:b95b with SMTP id d9443c01a7336-231d438b517mr322067205ad.11.1747857999559; Wed, 21 May 2025 13:06:39 -0700 (PDT) Received: from postal.iol.unh.edu (postal.iol.unh.edu. [2606:4100:3880:1234::84]) by smtp-relay.gmail.com with ESMTPS id d9443c01a7336-231d4aa6c7bsm7087805ad.14.2025.05.21.13.06.39 (version=TLS1_2 cipher=ECDHE-ECDSA-AES128-GCM-SHA256 bits=128/128); Wed, 21 May 2025 13:06:39 -0700 (PDT) X-Relaying-Domain: iol.unh.edu Date: Wed, 21 May 2025 13:06:39 -0700 (PDT) Message-ID: <682e324f.170a0220.28a2d5.5ffcSMTPIN_ADDED_MISSING@mx.google.com> Received: from [172.21.0.6] (unknown [172.18.0.240]) by postal.iol.unh.edu (Postfix) with ESMTP id BA6A46052471; Wed, 21 May 2025 16:06:38 -0400 (EDT) Subject: |SUCCESS| pw153575 [PATCH] examples/ntb: fix the heap allocation che From: dpdklab@iol.unh.edu To: Test Report Cc: dpdk-test-reports@iol.unh.edu In-Reply-To: <20250521172333.12859-1-bingz@nvidia.com> References: <20250521172333.12859-1-bingz@nvidia.com> Content-Type: text/plain X-BeenThere: test-report@dpdk.org X-Mailman-Version: 2.1.29 Precedence: list List-Id: automatic DPDK test reports List-Unsubscribe: , List-Archive: List-Post: List-Help: List-Subscribe: , Errors-To: test-report-bounces@dpdk.org Test-Label: iol-abi-testing Test-Status: SUCCESS http://dpdk.org/patch/153575 _Testing PASS_ Submitter: Bing Zhao Date: Wednesday, May 21 2025 17:23:33 DPDK git baseline: Repo:dpdk Branch: master CommitID:117e86c4b96ed761e9a7ab766261208fe81bf5ca 153575 --> testing pass Upstream job id: Generic-DPDK-Compile-ABI#127230 Test environment and result as below: +-------------------+----------+ | Environment | abi_test | +===================+==========+ | CentOS Stream 9 | PASS | +-------------------+----------+ | CentOS Stream 10 | PASS | +-------------------+----------+ | Debian 12 | PASS | +-------------------+----------+ | Fedora 40 | PASS | +-------------------+----------+ | Fedora 41 (Clang) | PASS | +-------------------+----------+ | Fedora 40 (Clang) | PASS | +-------------------+----------+ | Ubuntu 22.04 | PASS | +-------------------+----------+ | openSUSE Leap 15 | PASS | +-------------------+----------+ | RHEL9 | PASS | +-------------------+----------+ | RHEL8 | PASS | +-------------------+----------+ | Fedora 41 | PASS | +-------------------+----------+ | Ubuntu 24.04 | PASS | +-------------------+----------+ CentOS Stream 9 Kernel: Depends on container host Compiler: gcc 11.5.0 20240719 (Red Hat 11.5.0-2) CentOS Stream 10 Kernel: Depends on container host Compiler: gcc 14.2.1 20241104 (Red Hat 14.2.1-6) Debian 12 Kernel: Depends on container host Compiler: gcc (Debian 12.2.0-14) 12.2.0 Fedora 40 Kernel: Depends on container host Compiler: gcc 14.2.1 20240912 (Red Hat 14.2.1-3) Fedora 41 (Clang) Kernel: Depends on container host Compiler: clang 19.1.5 (Fedora 19.1.5-1.fc41) Fedora 40 (Clang) Kernel: Depends on container host Compiler: clang 18.1.8 (Fedora 18.1.8-1.fc40) Ubuntu 22.04 Kernel: Depends on container host Compiler: gcc (Ubuntu 11.4.0-1ubuntu1~22.04) 11.4.0 openSUSE Leap 15 Kernel: Depends on container host Compiler: gcc (SUSE Linux) 7.5.0 RHEL9 Kernel: Depends on container host Compiler: gcc 11.5.0 20240719 (Red Hat 11.5.0-2) RHEL8 Kernel: Depends on container host Compiler: gcc 8.5.0 20210514 (Red Hat 8.5.0-22) Fedora 41 Kernel: Depends on container host Compiler: gcc 14.2.1 20240912 (Red Hat 14.2.1-3) Ubuntu 24.04 Kernel: Depends on container host Compiler: gcc (Ubuntu 13.3.0-6ubuntu2~24.04) 13.3.0 To view detailed results, visit: https://lab.dpdk.org/results/dashboard/patchsets/33225/ UNH-IOL DPDK Community Lab To manage your email subscriptions, visit: https://lab.dpdk.org/results/dashboard/preferences/subscriptions/