From mboxrd@z Thu Jan 1 00:00:00 1970 Return-Path: Received: from mails.dpdk.org (mails.dpdk.org [217.70.189.124]) by inbox.dpdk.org (Postfix) with ESMTP id 08A10467B2 for ; Wed, 21 May 2025 22:07:07 +0200 (CEST) Received: from mails.dpdk.org (localhost [127.0.0.1]) by mails.dpdk.org (Postfix) with ESMTP id 0496242E37; Wed, 21 May 2025 22:07:07 +0200 (CEST) Received: from mail-pl1-f227.google.com (mail-pl1-f227.google.com [209.85.214.227]) by mails.dpdk.org (Postfix) with ESMTP id AB3BC402CD for ; Wed, 21 May 2025 22:07:05 +0200 (CEST) Received: by mail-pl1-f227.google.com with SMTP id d9443c01a7336-2322dc5c989so27493195ad.3 for ; Wed, 21 May 2025 13:07:05 -0700 (PDT) DKIM-Signature: v=1; a=rsa-sha256; c=relaxed/relaxed; d=iol.unh.edu; s=unh-iol; t=1747858025; x=1748462825; darn=dpdk.org; h=references:in-reply-to:cc:to:from:subject:message-id:date:from:to :cc:subject:date:message-id:reply-to; bh=+YZDqbhYB+jew7NYp9uU2izr8hlihV6qjBM/L5gqXEQ=; b=D+XEKosMTf5rNwehRH9ZBBn3c1aKVULXa8X+s0gtdXkk+sVDzrwBMz7A8qQWZ3PSEb ayodVofd3s/9hY9I3mK57JL29noAQ9CfFwNzP+IqmyI12OFkyD7CNUw2Puu8Y44+yR6O vqKy9/7hWJHeFPCEkMiMKZqBEuEQ3YF32YzdU= X-Google-DKIM-Signature: v=1; a=rsa-sha256; c=relaxed/relaxed; d=1e100.net; s=20230601; t=1747858025; x=1748462825; h=references:in-reply-to:cc:to:from:subject:message-id:date :x-gm-message-state:from:to:cc:subject:date:message-id:reply-to; bh=+YZDqbhYB+jew7NYp9uU2izr8hlihV6qjBM/L5gqXEQ=; b=mW0K0ts7e3FsnmzL7si3JuQRAfEhPeSDF1uESfY0qM0w63J2Bh4vG1iP+84exz+YVV qpPCLS8vm3Zsf7ofAiOVoE9Rrg18lb+r8GJ4TLj30ZpSnKne9yPTeLCi4k4ILOIYIG8m 8RVaHWvtSY6WyI/HL8ZePxIxJFh1YC/IF8gkOylwtw/xiH8NGMVw+apNQ69UNt3iwFb/ ZeKTXG8cMFPfKg0up9xqqE5puR8y2GoBSvtbYki6RaslwR+7cObxnhC82/d4AnV523NO TajMKW07htLCEk4JoeeWVDPnR5O2/zgphPGHOroQlSXt9pwJ/Iy2uxrciXH4hC2IDvm1 cF6g== X-Gm-Message-State: AOJu0YyGY++Ux0MdL69e7xVo0ydL5jm0RkpNOBQblijvi78rz09ZZ7QP HbaJPst/17nbYJl192tHd4dZlVLnUY74jkxm+XzMJylsd/Z6f7dTp5nwA4RNeHQKEj/kMvrBSP0 i4Vho+jtH5QueBgL+73w5v9o48U60fPuoDaRLcLf/20QGYqNhtMeaNF8ZN9bP X-Gm-Gg: ASbGncs/Do/S47ASD68uXH2hNCpRx0oYqii/dYTBspybM26lK/JOvHmVIAsRMMFg+nU 0itGkn99uEe+QZ76ie43kEen76zKU0E86Fh5B3R3JR6pdp43UDoEiLl3kIm2CBU1e9A+Pf42nn/ i2bckRbD5L//gEYh0qFnZSAssYu3RbprBwfBSEdgUgo1maLOSdC9TDU3MnmVKwP5sq6aTdicCrP VZlp5SxsgdsYTq0v7phl27KDSauMwF2vNqDBW2HIOKRnWE8nA/gKvMtihzW3XgTvu674k55vQwG EPB3V8jq2mFqimEWoLHtbNqrdOn4Sp4nwSdF X-Google-Smtp-Source: AGHT+IFOFE6zfn5zy3hjr7n0/NxDZI+wGQ/tvk0zbv2E8y7QaVNnwTSl/p4N9dL04GKFZjepAHVGpD6b9MsA X-Received: by 2002:a17:903:2452:b0:223:628c:199 with SMTP id d9443c01a7336-231de37fc12mr294362665ad.52.1747858024968; Wed, 21 May 2025 13:07:04 -0700 (PDT) Received: from postal.iol.unh.edu (postal.iol.unh.edu. [2606:4100:3880:1234::84]) by smtp-relay.gmail.com with ESMTPS id d9443c01a7336-231d4acb2eesm6532905ad.44.2025.05.21.13.07.04 (version=TLS1_2 cipher=ECDHE-ECDSA-AES128-GCM-SHA256 bits=128/128); Wed, 21 May 2025 13:07:04 -0700 (PDT) X-Relaying-Domain: iol.unh.edu Date: Wed, 21 May 2025 13:07:04 -0700 (PDT) Message-ID: <682e3268.170a0220.77d33.1dc1SMTPIN_ADDED_MISSING@mx.google.com> Received: from [172.21.0.5] (unknown [172.18.0.240]) by postal.iol.unh.edu (Postfix) with ESMTP id 6FEC16052471; Wed, 21 May 2025 16:07:04 -0400 (EDT) Subject: |SUCCESS| pw153575 [PATCH] examples/ntb: fix the heap allocation che From: dpdklab@iol.unh.edu To: Test Report Cc: dpdk-test-reports@iol.unh.edu In-Reply-To: <20250521172333.12859-1-bingz@nvidia.com> References: <20250521172333.12859-1-bingz@nvidia.com> Content-Type: text/plain X-BeenThere: test-report@dpdk.org X-Mailman-Version: 2.1.29 Precedence: list List-Id: automatic DPDK test reports List-Unsubscribe: , List-Archive: List-Post: List-Help: List-Subscribe: , Errors-To: test-report-bounces@dpdk.org Test-Label: iol-abi-testing Test-Status: SUCCESS http://dpdk.org/patch/153575 _Testing PASS_ Submitter: Bing Zhao Date: Wednesday, May 21 2025 17:23:33 DPDK git baseline: Repo:dpdk Branch: master CommitID:117e86c4b96ed761e9a7ab766261208fe81bf5ca 153575 --> testing pass Upstream job id: Generic-DPDK-Compile-ABI#127229 Test environment and result as below: +-------------------+----------+ | Environment | abi_test | +===================+==========+ | CentOS Stream 9 | PASS | +-------------------+----------+ | CentOS Stream 10 | PASS | +-------------------+----------+ | Debian 12 | PASS | +-------------------+----------+ | Fedora 40 | PASS | +-------------------+----------+ | Fedora 41 (Clang) | PASS | +-------------------+----------+ | Fedora 40 (Clang) | PASS | +-------------------+----------+ | Ubuntu 22.04 | PASS | +-------------------+----------+ | openSUSE Leap 15 | PASS | +-------------------+----------+ | RHEL9 | PASS | +-------------------+----------+ | RHEL8 | PASS | +-------------------+----------+ | Fedora 41 | PASS | +-------------------+----------+ | Ubuntu 24.04 | PASS | +-------------------+----------+ CentOS Stream 9 Kernel: Depends on container host Compiler: gcc 11.5.0 20240719 (Red Hat 11.5.0-2) CentOS Stream 10 Kernel: Depends on container host Compiler: gcc 14.2.1 20241104 (Red Hat 14.2.1-6) Debian 12 Kernel: Depends on container host Compiler: gcc (Debian 12.2.0-14) 12.2.0 Fedora 40 Kernel: Depends on container host Compiler: gcc 14.2.1 20240912 (Red Hat 14.2.1-3) Fedora 41 (Clang) Kernel: Depends on container host Compiler: clang 19.1.5 (Fedora 19.1.5-1.fc41) Fedora 40 (Clang) Kernel: Depends on container host Compiler: clang 18.1.8 (Fedora 18.1.8-1.fc40) Ubuntu 22.04 Kernel: Depends on container host Compiler: gcc (Ubuntu 11.4.0-1ubuntu1~22.04) 11.4.0 openSUSE Leap 15 Kernel: Depends on container host Compiler: gcc (SUSE Linux) 7.5.0 RHEL9 Kernel: Depends on container host Compiler: gcc 11.5.0 20240719 (Red Hat 11.5.0-2) RHEL8 Kernel: Depends on container host Compiler: gcc 8.5.0 20210514 (Red Hat 8.5.0-22) Fedora 41 Kernel: Depends on container host Compiler: gcc 14.2.1 20240912 (Red Hat 14.2.1-3) Ubuntu 24.04 Kernel: Depends on container host Compiler: gcc (Ubuntu 13.3.0-6ubuntu2~24.04) 13.3.0 To view detailed results, visit: https://lab.dpdk.org/results/dashboard/patchsets/33225/ UNH-IOL DPDK Community Lab To manage your email subscriptions, visit: https://lab.dpdk.org/results/dashboard/preferences/subscriptions/