From mboxrd@z Thu Jan 1 00:00:00 1970 Return-Path: Received: from mails.dpdk.org (mails.dpdk.org [217.70.189.124]) by inbox.dpdk.org (Postfix) with ESMTP id 6C232467B2 for ; Wed, 21 May 2025 22:18:14 +0200 (CEST) Received: from mails.dpdk.org (localhost [127.0.0.1]) by mails.dpdk.org (Postfix) with ESMTP id 5B33842E37; Wed, 21 May 2025 22:18:14 +0200 (CEST) Received: from mail-pf1-f225.google.com (mail-pf1-f225.google.com [209.85.210.225]) by mails.dpdk.org (Postfix) with ESMTP id 81B21402CD for ; Wed, 21 May 2025 22:18:12 +0200 (CEST) Received: by mail-pf1-f225.google.com with SMTP id d2e1a72fcca58-7399838db7fso6778527b3a.0 for ; Wed, 21 May 2025 13:18:12 -0700 (PDT) DKIM-Signature: v=1; a=rsa-sha256; c=relaxed/relaxed; d=iol.unh.edu; s=unh-iol; t=1747858691; x=1748463491; darn=dpdk.org; h=references:in-reply-to:cc:to:from:subject:message-id:date:from:to :cc:subject:date:message-id:reply-to; bh=4AYG8SB1gQdtI7egJAtd2ChB21Ww/me5puqVGMb4CQE=; b=DINpJqGdLFNd6o6zhhVARsRidMGho6jRMxK05NTVfSNQVq930lgeOKVS6CW7Nwcmtm kMi1bEtA9Yky+GBKf5+OZCXQDvCxewAytat8KtnJml0qCPepb/371q4E3N8fwFfb3ASU f8o4aymK8ku0gBxv77l40p13Rnu/Io4wCGrWk= X-Google-DKIM-Signature: v=1; a=rsa-sha256; c=relaxed/relaxed; d=1e100.net; s=20230601; t=1747858691; x=1748463491; h=references:in-reply-to:cc:to:from:subject:message-id:date :x-gm-message-state:from:to:cc:subject:date:message-id:reply-to; bh=4AYG8SB1gQdtI7egJAtd2ChB21Ww/me5puqVGMb4CQE=; b=WfDtGW2OfqLe84GtOuRMatITuVK/oee/JCzAnTGWe1lnlpLCQCLFCCqypcEI4qva/D I9fQWXE5am26BQSlmpbFxJbsgqS9RZ7/OTGD3+pLnLtnrJiB5pakNst9QRHzNz9K+KW9 cU0tiQLVDm4AXHtKElBSPdmKTkM2MpPOShPSyuLsqwHqsEWCE6KFHHTI5trZ2OuQbcSk W2UX3tjBUdq2MIz9KIzSHoKeLTKg7rDWiOPwnzqT2xkor5dPsyvID/F/KEtzeLmv5W4M VrWaGvL89gxP/jqBEOY2oqbhjB0uP8jRvxCN9mc/JerNlJ7sduAUWDl0ZGEDLwYHoyWY 8GjQ== X-Gm-Message-State: AOJu0YwkRWExOU5ou5vQySVd7uWwig9m2Q0cpxt9l7pDTRP7lpNc2TZn WZEJAdOe0fWwxsZbmcsFZjNrxQe8kgXeuwCC0jt9dh/zs9XArCdM35zjoNmaR3F11m8Z/TqWSJx zRRkIZdI+XGTPRheMH7mFD5mW5zchnQYI185goIq08zt5 X-Gm-Gg: ASbGncsW9PL3ZDYH1noy392D30Ti5bRsSWW3JC2RCGu+9X4CkE6Zuzd/kMuM12qK2CM Dzses74UFhSELdT6QJZOk7F+eDGkejcIf4Mj/B+wWy/GayH2fzuJ9iu9WJ5YaYezievJ/rJoo4w MsijBoyUJDqzvswnV5LB2HtWFtAA9nTDhq2i9SwMKprd+kWxRoUlD66NoEITMhiEEatr72Rg+GT X3pBM740ype+tROnKKPiK2PNDcMR+Yi/aa7H4hQ6EuZUzXYB9jXV68Agm5NyoITxBr8ngtgpqe7 SQP+NqarnHDXQW2DOaB5uaEMri7EL7rTytSOE/gybNP/pl+S0jxQh0EaG54= X-Google-Smtp-Source: AGHT+IG+WnG4sEkyxxJ1OV9CQwXFK2yBYt7efvhF2QZDQLDFuwkfbI2Gn+JFIphz2EmFooyTpecFncgOTX8P X-Received: by 2002:a05:6a00:1d23:b0:742:ccf9:317a with SMTP id d2e1a72fcca58-742ccf932d4mr19653698b3a.12.1747858691436; Wed, 21 May 2025 13:18:11 -0700 (PDT) Received: from postal.iol.unh.edu (postal.iol.unh.edu. [132.177.123.84]) by smtp-relay.gmail.com with ESMTPS id d2e1a72fcca58-742a984c3b1sm774543b3a.18.2025.05.21.13.18.11 (version=TLS1_2 cipher=ECDHE-ECDSA-AES128-GCM-SHA256 bits=128/128); Wed, 21 May 2025 13:18:11 -0700 (PDT) X-Relaying-Domain: iol.unh.edu Date: Wed, 21 May 2025 13:18:11 -0700 (PDT) Message-ID: <682e3503.050a0220.1f1a89.d2e6SMTPIN_ADDED_MISSING@mx.google.com> Received: from [172.21.0.5] (unknown [172.18.0.240]) by postal.iol.unh.edu (Postfix) with ESMTP id A2D966052471; Wed, 21 May 2025 16:18:10 -0400 (EDT) Subject: |SUCCESS| pw153575 [PATCH] examples/ntb: fix the heap allocation che From: dpdklab@iol.unh.edu To: Test Report Cc: dpdk-test-reports@iol.unh.edu In-Reply-To: <20250521172333.12859-1-bingz@nvidia.com> References: <20250521172333.12859-1-bingz@nvidia.com> Content-Type: text/plain X-BeenThere: test-report@dpdk.org X-Mailman-Version: 2.1.29 Precedence: list List-Id: automatic DPDK test reports List-Unsubscribe: , List-Archive: List-Post: List-Help: List-Subscribe: , Errors-To: test-report-bounces@dpdk.org Test-Label: iol-unit-amd64-testing Test-Status: SUCCESS http://dpdk.org/patch/153575 _Testing PASS_ Submitter: Bing Zhao Date: Wednesday, May 21 2025 17:23:33 DPDK git baseline: Repo:dpdk Branch: master CommitID:117e86c4b96ed761e9a7ab766261208fe81bf5ca 153575 --> testing pass Upstream job id: Generic-Unit-Test-DPDK#339682 Test environment and result as below: +---------------------+----------------+ | Environment | dpdk_unit_test | +=====================+================+ | CentOS Stream 10 | PASS | +---------------------+----------------+ | Fedora 40 | PASS | +---------------------+----------------+ | CentOS Stream 9 | PASS | +---------------------+----------------+ | Debian 12 | PASS | +---------------------+----------------+ | Ubuntu 20.04 | PASS | +---------------------+----------------+ | Fedora 41 (Clang) | PASS | +---------------------+----------------+ | Ubuntu 22.04 | PASS | +---------------------+----------------+ | Fedora 41 | PASS | +---------------------+----------------+ | Ubuntu 24.04 | PASS | +---------------------+----------------+ | Fedora 40 (Clang) | PASS | +---------------------+----------------+ | RHEL9 | PASS | +---------------------+----------------+ | RHEL8 | PASS | +---------------------+----------------+ | Windows Server 2022 | PASS | +---------------------+----------------+ CentOS Stream 10 Kernel: Depends on container host Compiler: gcc 14.2.1 20241104 (Red Hat 14.2.1-6) Fedora 40 Kernel: Depends on container host Compiler: gcc 14.2.1 20240912 (Red Hat 14.2.1-3) CentOS Stream 9 Kernel: Depends on container host Compiler: gcc 11.5.0 20240719 (Red Hat 11.5.0-2) Debian 12 Kernel: Depends on container host Compiler: gcc (Debian 12.2.0-14) 12.2.0 Ubuntu 20.04 Kernel: Depends on container host Compiler: gcc (Ubuntu 9.4.0-1ubuntu1~20.04.2) 9.4.0 Fedora 41 (Clang) Kernel: Depends on container host Compiler: clang 19.1.5 (Fedora 19.1.5-1.fc41) Ubuntu 22.04 Kernel: Depends on container host Compiler: gcc (Ubuntu 11.4.0-1ubuntu1~22.04) 11.4.0 Fedora 41 Kernel: Depends on container host Compiler: gcc 14.2.1 20240912 (Red Hat 14.2.1-3) Ubuntu 24.04 Kernel: Depends on container host Compiler: gcc (Ubuntu 13.3.0-6ubuntu2~24.04) 13.3.0 Fedora 40 (Clang) Kernel: Depends on container host Compiler: clang 18.1.8 (Fedora 18.1.8-1.fc40) RHEL9 Kernel: Depends on container host Compiler: gcc 11.5.0 20240719 (Red Hat 11.5.0-2) RHEL8 Kernel: Depends on container host Compiler: gcc 8.5.0 20210514 (Red Hat 8.5.0-22) Windows Server 2022 Kernel: 10.0.20348.2031 Compiler: clang 15.0.7, gcc 14.1.0 (MinGW), and MSVC VS 19.39.33521 To view detailed results, visit: https://lab.dpdk.org/results/dashboard/patchsets/33225/ UNH-IOL DPDK Community Lab To manage your email subscriptions, visit: https://lab.dpdk.org/results/dashboard/preferences/subscriptions/