From mboxrd@z Thu Jan 1 00:00:00 1970 Return-Path: Received: from mails.dpdk.org (mails.dpdk.org [217.70.189.124]) by inbox.dpdk.org (Postfix) with ESMTP id 26B39467B2 for ; Wed, 21 May 2025 22:23:42 +0200 (CEST) Received: from mails.dpdk.org (localhost [127.0.0.1]) by mails.dpdk.org (Postfix) with ESMTP id 226E542E48; Wed, 21 May 2025 22:23:42 +0200 (CEST) Received: from mail-io1-f98.google.com (mail-io1-f98.google.com [209.85.166.98]) by mails.dpdk.org (Postfix) with ESMTP id C1053402CD for ; Wed, 21 May 2025 22:23:40 +0200 (CEST) Received: by mail-io1-f98.google.com with SMTP id ca18e2360f4ac-864a071b44bso186246439f.3 for ; Wed, 21 May 2025 13:23:40 -0700 (PDT) DKIM-Signature: v=1; a=rsa-sha256; c=relaxed/relaxed; d=iol.unh.edu; s=unh-iol; t=1747859020; x=1748463820; darn=dpdk.org; h=references:in-reply-to:cc:to:from:subject:message-id:date:from:to :cc:subject:date:message-id:reply-to; bh=nI06k+OizQqFvW/UMUOFlCjIUWz2SKPpEl3Vk1LtMas=; b=XFPQYCzURebego8HdNn4OFToYSQgJAC69DeL7RFrxy/zX+MbZQJQgTesdCiTdrc60i YFli78Js/K63m23GnsmkpItDE6CALoSmZ7Krv07Lzvg7jh9H1uzyV5s96laYsasQwXxn ze/lb28qsdPRHyX9oRxUUYieGG0S4HyO02XvA= X-Google-DKIM-Signature: v=1; a=rsa-sha256; c=relaxed/relaxed; d=1e100.net; s=20230601; t=1747859020; x=1748463820; h=references:in-reply-to:cc:to:from:subject:message-id:date :x-gm-message-state:from:to:cc:subject:date:message-id:reply-to; bh=nI06k+OizQqFvW/UMUOFlCjIUWz2SKPpEl3Vk1LtMas=; b=Z0P9erWtqeWE8tZIgW72zCIkipxm/E6UkxTSw6+Mhxik6/+gLsvluMNhle9ZtsyKtO R31blELJamGsZWe+i92oPeCXQO+fdTFrqDN5Y8oGMsZ/QGojWehYB8z1nu2TJ+3ItClR M8leaMeEOjh8oIF+qp0C6nSGU2MSBGUIVpyl5aIv7R0DrXUovVkexm/qJe6weGqV1MaP H8AwLO3ymtDo3R3yW9Sx13dWt5IPfsER67T45aK4t1B231PJv+OnuKwxd72cUlsPbhpD UZvOSG6GCHNbjl5C6n8Mmdcuqa31PTjkc27ABaR4GAogCieXB+eDFuDCmpKjZSm4w2PB t6TQ== X-Gm-Message-State: AOJu0YwRDc5VMwHhWFaX3MbZJvUD9tZCWJaOJXRVZZgeYXMWxO1+B++H +AaYNFRg56ZMUD8ne4f0haBzKrcvQoCw6hNB8+lIpebAHCvVCF4/XM9mZCDxx2/O+fSX1Wgc5cm q3d2CwNdNMF1MiIU6QujMwQO7c/6Zijovog5kyV+C7QA9 X-Gm-Gg: ASbGncsLvNVFpBdmUfH7z+3T/kA10GGUFSjpGfpMokh4EKNvzfWgbQ53W5DB+RjS9Io +d2TleaJhvwtHEjqnfL/0Glja8B/kW4JOCq3CPYjRAUTiBVx8tb/s5/HlhRVjyNQHyxuvnQvwG7 RxUlsyfpFQYL9bVzBZmZs4P8qwaM5t/++Rhv1mAPWylYGuxHR/IEC221Y9INAYaIBnOwj7WhKz5 rd409A42OfDXsWmmWd9Fm2rJ6ta72dEmPX612CFRLifVadPRI73x++Udn+HrWDRK6xjG7DC4kuv +36q0GrUr83II93HfZhdRtNA+zyeC8yf6WfHS23FmofkwRcr1xUJ52DWkQg= X-Google-Smtp-Source: AGHT+IExXlNAyB6CfZV7QNwJsfFIUAvLP0KF5bBl4eQz5v/6Cdr82RLmiF0mzNDgNofDlcoqG0Pfx2rdTeSK X-Received: by 2002:a05:6602:7205:b0:861:7d41:1042 with SMTP id ca18e2360f4ac-86a24be6920mr3583023339f.4.1747859020043; Wed, 21 May 2025 13:23:40 -0700 (PDT) Received: from postal.iol.unh.edu (postal.iol.unh.edu. [132.177.123.84]) by smtp-relay.gmail.com with ESMTPS id 8926c6da1cb9f-4fbcc4a0658sm582109173.70.2025.05.21.13.23.39 (version=TLS1_2 cipher=ECDHE-ECDSA-AES128-GCM-SHA256 bits=128/128); Wed, 21 May 2025 13:23:40 -0700 (PDT) X-Relaying-Domain: iol.unh.edu Date: Wed, 21 May 2025 13:23:40 -0700 (PDT) Message-ID: <682e364c.050a0220.3466f9.e8d6SMTPIN_ADDED_MISSING@mx.google.com> Received: from [172.21.0.5] (unknown [172.18.0.240]) by postal.iol.unh.edu (Postfix) with ESMTP id A6C3C6052471; Wed, 21 May 2025 16:23:39 -0400 (EDT) Subject: |WARNING| pw153575 [PATCH] examples/ntb: fix the heap allocation che From: dpdklab@iol.unh.edu To: Test Report Cc: dpdk-test-reports@iol.unh.edu In-Reply-To: <20250521172333.12859-1-bingz@nvidia.com> References: <20250521172333.12859-1-bingz@nvidia.com> Content-Type: text/plain X-BeenThere: test-report@dpdk.org X-Mailman-Version: 2.1.29 Precedence: list List-Id: automatic DPDK test reports List-Unsubscribe: , List-Archive: List-Post: List-Help: List-Subscribe: , Errors-To: test-report-bounces@dpdk.org Test-Label: iol-compile-amd64-testing Test-Status: WARNING http://dpdk.org/patch/153575 _Testing issues_ Submitter: Bing Zhao Date: Wednesday, May 21 2025 17:23:33 DPDK git baseline: Repo:dpdk Branch: master CommitID:117e86c4b96ed761e9a7ab766261208fe81bf5ca 153575 --> testing issues Upstream job id: Generic-DPDK-Compile-Meson#390151 Test environment and result as below: +-----------------------------------+--------------------+-------------------+------------------+-------------------+-------------------------+----------------------+ | Environment | dpdk_meson_compile | dpdk_compile_spdk | dpdk_compile_ovs | dpdk_msvc_compile | dpdk_llvm_clang_compile | dpdk_mingw64_compile | +===================================+====================+===================+==================+===================+=========================+======================+ | CentOS Stream 9 | PASS | PASS | SKIPPED | SKIPPED | SKIPPED | SKIPPED | +-----------------------------------+--------------------+-------------------+------------------+-------------------+-------------------------+----------------------+ | CentOS Stream 10 | PEND | SKIPPED | SKIPPED | SKIPPED | SKIPPED | SKIPPED | +-----------------------------------+--------------------+-------------------+------------------+-------------------+-------------------------+----------------------+ | Debian 12 | PASS | PASS | SKIPPED | SKIPPED | SKIPPED | SKIPPED | +-----------------------------------+--------------------+-------------------+------------------+-------------------+-------------------------+----------------------+ | Fedora 40 (Clang) | PASS | WARN | SKIPPED | SKIPPED | SKIPPED | SKIPPED | +-----------------------------------+--------------------+-------------------+------------------+-------------------+-------------------------+----------------------+ | Fedora 40 | PASS | PASS | SKIPPED | SKIPPED | SKIPPED | SKIPPED | +-----------------------------------+--------------------+-------------------+------------------+-------------------+-------------------------+----------------------+ | openSUSE Leap 15 | PASS | SKIPPED | SKIPPED | SKIPPED | SKIPPED | SKIPPED | +-----------------------------------+--------------------+-------------------+------------------+-------------------+-------------------------+----------------------+ | Fedora 41 (Clang) | PEND | PEND | PEND | SKIPPED | SKIPPED | SKIPPED | +-----------------------------------+--------------------+-------------------+------------------+-------------------+-------------------------+----------------------+ | Fedora 41 | PASS | PASS | PASS | SKIPPED | SKIPPED | SKIPPED | +-----------------------------------+--------------------+-------------------+------------------+-------------------+-------------------------+----------------------+ | Ubuntu 20.04 | PASS | SKIPPED | SKIPPED | SKIPPED | SKIPPED | SKIPPED | +-----------------------------------+--------------------+-------------------+------------------+-------------------+-------------------------+----------------------+ | RHEL8 | PASS | SKIPPED | SKIPPED | SKIPPED | SKIPPED | SKIPPED | +-----------------------------------+--------------------+-------------------+------------------+-------------------+-------------------------+----------------------+ | Ubuntu 22.04 | PASS | PASS | SKIPPED | SKIPPED | SKIPPED | SKIPPED | +-----------------------------------+--------------------+-------------------+------------------+-------------------+-------------------------+----------------------+ | Ubuntu 24.04 32 Bit Cross Compile | PEND | SKIPPED | SKIPPED | SKIPPED | SKIPPED | SKIPPED | +-----------------------------------+--------------------+-------------------+------------------+-------------------+-------------------------+----------------------+ | Ubuntu 24.04 | PEND | PEND | PEND | SKIPPED | SKIPPED | SKIPPED | +-----------------------------------+--------------------+-------------------+------------------+-------------------+-------------------------+----------------------+ | Alpine | PASS | SKIPPED | SKIPPED | SKIPPED | SKIPPED | SKIPPED | +-----------------------------------+--------------------+-------------------+------------------+-------------------+-------------------------+----------------------+ | FreeBSD 13.5 | PASS | SKIPPED | SKIPPED | SKIPPED | SKIPPED | SKIPPED | +-----------------------------------+--------------------+-------------------+------------------+-------------------+-------------------------+----------------------+ | FreeBSD 14.2 | PASS | SKIPPED | SKIPPED | SKIPPED | SKIPPED | SKIPPED | +-----------------------------------+--------------------+-------------------+------------------+-------------------+-------------------------+----------------------+ | RHEL9 | PEND | SKIPPED | SKIPPED | SKIPPED | SKIPPED | SKIPPED | +-----------------------------------+--------------------+-------------------+------------------+-------------------+-------------------------+----------------------+ | Windows Server 2022 | SKIPPED | SKIPPED | SKIPPED | PASS | PASS | PASS | +-----------------------------------+--------------------+-------------------+------------------+-------------------+-------------------------+----------------------+ ==== 20 line log output for Fedora 40 (Clang) (dpdk_compile_spdk): ==== --- Failed to get log output --- ==== End log output ==== CentOS Stream 9 Kernel: Depends on container host Compiler: gcc 11.5.0 20240719 (Red Hat 11.5.0-2) CentOS Stream 10 Kernel: Depends on container host Compiler: gcc 14.2.1 20241104 (Red Hat 14.2.1-6) Debian 12 Kernel: Depends on container host Compiler: gcc (Debian 12.2.0-14) 12.2.0 Fedora 40 (Clang) Kernel: Depends on container host Compiler: clang 18.1.8 (Fedora 18.1.8-1.fc40) Fedora 40 Kernel: Depends on container host Compiler: gcc 14.2.1 20240912 (Red Hat 14.2.1-3) openSUSE Leap 15 Kernel: Depends on container host Compiler: gcc (SUSE Linux) 7.5.0 Fedora 41 (Clang) Kernel: Depends on container host Compiler: clang 19.1.5 (Fedora 19.1.5-1.fc41) Fedora 41 Kernel: Depends on container host Compiler: gcc 14.2.1 20240912 (Red Hat 14.2.1-3) Ubuntu 20.04 Kernel: Depends on container host Compiler: gcc (Ubuntu 9.4.0-1ubuntu1~20.04.2) 9.4.0 RHEL8 Kernel: Depends on container host Compiler: gcc 8.5.0 20210514 (Red Hat 8.5.0-22) Ubuntu 22.04 Kernel: Depends on container host Compiler: gcc (Ubuntu 11.4.0-1ubuntu1~22.04) 11.4.0 Ubuntu 24.04 32 Bit Cross Compile Kernel: Depends on container host Compiler: gcc (Ubuntu 13.3.0-6ubuntu2~24.04) 13.3.0 Ubuntu 24.04 Kernel: Depends on container host Compiler: gcc (Ubuntu 13.3.0-6ubuntu2~24.04) 13.3.0 Alpine Kernel: Depends on container host Compiler: gcc (Alpine 14.2.0) 14.2.0 FreeBSD 13.5 Kernel: 13.5-RELEASE Compiler: clang 19.1.7 FreeBSD 14.2 Kernel: 14.2-RELEASE Compiler: clang 18.1.6 RHEL9 Kernel: Depends on container host Compiler: gcc 11.5.0 20240719 (Red Hat 11.5.0-2) Windows Server 2022 Kernel: 10.0.20348.2031 Compiler: clang 15.0.7, gcc 14.1.0 (MinGW), and MSVC VS 19.39.33521 To view detailed results, visit: https://lab.dpdk.org/results/dashboard/patchsets/33225/ UNH-IOL DPDK Community Lab To manage your email subscriptions, visit: https://lab.dpdk.org/results/dashboard/preferences/subscriptions/