From mboxrd@z Thu Jan 1 00:00:00 1970 Return-Path: Received: from mails.dpdk.org (mails.dpdk.org [217.70.189.124]) by inbox.dpdk.org (Postfix) with ESMTP id 53BB7467AB for ; Wed, 21 May 2025 23:10:37 +0200 (CEST) Received: from mails.dpdk.org (localhost [127.0.0.1]) by mails.dpdk.org (Postfix) with ESMTP id 3E52B402D1; Wed, 21 May 2025 23:10:37 +0200 (CEST) Received: from mail-yw1-f227.google.com (mail-yw1-f227.google.com [209.85.128.227]) by mails.dpdk.org (Postfix) with ESMTP id 8AC1F402CD for ; Wed, 21 May 2025 23:10:35 +0200 (CEST) Received: by mail-yw1-f227.google.com with SMTP id 00721157ae682-70dec158cbcso20210677b3.2 for ; Wed, 21 May 2025 14:10:35 -0700 (PDT) DKIM-Signature: v=1; a=rsa-sha256; c=relaxed/relaxed; d=iol.unh.edu; s=unh-iol; t=1747861835; x=1748466635; darn=dpdk.org; h=references:in-reply-to:cc:to:from:subject:message-id:date:from:to :cc:subject:date:message-id:reply-to; bh=FvqSL8GAv75hbzsDmCv1cO92pbOCWIj8jU7XcPNwaIQ=; b=SlcpAg+ssQu9MP3fT+0xG/wdtbuhGQt//mpweADN9XzU1IYDIIGSZkej+q18PGa47p dvBWujGqbj8JSeKHrT6cvTOI36dR9Dmm5qrSoDhS+/CMxD9KGV1D2F2NZF+xJgX+e4aJ vuMpqb7HrDVyEreJsF2iXya2HtbtSeG+YWQ5Y= X-Google-DKIM-Signature: v=1; a=rsa-sha256; c=relaxed/relaxed; d=1e100.net; s=20230601; t=1747861835; x=1748466635; h=references:in-reply-to:cc:to:from:subject:message-id:date :x-gm-message-state:from:to:cc:subject:date:message-id:reply-to; bh=FvqSL8GAv75hbzsDmCv1cO92pbOCWIj8jU7XcPNwaIQ=; b=eCDlyZql/qf6tAuvYjso1Zl4sZvEixNRA8vex/fDYlAMEuekvQXIA3+lfVUm9TH79m XsiFFTUurXVsbkCmenxCH6nV78EAt7Xwni3gceldLOyGjh0Z6piI1DjIJMpWiJ6qlEW/ MaE37md9EBDPC0bm8jqr01TlHyHkaISpiyKSdUPgNjKM+RguLxZr84sSEBz4T1lON2ox saR+gt/tzoavmuQ3M1lYCLt7ubNPa3xGdgxHUkUmC7723oemIufzMBmkVctQdFZannqM 1GLwifAGrzBkxRxcBZf0HoohvB30eMfN0TkyGM8xiqWJOF85TGF/J6ndWzp5g7PMdjJs XCfw== X-Gm-Message-State: AOJu0Yyuk164a3YAUjGAvagSKBkGhyv0qccKGxA0LjrqDMN778HWskh4 faN+BT9ECfDsxpUerzyFIPN3COqQra9cDoaquqQpFx/bB4J3HIjpU3utOHqEWTVqp2RO8hT5Y4n NVaSmR5BUqEwWrc7LKJ/qVbLvU2f4gAp8ZzWK2pga0jglcOSv62zj6gsJUIDN X-Gm-Gg: ASbGnct6Pf4iTYqL8om3jzHIm2ReuBkLSMeB/2cGaLhTFYw4dJoVHKo+bTVtnLmosQr hSNtX9Sb44IxLU0bY0Uj2ULKuW7rnG+pIHytFB+XKdv5VfQhQjF13jqIaGcURy+ywV6Dihvq73g olLRXQorAPcfItwbLAna9Kd8QQaBylT3WWkbm1h59h+gQ+JFxqRslKXVxlg5WZH0B3NCoJhPusj Fr3dkDSl3mobAl5C3WEEaIlCN2tmPugPnNlYxhqcfyuQ6sUwOkFPJXB227wuwYVza/kCDS7wtg8 ChHGiTlkd13wIrpIdBCXIzAfkHAnDvHhLBWg X-Google-Smtp-Source: AGHT+IHLDxUgIUA1gTw4Zvo/hwNFGMM/JLLF3ppN0wu5JpGEotKXUjQZCHSZpuiI9NLvzbn6Qapt1TynpuQX X-Received: by 2002:a05:690c:3613:b0:703:b278:db20 with SMTP id 00721157ae682-70caacd18a4mr309700267b3.0.1747861834886; Wed, 21 May 2025 14:10:34 -0700 (PDT) Received: from postal.iol.unh.edu (postal.iol.unh.edu. [2606:4100:3880:1234::84]) by smtp-relay.gmail.com with ESMTPS id 00721157ae682-70ca8383757sm2482197b3.41.2025.05.21.14.10.34 (version=TLS1_2 cipher=ECDHE-ECDSA-AES128-GCM-SHA256 bits=128/128); Wed, 21 May 2025 14:10:34 -0700 (PDT) X-Relaying-Domain: iol.unh.edu Date: Wed, 21 May 2025 14:10:34 -0700 (PDT) Message-ID: <682e414a.050a0220.2d8ed9.d2b1SMTPIN_ADDED_MISSING@mx.google.com> Received: from [172.21.0.5] (unknown [172.18.0.240]) by postal.iol.unh.edu (Postfix) with ESMTP id 80A936052471; Wed, 21 May 2025 17:10:34 -0400 (EDT) Subject: |SUCCESS| pw153574 [PATCH] [v1] net/virtio-user: implement MAC setti From: dpdklab@iol.unh.edu To: Test Report Cc: dpdk-test-reports@iol.unh.edu In-Reply-To: <20250521142305.343264-1-maxime.coquelin@redhat.com> References: <20250521142305.343264-1-maxime.coquelin@redhat.com> Content-Type: text/plain X-BeenThere: test-report@dpdk.org X-Mailman-Version: 2.1.29 Precedence: list List-Id: automatic DPDK test reports List-Unsubscribe: , List-Archive: List-Post: List-Help: List-Subscribe: , Errors-To: test-report-bounces@dpdk.org Test-Label: iol-unit-amd64-testing Test-Status: SUCCESS http://dpdk.org/patch/153574 _Testing PASS_ Submitter: Maxime Coquelin Date: Wednesday, May 21 2025 14:23:05 DPDK git baseline: Repo:dpdk Branch: master CommitID:3223019e73391066cbb0d248051b163e5373034c 153574 --> testing pass Upstream job id: Generic-Unit-Test-DPDK#339710 Test environment and result as below: +---------------------+----------------+ | Environment | dpdk_unit_test | +=====================+================+ | Fedora 41 | PASS | +---------------------+----------------+ | Ubuntu 20.04 | PASS | +---------------------+----------------+ | CentOS Stream 10 | PASS | +---------------------+----------------+ | RHEL9 | PASS | +---------------------+----------------+ | Fedora 40 | PASS | +---------------------+----------------+ | Fedora 40 (Clang) | PASS | +---------------------+----------------+ | Debian 12 | PASS | +---------------------+----------------+ | CentOS Stream 9 | PASS | +---------------------+----------------+ | Fedora 41 (Clang) | PASS | +---------------------+----------------+ | Ubuntu 22.04 | PASS | +---------------------+----------------+ | RHEL8 | PASS | +---------------------+----------------+ | Ubuntu 24.04 | PASS | +---------------------+----------------+ | Windows Server 2022 | PASS | +---------------------+----------------+ Fedora 41 Kernel: Depends on container host Compiler: gcc 14.2.1 20240912 (Red Hat 14.2.1-3) Ubuntu 20.04 Kernel: Depends on container host Compiler: gcc (Ubuntu 9.4.0-1ubuntu1~20.04.2) 9.4.0 CentOS Stream 10 Kernel: Depends on container host Compiler: gcc 14.2.1 20241104 (Red Hat 14.2.1-6) RHEL9 Kernel: Depends on container host Compiler: gcc 11.5.0 20240719 (Red Hat 11.5.0-2) Fedora 40 Kernel: Depends on container host Compiler: gcc 14.2.1 20240912 (Red Hat 14.2.1-3) Fedora 40 (Clang) Kernel: Depends on container host Compiler: clang 18.1.8 (Fedora 18.1.8-1.fc40) Debian 12 Kernel: Depends on container host Compiler: gcc (Debian 12.2.0-14) 12.2.0 CentOS Stream 9 Kernel: Depends on container host Compiler: gcc 11.5.0 20240719 (Red Hat 11.5.0-2) Fedora 41 (Clang) Kernel: Depends on container host Compiler: clang 19.1.5 (Fedora 19.1.5-1.fc41) Ubuntu 22.04 Kernel: Depends on container host Compiler: gcc (Ubuntu 11.4.0-1ubuntu1~22.04) 11.4.0 RHEL8 Kernel: Depends on container host Compiler: gcc 8.5.0 20210514 (Red Hat 8.5.0-22) Ubuntu 24.04 Kernel: Depends on container host Compiler: gcc (Ubuntu 13.3.0-6ubuntu2~24.04) 13.3.0 Windows Server 2022 Kernel: 10.0.20348.2031 Compiler: clang 15.0.7, gcc 14.1.0 (MinGW), and MSVC VS 19.39.33521 To view detailed results, visit: https://lab.dpdk.org/results/dashboard/patchsets/33224/ UNH-IOL DPDK Community Lab To manage your email subscriptions, visit: https://lab.dpdk.org/results/dashboard/preferences/subscriptions/