From mboxrd@z Thu Jan 1 00:00:00 1970 Return-Path: Received: from mails.dpdk.org (mails.dpdk.org [217.70.189.124]) by inbox.dpdk.org (Postfix) with ESMTP id D71C4467AB for ; Wed, 21 May 2025 23:15:57 +0200 (CEST) Received: from mails.dpdk.org (localhost [127.0.0.1]) by mails.dpdk.org (Postfix) with ESMTP id D3706402D1; Wed, 21 May 2025 23:15:57 +0200 (CEST) Received: from mail-pf1-f228.google.com (mail-pf1-f228.google.com [209.85.210.228]) by mails.dpdk.org (Postfix) with ESMTP id CE739402CD for ; Wed, 21 May 2025 23:15:55 +0200 (CEST) Received: by mail-pf1-f228.google.com with SMTP id d2e1a72fcca58-742b0840d98so4258775b3a.1 for ; Wed, 21 May 2025 14:15:55 -0700 (PDT) DKIM-Signature: v=1; a=rsa-sha256; c=relaxed/relaxed; d=iol.unh.edu; s=unh-iol; t=1747862155; x=1748466955; darn=dpdk.org; h=references:in-reply-to:cc:to:from:subject:message-id:date:from:to :cc:subject:date:message-id:reply-to; bh=5DM/BMEblUqnzEZJDPdO9PmwvcWS6Ua7rVnD5eebBpI=; b=CRcsZYoWkGDKSe8+vO1fz+99OnxxzFlS1Se4NRIsUSNQjwzTUCrdWpZLrJt9/x+DhT Jx7WiztNwV+uw6MRoBgiHWKMtx/S243Gz6mPaLK48uSNbMjiVK3GxN1iRe4bVYbjz6Sd RdgHjJNe4Bf8lX2ieesdJ+ckc7z3BeweXoivY= X-Google-DKIM-Signature: v=1; a=rsa-sha256; c=relaxed/relaxed; d=1e100.net; s=20230601; t=1747862155; x=1748466955; h=references:in-reply-to:cc:to:from:subject:message-id:date :x-gm-message-state:from:to:cc:subject:date:message-id:reply-to; bh=5DM/BMEblUqnzEZJDPdO9PmwvcWS6Ua7rVnD5eebBpI=; b=I2mu2XzngjYYMMDp0rFZOIWTTBJbOETM8PtIY/wmZ0OCZOrZOUv638Wiyl3kpwKmyU I72uiQ93JipTxuG7iWRkfpkcHguYWlbjj9+H6Lg283B8++XsFFofSMl97WfAgNGhIaN0 xizNkEJzTCepKWLjfTIcZ/lGffC/8Sn/q3ZTwVVoheVeK/OxQf8iPsWBKQIXG3rsSuLa vcSNDn9sQ62aQAYWxj30TEZSsmtdkslPZJyN+xIUUnNz3Cl8I/BTKSUuPPxXnp6KekDr 0A94J/HWeR/HI8gxmCSkeOyHg0ekUIEbspy3o4I6Lvpgu/svPjNKvlUsWgMYb73QEJrU gTGg== X-Gm-Message-State: AOJu0YxjHn3417T5P4EN9vPMeY03xKj/pvR4gm7hMxvFwZRIeJFKOBbO bT/OjWl9t6AkTLvJ1ATUdIL5Sc6sUPLqI1dyp54RiWF7f/5su0EH+lx31oqj4WOhLFt+qG74Xfs Z+GUtvk0fQHxL9Fro+QhUqjCYz7QfovWnRdkqdjXbrerhU1vbABQo1u6kx2b4 X-Gm-Gg: ASbGncuzOFmPn/++n4ydlMnFMmKXuN0waxgqEuJdZ6cRUOLBdKqCC70oazz9cDVicYg e0roqOD45WXTH2ZlUjAcLg1r2/lCXPTikk6P+sC+l2G5MVBqAj30dv1/bvYHo697yor/aSqtUrF vB+nowq1U9DjVrMqGNNj4s3li42M29SuJ9t3ZfM10RWhRPNN2TO5ERgeJ6QScboO5f/NUM6/kOE Qip40jOPl1hG7deMgjSPzIX0Mf0ojEqcxMk1itQfKdcHZsx9kHoobYazw80SLK3vD3uPQkHK9Zy ZhBjcN2X8wb79SzaP7IsbDB4Rrnrt0Y17z6d X-Google-Smtp-Source: AGHT+IHwmriaErSxugOA/kPNO7Fzkfd2LZ1JfRtqk2iyaI+4LhWxvaFePBFwnIYfpxF21kjyad8loN3HRrWS X-Received: by 2002:a17:90b:1f8b:b0:30a:2007:65b6 with SMTP id 98e67ed59e1d1-30e83235af7mr24719387a91.34.1747862154680; Wed, 21 May 2025 14:15:54 -0700 (PDT) Received: from postal.iol.unh.edu (postal.iol.unh.edu. [2606:4100:3880:1234::84]) by smtp-relay.gmail.com with ESMTPS id 98e67ed59e1d1-3108d9aec93sm161388a91.4.2025.05.21.14.15.54 (version=TLS1_2 cipher=ECDHE-ECDSA-AES128-GCM-SHA256 bits=128/128); Wed, 21 May 2025 14:15:54 -0700 (PDT) X-Relaying-Domain: iol.unh.edu Date: Wed, 21 May 2025 14:15:54 -0700 (PDT) Message-ID: <682e428a.170a0220.29bc70.8549SMTPIN_ADDED_MISSING@mx.google.com> Received: from [172.21.0.5] (unknown [172.18.0.240]) by postal.iol.unh.edu (Postfix) with ESMTP id DFA2A6052471; Wed, 21 May 2025 17:15:53 -0400 (EDT) Subject: |SUCCESS| pw153576-153578 [PATCH] [v2,3/3] dts: add flow validation From: dpdklab@iol.unh.edu To: Test Report Cc: dpdk-test-reports@iol.unh.edu In-Reply-To: <20250521192629.294265-3-dmarx@iol.unh.edu> References: <20250521192629.294265-3-dmarx@iol.unh.edu> Content-Type: text/plain X-BeenThere: test-report@dpdk.org X-Mailman-Version: 2.1.29 Precedence: list List-Id: automatic DPDK test reports List-Unsubscribe: , List-Archive: List-Post: List-Help: List-Subscribe: , Errors-To: test-report-bounces@dpdk.org Test-Label: iol-compile-amd64-testing Test-Status: SUCCESS http://dpdk.org/patch/153578 _Testing PASS_ Submitter: Dean Marx Date: Wednesday, May 21 2025 19:26:29 DPDK git baseline: Repo:dpdk Branch: master CommitID:1aef42bc97a31906486c9d66b792208948af06f3 153576-153578 --> testing pass Upstream job id: Generic-VM-DPDK-Compile-Meson#35642 Test environment and result as below: +---------------------+-------------------------+--------------------+-------------------+ | Environment | dpdk_llvm_clang_compile | dpdk_meson_compile | dpdk_msvc_compile | +=====================+=========================+====================+===================+ | Windows Server 2022 | PASS | SKIPPED | PASS | +---------------------+-------------------------+--------------------+-------------------+ | Ubuntu 20.04 | SKIPPED | PASS | SKIPPED | +---------------------+-------------------------+--------------------+-------------------+ | FreeBSD 14.2 | SKIPPED | PASS | SKIPPED | +---------------------+-------------------------+--------------------+-------------------+ Windows Server 2022 Kernel: 10.0.20348.2031 Compiler: clang 15.0.7, gcc 14.1.0 (MinGW), and MSVC VS 19.39.33521 Ubuntu 20.04 Kernel: 4.19.325-0419325-generic Compiler: gcc (Ubuntu 9.4.0-1ubuntu1~20.04.2) 9.4.0 FreeBSD 14.2 Kernel: 14.2-RELEASE Compiler: clang 18.1.6 To view detailed results, visit: https://lab.dpdk.org/results/dashboard/patchsets/33226/ UNH-IOL DPDK Community Lab To manage your email subscriptions, visit: https://lab.dpdk.org/results/dashboard/preferences/subscriptions/