From mboxrd@z Thu Jan 1 00:00:00 1970 Return-Path: Received: from mails.dpdk.org (mails.dpdk.org [217.70.189.124]) by inbox.dpdk.org (Postfix) with ESMTP id EF27E467AB for ; Wed, 21 May 2025 23:16:28 +0200 (CEST) Received: from mails.dpdk.org (localhost [127.0.0.1]) by mails.dpdk.org (Postfix) with ESMTP id EA26C402D1; Wed, 21 May 2025 23:16:28 +0200 (CEST) Received: from mail-pg1-f228.google.com (mail-pg1-f228.google.com [209.85.215.228]) by mails.dpdk.org (Postfix) with ESMTP id 1752A402CD for ; Wed, 21 May 2025 23:16:27 +0200 (CEST) Received: by mail-pg1-f228.google.com with SMTP id 41be03b00d2f7-b26f5eb16a5so4721139a12.0 for ; Wed, 21 May 2025 14:16:26 -0700 (PDT) DKIM-Signature: v=1; a=rsa-sha256; c=relaxed/relaxed; d=iol.unh.edu; s=unh-iol; t=1747862186; x=1748466986; darn=dpdk.org; h=references:in-reply-to:cc:to:from:subject:message-id:date:from:to :cc:subject:date:message-id:reply-to; bh=RzRnuqFO/ca3yIoJd4HmkngE3HRzyd+SMxEKikUcISg=; b=VUPXKYcDVUjzgrwdm0aClsP9A/TDj3a7Zf/qct8lkO6BOv7YIehTMSEze0P4Hwrwed z+0dC30agzbO5cmTH112wX4gTztRPOBSNM5HmTdmMPmj2bBWZO7EfgTRu9Axu/mg2Mr3 K5NjP6G2UkKAKGbLmCLiDzcqMiFzaAic8GfdE= X-Google-DKIM-Signature: v=1; a=rsa-sha256; c=relaxed/relaxed; d=1e100.net; s=20230601; t=1747862186; x=1748466986; h=references:in-reply-to:cc:to:from:subject:message-id:date :x-gm-message-state:from:to:cc:subject:date:message-id:reply-to; bh=RzRnuqFO/ca3yIoJd4HmkngE3HRzyd+SMxEKikUcISg=; b=u5MKoP3r4OS8TQxtGrDDdF+mDUATXAwKNuWpAqrW2mTkDjZo0MGxiTQ+H62awkxrIw z+QZQGkgv3AbALfBoW3xqu7GzVc5bB/wxzP9udelZurNVFOUwO5VAQRZSEXVE2Vwr/wq wSU4lAKnc/dg/WJw+QP7g0jSIUL6cuA+z/S70VMZlFEExw1nJkGE7sAiuiPVLPYGch/b 7Cne0Xp7erstd//p+5ayJ/CJRs3Pmm8Vfi/Uhmv2h2S3QA4JDiZHXV0b3YpwONNH6gm/ XhgdSCM2ehE7cGSEqNqUqraLiXJMSqTv0brS/ckTKE2XJ6ynreE11oNd98yRYJGDtMxv Zz+g== X-Gm-Message-State: AOJu0YyWC86711ite/FnpY8xyBtQH3vnUr6hLpHF1pFW/kakPw4U4JzA 7fYzQFAXzeJjLiieG3f0KUGq9WnZWfk6jaTiRovGRwN4AKF/KHYVhYIy9zXFz9fJOgHxezcaLX8 8LGjinxDydcRHU75VhfQhcI/bX7DGZhn3jzIfnCwC2H1cAcsBxt6Vy71PUEVl X-Gm-Gg: ASbGnctv0NhFDARh6vbYiSmPjD9NNtF/5l1JYTR3Cqv1wHYW/3GZLe70D9NtC4jhjJE WlZ7cE6yrkSaF0cT3eMVCrFAvQZsPvLDccRqNvmTfSYqpZx9txCgLqUPt8c52RNhrYTFBO2gNqz qfkUCi8gbgjar5iZH0MqLo+ncngGLV09bglHKiCKIymi6UwO/3F4qyKbPja2o/OpjvpFhNURBtA olFmu/p7yZxDAJHSzOq4KWvg4y2Ey1uc1iGtjJxiApjwsHLcuBzP/DLoSy7eGnnRGOqQmjVX6/5 bWFNnRhb9Hetym7cGxSVRtnXFRp6RqZzdch8 X-Google-Smtp-Source: AGHT+IEcX3sAb5iJHe69xYGrkJm1LdOYV31p4z2rAIdi9hGjXW4nVnwhB9AlXETA3TMWkDFLyDeny1qOPGcO X-Received: by 2002:a17:902:ce91:b0:232:219c:2a4f with SMTP id d9443c01a7336-232219c2f99mr206520205ad.1.1747862185972; Wed, 21 May 2025 14:16:25 -0700 (PDT) Received: from postal.iol.unh.edu (postal.iol.unh.edu. [2606:4100:3880:1234::84]) by smtp-relay.gmail.com with ESMTPS id d9443c01a7336-231d4ecf6d0sm7245755ad.122.2025.05.21.14.16.25 (version=TLS1_2 cipher=ECDHE-ECDSA-AES128-GCM-SHA256 bits=128/128); Wed, 21 May 2025 14:16:25 -0700 (PDT) X-Relaying-Domain: iol.unh.edu Date: Wed, 21 May 2025 14:16:25 -0700 (PDT) Message-ID: <682e42a9.170a0220.355dee.7463SMTPIN_ADDED_MISSING@mx.google.com> Received: from [172.21.0.5] (unknown [172.18.0.240]) by postal.iol.unh.edu (Postfix) with ESMTP id 76EE36052471; Wed, 21 May 2025 17:16:25 -0400 (EDT) Subject: |SUCCESS| pw153574 [PATCH] [v1] net/virtio-user: implement MAC setti From: dpdklab@iol.unh.edu To: Test Report Cc: dpdk-test-reports@iol.unh.edu In-Reply-To: <20250521142305.343264-1-maxime.coquelin@redhat.com> References: <20250521142305.343264-1-maxime.coquelin@redhat.com> Content-Type: text/plain X-BeenThere: test-report@dpdk.org X-Mailman-Version: 2.1.29 Precedence: list List-Id: automatic DPDK test reports List-Unsubscribe: , List-Archive: List-Post: List-Help: List-Subscribe: , Errors-To: test-report-bounces@dpdk.org Test-Label: iol-abi-testing Test-Status: SUCCESS http://dpdk.org/patch/153574 _Testing PASS_ Submitter: Maxime Coquelin Date: Wednesday, May 21 2025 14:23:05 DPDK git baseline: Repo:dpdk Branch: master CommitID:3223019e73391066cbb0d248051b163e5373034c 153574 --> testing pass Upstream job id: Generic-DPDK-Compile-ABI#127245 Test environment and result as below: +-------------------+----------+ | Environment | abi_test | +===================+==========+ | Fedora 41 (Clang) | PASS | +-------------------+----------+ | CentOS Stream 9 | PASS | +-------------------+----------+ | Debian 12 | PASS | +-------------------+----------+ | Fedora 40 (Clang) | PASS | +-------------------+----------+ | CentOS Stream 10 | PASS | +-------------------+----------+ | Fedora 41 | PASS | +-------------------+----------+ | Fedora 40 | PASS | +-------------------+----------+ | Ubuntu 22.04 | PASS | +-------------------+----------+ | RHEL8 | PASS | +-------------------+----------+ | Ubuntu 24.04 | PASS | +-------------------+----------+ | RHEL9 | PASS | +-------------------+----------+ | openSUSE Leap 15 | PASS | +-------------------+----------+ Fedora 41 (Clang) Kernel: Depends on container host Compiler: clang 19.1.5 (Fedora 19.1.5-1.fc41) CentOS Stream 9 Kernel: Depends on container host Compiler: gcc 11.5.0 20240719 (Red Hat 11.5.0-2) Debian 12 Kernel: Depends on container host Compiler: gcc (Debian 12.2.0-14) 12.2.0 Fedora 40 (Clang) Kernel: Depends on container host Compiler: clang 18.1.8 (Fedora 18.1.8-1.fc40) CentOS Stream 10 Kernel: Depends on container host Compiler: gcc 14.2.1 20241104 (Red Hat 14.2.1-6) Fedora 41 Kernel: Depends on container host Compiler: gcc 14.2.1 20240912 (Red Hat 14.2.1-3) Fedora 40 Kernel: Depends on container host Compiler: gcc 14.2.1 20240912 (Red Hat 14.2.1-3) Ubuntu 22.04 Kernel: Depends on container host Compiler: gcc (Ubuntu 11.4.0-1ubuntu1~22.04) 11.4.0 RHEL8 Kernel: Depends on container host Compiler: gcc 8.5.0 20210514 (Red Hat 8.5.0-22) Ubuntu 24.04 Kernel: Depends on container host Compiler: gcc (Ubuntu 13.3.0-6ubuntu2~24.04) 13.3.0 RHEL9 Kernel: Depends on container host Compiler: gcc 11.5.0 20240719 (Red Hat 11.5.0-2) openSUSE Leap 15 Kernel: Depends on container host Compiler: gcc (SUSE Linux) 7.5.0 To view detailed results, visit: https://lab.dpdk.org/results/dashboard/patchsets/33224/ UNH-IOL DPDK Community Lab To manage your email subscriptions, visit: https://lab.dpdk.org/results/dashboard/preferences/subscriptions/