From mboxrd@z Thu Jan 1 00:00:00 1970 Return-Path: Received: from mails.dpdk.org (mails.dpdk.org [217.70.189.124]) by inbox.dpdk.org (Postfix) with ESMTP id B1BC9467AB for ; Wed, 21 May 2025 23:44:43 +0200 (CEST) Received: from mails.dpdk.org (localhost [127.0.0.1]) by mails.dpdk.org (Postfix) with ESMTP id 8C7EF42E4E; Wed, 21 May 2025 23:44:43 +0200 (CEST) Received: from mail-pg1-f227.google.com (mail-pg1-f227.google.com [209.85.215.227]) by mails.dpdk.org (Postfix) with ESMTP id 6A722402D1 for ; Wed, 21 May 2025 23:44:42 +0200 (CEST) Received: by mail-pg1-f227.google.com with SMTP id 41be03b00d2f7-af59c920d32so4598002a12.0 for ; Wed, 21 May 2025 14:44:42 -0700 (PDT) DKIM-Signature: v=1; a=rsa-sha256; c=relaxed/relaxed; d=iol.unh.edu; s=unh-iol; t=1747863881; x=1748468681; darn=dpdk.org; h=references:in-reply-to:cc:to:from:subject:message-id:date:from:to :cc:subject:date:message-id:reply-to; bh=43P8AaFQSKIK3fhkc0zDNEf3/A8gFeSVXsB13ZpfnvI=; b=St0nn0+6smjmQdRONsaZ8l7/5mKxzYItz5aVM7niS9Zn1l4rXL1i2S9BfN62OgU7Jl AO/oS2LSWdt66NHILso19+eL4ZAwoQO7qGxNOnfAxF6YuJ39D2FVyGLyfi5cl/h0ZAIZ VhqN8KgEEMhW3oBFHKtOEdtYY+xGXsANwbVUQ= X-Google-DKIM-Signature: v=1; a=rsa-sha256; c=relaxed/relaxed; d=1e100.net; s=20230601; t=1747863881; x=1748468681; h=references:in-reply-to:cc:to:from:subject:message-id:date :x-gm-message-state:from:to:cc:subject:date:message-id:reply-to; bh=43P8AaFQSKIK3fhkc0zDNEf3/A8gFeSVXsB13ZpfnvI=; b=QxhFduChcYPO1oPhasupd6fOOKmyI+Gh2/xsEOm+y8ecxuvW61nfGGEitq0fiY+p6u M5LbUb1l4hj9EtoOLvl8RLn9h7SXzrwBn1VdZoH05ftjXhMN4G6gidvSQ/Tw77GokTcC oojtMcfYod85DirSko3xBXQqWlBLaDzRU4U88Cd0RGWwgD93Y5sG5L8gSLwHBYgmkgq/ rBC9tMVkaYO2Bb0FO2NLOqE7WwWpHq8KLBTzxEEQq4jylIbKO5QbwJfwWUxff9v9BOcX iGG+WHc7S9xq04bjk5yUDWNd2MgRkzPZiPoaAwQK5JARzXz/ADTSVpELXBi52Ykm9RlY raBw== X-Gm-Message-State: AOJu0YywRKctXODRBr/f2mNZovXNSEVnNLobcrJcxHVLPEAzXi6KmX31 xcjRMxKkFAnUigpdlwXwJPbCz00Gw9hVaKI8LO+SUcSFt7fXkay8xvR7clWUCv1Us8O87pYVA5G NYhjNwYM/Ro9/EUBiS44x9Jg4OgjpGT7ykXlxeS390YdGL5Ove0+hL+B1ptdg X-Gm-Gg: ASbGncuP/Wc/OYcDOdhDG9Dw2//ZCdmHS2oA8aIusg1UAd8K7e7z50vIAyOL4+w3JDq IBGt3IpEOjmM6ZXJYrMVno8A6w3ttaxqqA18lYREwoF4U/KhJbXOOiCf4OeJsWM3xgv01XNcLaH UyM193+UUIYFDG1FI+jI0/Oaq6GoD2tBqVI5f3lCiqqRO1NVyxJ4dw8D8vKPqbFYDa/oQlO4OEa K27RRAnVpJXLlsJ7mpVVeDBjhnQi3ZANLRtUtaf+Msh+3X40/x8MiZAzrgecW5CZdLBZOxUwof1 /BpeGljpHx5d839EnYWEk/LC8+Fc1j4iiERO X-Google-Smtp-Source: AGHT+IEkZIeRS80d8Cp33iyjbeOVCSZVCSmoiIAWtFD7feomwliqgIqgv/thWLvVyw2XtzD2oym/uH2kHOvO X-Received: by 2002:a17:903:2990:b0:22e:1740:e561 with SMTP id d9443c01a7336-231d4515b85mr355142795ad.19.1747863881152; Wed, 21 May 2025 14:44:41 -0700 (PDT) Received: from postal.iol.unh.edu (postal.iol.unh.edu. [2606:4100:3880:1234::84]) by smtp-relay.gmail.com with ESMTPS id d9443c01a7336-231d4aa6edfsm6660695ad.3.2025.05.21.14.44.41 (version=TLS1_2 cipher=ECDHE-ECDSA-AES128-GCM-SHA256 bits=128/128); Wed, 21 May 2025 14:44:41 -0700 (PDT) X-Relaying-Domain: iol.unh.edu Date: Wed, 21 May 2025 14:44:41 -0700 (PDT) Message-ID: <682e4949.170a0220.15a7be.3a1cSMTPIN_ADDED_MISSING@mx.google.com> Received: from [172.21.0.5] (unknown [172.18.0.240]) by postal.iol.unh.edu (Postfix) with ESMTP id 53F2B6052471; Wed, 21 May 2025 17:44:40 -0400 (EDT) Subject: |WARNING| pw153574 [PATCH] [v1] net/virtio-user: implement MAC setti From: dpdklab@iol.unh.edu To: Test Report Cc: dpdk-test-reports@iol.unh.edu In-Reply-To: <20250521142305.343264-1-maxime.coquelin@redhat.com> References: <20250521142305.343264-1-maxime.coquelin@redhat.com> Content-Type: text/plain X-BeenThere: test-report@dpdk.org X-Mailman-Version: 2.1.29 Precedence: list List-Id: automatic DPDK test reports List-Unsubscribe: , List-Archive: List-Post: List-Help: List-Subscribe: , Errors-To: test-report-bounces@dpdk.org Test-Label: iol-compile-amd64-testing Test-Status: WARNING http://dpdk.org/patch/153574 _Testing issues_ Submitter: Maxime Coquelin Date: Wednesday, May 21 2025 14:23:05 DPDK git baseline: Repo:dpdk Branch: master CommitID:3223019e73391066cbb0d248051b163e5373034c 153574 --> testing issues Upstream job id: Generic-DPDK-Compile-Meson#390184 Test environment and result as below: +-----------------------------------+--------------------+-------------------+-------------------------+----------------------+-------------------+------------------+ | Environment | dpdk_meson_compile | dpdk_msvc_compile | dpdk_llvm_clang_compile | dpdk_mingw64_compile | dpdk_compile_spdk | dpdk_compile_ovs | +===================================+====================+===================+=========================+======================+===================+==================+ | Ubuntu 20.04 | PASS | SKIPPED | SKIPPED | SKIPPED | SKIPPED | SKIPPED | +-----------------------------------+--------------------+-------------------+-------------------------+----------------------+-------------------+------------------+ | FreeBSD 13.5 | PASS | SKIPPED | SKIPPED | SKIPPED | SKIPPED | SKIPPED | +-----------------------------------+--------------------+-------------------+-------------------------+----------------------+-------------------+------------------+ | FreeBSD 14.2 | PASS | SKIPPED | SKIPPED | SKIPPED | SKIPPED | SKIPPED | +-----------------------------------+--------------------+-------------------+-------------------------+----------------------+-------------------+------------------+ | CentOS Stream 9 | PASS | SKIPPED | SKIPPED | SKIPPED | PASS | SKIPPED | +-----------------------------------+--------------------+-------------------+-------------------------+----------------------+-------------------+------------------+ | CentOS Stream 10 | PASS | SKIPPED | SKIPPED | SKIPPED | SKIPPED | SKIPPED | +-----------------------------------+--------------------+-------------------+-------------------------+----------------------+-------------------+------------------+ | Debian 12 | PASS | SKIPPED | SKIPPED | SKIPPED | PASS | SKIPPED | +-----------------------------------+--------------------+-------------------+-------------------------+----------------------+-------------------+------------------+ | Fedora 40 (Clang) | PEND | SKIPPED | SKIPPED | SKIPPED | PEND | SKIPPED | +-----------------------------------+--------------------+-------------------+-------------------------+----------------------+-------------------+------------------+ | Fedora 40 | PEND | SKIPPED | SKIPPED | SKIPPED | PEND | SKIPPED | +-----------------------------------+--------------------+-------------------+-------------------------+----------------------+-------------------+------------------+ | Fedora 41 (Clang) | PASS | SKIPPED | SKIPPED | SKIPPED | WARN | PASS | +-----------------------------------+--------------------+-------------------+-------------------------+----------------------+-------------------+------------------+ | Fedora 41 | PASS | SKIPPED | SKIPPED | SKIPPED | PASS | PASS | +-----------------------------------+--------------------+-------------------+-------------------------+----------------------+-------------------+------------------+ | openSUSE Leap 15 | PASS | SKIPPED | SKIPPED | SKIPPED | SKIPPED | SKIPPED | +-----------------------------------+--------------------+-------------------+-------------------------+----------------------+-------------------+------------------+ | RHEL8 | PASS | SKIPPED | SKIPPED | SKIPPED | SKIPPED | SKIPPED | +-----------------------------------+--------------------+-------------------+-------------------------+----------------------+-------------------+------------------+ | RHEL9 | PASS | SKIPPED | SKIPPED | SKIPPED | SKIPPED | SKIPPED | +-----------------------------------+--------------------+-------------------+-------------------------+----------------------+-------------------+------------------+ | Ubuntu 22.04 | PASS | SKIPPED | SKIPPED | SKIPPED | PASS | SKIPPED | +-----------------------------------+--------------------+-------------------+-------------------------+----------------------+-------------------+------------------+ | Ubuntu 24.04 | PASS | SKIPPED | SKIPPED | SKIPPED | PASS | PASS | +-----------------------------------+--------------------+-------------------+-------------------------+----------------------+-------------------+------------------+ | Alpine | PASS | SKIPPED | SKIPPED | SKIPPED | SKIPPED | SKIPPED | +-----------------------------------+--------------------+-------------------+-------------------------+----------------------+-------------------+------------------+ | Ubuntu 24.04 32 Bit Cross Compile | PEND | SKIPPED | SKIPPED | SKIPPED | SKIPPED | SKIPPED | +-----------------------------------+--------------------+-------------------+-------------------------+----------------------+-------------------+------------------+ | Windows Server 2022 | SKIPPED | PASS | PASS | PASS | SKIPPED | SKIPPED | +-----------------------------------+--------------------+-------------------+-------------------------+----------------------+-------------------+------------------+ ==== 20 line log output for Fedora 41 (Clang) (dpdk_compile_spdk): ==== --- Failed to get log output --- ==== End log output ==== Ubuntu 20.04 Kernel: 4.19.325-0419325-generic Compiler: gcc (Ubuntu 9.4.0-1ubuntu1~20.04.2) 9.4.0 FreeBSD 13.5 Kernel: 13.5-RELEASE Compiler: clang 19.1.7 FreeBSD 14.2 Kernel: 14.2-RELEASE Compiler: clang 18.1.6 CentOS Stream 9 Kernel: Depends on container host Compiler: gcc 11.5.0 20240719 (Red Hat 11.5.0-2) CentOS Stream 10 Kernel: Depends on container host Compiler: gcc 14.2.1 20241104 (Red Hat 14.2.1-6) Debian 12 Kernel: Depends on container host Compiler: gcc (Debian 12.2.0-14) 12.2.0 Fedora 40 (Clang) Kernel: Depends on container host Compiler: clang 18.1.8 (Fedora 18.1.8-1.fc40) Fedora 40 Kernel: Depends on container host Compiler: gcc 14.2.1 20240912 (Red Hat 14.2.1-3) Fedora 41 (Clang) Kernel: Depends on container host Compiler: clang 19.1.5 (Fedora 19.1.5-1.fc41) Fedora 41 Kernel: Depends on container host Compiler: gcc 14.2.1 20240912 (Red Hat 14.2.1-3) openSUSE Leap 15 Kernel: Depends on container host Compiler: gcc (SUSE Linux) 7.5.0 RHEL8 Kernel: Depends on container host Compiler: gcc 8.5.0 20210514 (Red Hat 8.5.0-22) RHEL9 Kernel: Depends on container host Compiler: gcc 11.5.0 20240719 (Red Hat 11.5.0-2) Ubuntu 22.04 Kernel: Depends on container host Compiler: gcc (Ubuntu 11.4.0-1ubuntu1~22.04) 11.4.0 Ubuntu 24.04 Kernel: Depends on container host Compiler: gcc (Ubuntu 13.3.0-6ubuntu2~24.04) 13.3.0 Alpine Kernel: Depends on container host Compiler: gcc (Alpine 14.2.0) 14.2.0 Ubuntu 24.04 32 Bit Cross Compile Kernel: Depends on container host Compiler: gcc (Ubuntu 13.3.0-6ubuntu2~24.04) 13.3.0 Windows Server 2022 Kernel: 10.0.20348.2031 Compiler: clang 15.0.7, gcc 14.1.0 (MinGW), and MSVC VS 19.39.33521 To view detailed results, visit: https://lab.dpdk.org/results/dashboard/patchsets/33224/ UNH-IOL DPDK Community Lab To manage your email subscriptions, visit: https://lab.dpdk.org/results/dashboard/preferences/subscriptions/