From mboxrd@z Thu Jan 1 00:00:00 1970 Return-Path: Received: from mails.dpdk.org (mails.dpdk.org [217.70.189.124]) by inbox.dpdk.org (Postfix) with ESMTP id 4CC62467B5 for ; Thu, 22 May 2025 00:00:33 +0200 (CEST) Received: from mails.dpdk.org (localhost [127.0.0.1]) by mails.dpdk.org (Postfix) with ESMTP id 2D71E402B9; Thu, 22 May 2025 00:00:33 +0200 (CEST) Received: from mail-il1-f225.google.com (mail-il1-f225.google.com [209.85.166.225]) by mails.dpdk.org (Postfix) with ESMTP id 1B10C4026D for ; Thu, 22 May 2025 00:00:31 +0200 (CEST) Received: by mail-il1-f225.google.com with SMTP id e9e14a558f8ab-3d91db4f0c3so33722425ab.3 for ; Wed, 21 May 2025 15:00:31 -0700 (PDT) DKIM-Signature: v=1; a=rsa-sha256; c=relaxed/relaxed; d=iol.unh.edu; s=unh-iol; t=1747864830; x=1748469630; darn=dpdk.org; h=references:in-reply-to:cc:to:from:subject:message-id:date:from:to :cc:subject:date:message-id:reply-to; bh=rZCuugy4HP0DLmUvV96tbaanCb2uVvuSEPjMGW/O9pM=; b=IGwfLRINB0hAuBxSITN9PnewsF2jqcrRK96wjnwt2BHIIkcEiITMcLBy6sJP5obte4 EoSDB6D3fkBlenZ9fRN0mefcn37104quDutsB+haYWWS4ot4VOf/5olPD/a4nb2E5aIL 1wxBJL7N77AiD0SO0KR1/ks8XnqULXPthwGjc= X-Google-DKIM-Signature: v=1; a=rsa-sha256; c=relaxed/relaxed; d=1e100.net; s=20230601; t=1747864830; x=1748469630; h=references:in-reply-to:cc:to:from:subject:message-id:date :x-gm-message-state:from:to:cc:subject:date:message-id:reply-to; bh=rZCuugy4HP0DLmUvV96tbaanCb2uVvuSEPjMGW/O9pM=; b=QYhFwEBBz6lyuX8OAN6DjO5fBich9IrvoWSYdOFnRAcNFl1zDdhlGt+CaMMYrEHeOn qUaBLOSsLY13qeB0AdQ/qlqtP99F4ne9kRPzqiT9+cQMeWy3MjcRs0S6AnMXpShQvRr/ U+8iO2K6HHE8v22sb2R2db9MmKglaMSLx03A/sXxw2ZNHe531PH6x0czF53di/JbPAwv DObNoNr+fGjPJoaKtleJOQCY5saJhFqrxUqAlgdoJgjv2K1l81oUFW3AhAXhd/Og8rXW 57Zm9GCck9UGHJl32zVDSacKtce5I3wuSrMxIdro0ZnGfQB1zvFiGkaDVrV5toadk++6 tbvQ== X-Gm-Message-State: AOJu0Yxl/LaDox7oKF4oKRmxLUFn4WoGdLSK9T5N9/2z10qqPu3Le3fm vQkhnqmgGQvNWbilkELNaOz5ypQMblRyGBuuID0+JouOQuf1sAL//YKjLtkgXOsHwaauQ0dN8a2 t/6T4cHhVJEe00WkGxgwWORjKSz57XkR6A9f9/X817BA/ X-Gm-Gg: ASbGncv83uug+/enGThZfpMJ7F/bwEPJ0nazgJulXlRhMxPrWNxX6WxkhLUBEHcKomq tBBbjcztDoQz7LpNRwdDj56XEDe/bamiLHrpEKb5ebF3n55i4NkHNmTjIBp+1wVR2k9q7PjHwZz mOxsx53j+kGdxh7MEA0m/xpl6Pn6zrW4TyFcVfo2sVoU/xxujGb53tj4crbm567JZI6SZKcOPGA EfE7ytyRp4ZlQgi0wfNlc8xGFnUif7sNFx3SbJhKr2TdK55+oAE/dKagPSJiHqq8xZMGpUfepVb wTd4ynSYSO2xkr41thHUrZZwskL7Z9bnHtlCw0l9kLCcIXWkw7+abUJACaw= X-Google-Smtp-Source: AGHT+IGOzBHuK1+5uPkpwdc2i9g+3hMXy1lM5ius9vYWLD/ALwMRkonl/Bz2De6HQqFABIAdc/HPZpUlAqmz X-Received: by 2002:a05:6602:274b:b0:85b:476e:ede2 with SMTP id ca18e2360f4ac-86a24cc8825mr3120062339f.13.1747864830291; Wed, 21 May 2025 15:00:30 -0700 (PDT) Received: from postal.iol.unh.edu (postal.iol.unh.edu. [132.177.123.84]) by smtp-relay.gmail.com with ESMTPS id ca18e2360f4ac-86a236180d7sm54246439f.10.2025.05.21.15.00.30 (version=TLS1_2 cipher=ECDHE-ECDSA-AES128-GCM-SHA256 bits=128/128); Wed, 21 May 2025 15:00:30 -0700 (PDT) X-Relaying-Domain: iol.unh.edu Date: Wed, 21 May 2025 15:00:30 -0700 (PDT) Message-ID: <682e4cfe.050a0220.3d66de.fe96SMTPIN_ADDED_MISSING@mx.google.com> Received: from [172.21.0.5] (unknown [172.18.0.240]) by postal.iol.unh.edu (Postfix) with ESMTP id B1DCC6052471; Wed, 21 May 2025 18:00:29 -0400 (EDT) Subject: |WARNING| pw153574 [PATCH] [v1] net/virtio-user: implement MAC setti From: dpdklab@iol.unh.edu To: Test Report Cc: dpdk-test-reports@iol.unh.edu In-Reply-To: <20250521142305.343264-1-maxime.coquelin@redhat.com> References: <20250521142305.343264-1-maxime.coquelin@redhat.com> Content-Type: text/plain X-BeenThere: test-report@dpdk.org X-Mailman-Version: 2.1.29 Precedence: list List-Id: automatic DPDK test reports List-Unsubscribe: , List-Archive: List-Post: List-Help: List-Subscribe: , Errors-To: test-report-bounces@dpdk.org Test-Label: iol-compile-amd64-testing Test-Status: WARNING http://dpdk.org/patch/153574 _Testing issues_ Submitter: Maxime Coquelin Date: Wednesday, May 21 2025 14:23:05 DPDK git baseline: Repo:dpdk Branch: master CommitID:3223019e73391066cbb0d248051b163e5373034c 153574 --> testing issues Upstream job id: Generic-DPDK-Compile-Meson#390193 Test environment and result as below: +-----------------------------------+--------------------+-------------------+-------------------------+----------------------+-------------------+------------------+ | Environment | dpdk_meson_compile | dpdk_msvc_compile | dpdk_llvm_clang_compile | dpdk_mingw64_compile | dpdk_compile_spdk | dpdk_compile_ovs | +===================================+====================+===================+=========================+======================+===================+==================+ | Ubuntu 20.04 | PASS | SKIPPED | SKIPPED | SKIPPED | SKIPPED | SKIPPED | +-----------------------------------+--------------------+-------------------+-------------------------+----------------------+-------------------+------------------+ | FreeBSD 13.5 | PASS | SKIPPED | SKIPPED | SKIPPED | SKIPPED | SKIPPED | +-----------------------------------+--------------------+-------------------+-------------------------+----------------------+-------------------+------------------+ | FreeBSD 14.2 | PASS | SKIPPED | SKIPPED | SKIPPED | SKIPPED | SKIPPED | +-----------------------------------+--------------------+-------------------+-------------------------+----------------------+-------------------+------------------+ | CentOS Stream 9 | PASS | SKIPPED | SKIPPED | SKIPPED | PASS | SKIPPED | +-----------------------------------+--------------------+-------------------+-------------------------+----------------------+-------------------+------------------+ | CentOS Stream 10 | PASS | SKIPPED | SKIPPED | SKIPPED | SKIPPED | SKIPPED | +-----------------------------------+--------------------+-------------------+-------------------------+----------------------+-------------------+------------------+ | Debian 12 | PASS | SKIPPED | SKIPPED | SKIPPED | PASS | SKIPPED | +-----------------------------------+--------------------+-------------------+-------------------------+----------------------+-------------------+------------------+ | Fedora 40 (Clang) | PASS | SKIPPED | SKIPPED | SKIPPED | WARN | SKIPPED | +-----------------------------------+--------------------+-------------------+-------------------------+----------------------+-------------------+------------------+ | Fedora 40 | PASS | SKIPPED | SKIPPED | SKIPPED | PASS | SKIPPED | +-----------------------------------+--------------------+-------------------+-------------------------+----------------------+-------------------+------------------+ | Fedora 41 (Clang) | PASS | SKIPPED | SKIPPED | SKIPPED | WARN | PASS | +-----------------------------------+--------------------+-------------------+-------------------------+----------------------+-------------------+------------------+ | Fedora 41 | PASS | SKIPPED | SKIPPED | SKIPPED | PASS | PASS | +-----------------------------------+--------------------+-------------------+-------------------------+----------------------+-------------------+------------------+ | openSUSE Leap 15 | PASS | SKIPPED | SKIPPED | SKIPPED | SKIPPED | SKIPPED | +-----------------------------------+--------------------+-------------------+-------------------------+----------------------+-------------------+------------------+ | RHEL8 | PASS | SKIPPED | SKIPPED | SKIPPED | SKIPPED | SKIPPED | +-----------------------------------+--------------------+-------------------+-------------------------+----------------------+-------------------+------------------+ | RHEL9 | PASS | SKIPPED | SKIPPED | SKIPPED | SKIPPED | SKIPPED | +-----------------------------------+--------------------+-------------------+-------------------------+----------------------+-------------------+------------------+ | Ubuntu 22.04 | PASS | SKIPPED | SKIPPED | SKIPPED | PASS | SKIPPED | +-----------------------------------+--------------------+-------------------+-------------------------+----------------------+-------------------+------------------+ | Ubuntu 24.04 | PASS | SKIPPED | SKIPPED | SKIPPED | PASS | PASS | +-----------------------------------+--------------------+-------------------+-------------------------+----------------------+-------------------+------------------+ | Alpine | PASS | SKIPPED | SKIPPED | SKIPPED | SKIPPED | SKIPPED | +-----------------------------------+--------------------+-------------------+-------------------------+----------------------+-------------------+------------------+ | Ubuntu 24.04 32 Bit Cross Compile | PASS | SKIPPED | SKIPPED | SKIPPED | SKIPPED | SKIPPED | +-----------------------------------+--------------------+-------------------+-------------------------+----------------------+-------------------+------------------+ | Windows Server 2022 | SKIPPED | PASS | PASS | PASS | SKIPPED | SKIPPED | +-----------------------------------+--------------------+-------------------+-------------------------+----------------------+-------------------+------------------+ ==== 20 line log output for Fedora 41 (Clang) (dpdk_compile_spdk): ==== --- Failed to get log output --- ==== End log output ==== Ubuntu 20.04 Kernel: 4.19.325-0419325-generic Compiler: gcc (Ubuntu 9.4.0-1ubuntu1~20.04.2) 9.4.0 FreeBSD 13.5 Kernel: 13.5-RELEASE Compiler: clang 19.1.7 FreeBSD 14.2 Kernel: 14.2-RELEASE Compiler: clang 18.1.6 CentOS Stream 9 Kernel: Depends on container host Compiler: gcc 11.5.0 20240719 (Red Hat 11.5.0-2) CentOS Stream 10 Kernel: Depends on container host Compiler: gcc 14.2.1 20241104 (Red Hat 14.2.1-6) Debian 12 Kernel: Depends on container host Compiler: gcc (Debian 12.2.0-14) 12.2.0 Fedora 40 (Clang) Kernel: Depends on container host Compiler: clang 18.1.8 (Fedora 18.1.8-1.fc40) Fedora 40 Kernel: Depends on container host Compiler: gcc 14.2.1 20240912 (Red Hat 14.2.1-3) Fedora 41 (Clang) Kernel: Depends on container host Compiler: clang 19.1.5 (Fedora 19.1.5-1.fc41) Fedora 41 Kernel: Depends on container host Compiler: gcc 14.2.1 20240912 (Red Hat 14.2.1-3) openSUSE Leap 15 Kernel: Depends on container host Compiler: gcc (SUSE Linux) 7.5.0 RHEL8 Kernel: Depends on container host Compiler: gcc 8.5.0 20210514 (Red Hat 8.5.0-22) RHEL9 Kernel: Depends on container host Compiler: gcc 11.5.0 20240719 (Red Hat 11.5.0-2) Ubuntu 22.04 Kernel: Depends on container host Compiler: gcc (Ubuntu 11.4.0-1ubuntu1~22.04) 11.4.0 Ubuntu 24.04 Kernel: Depends on container host Compiler: gcc (Ubuntu 13.3.0-6ubuntu2~24.04) 13.3.0 Alpine Kernel: Depends on container host Compiler: gcc (Alpine 14.2.0) 14.2.0 Ubuntu 24.04 32 Bit Cross Compile Kernel: Depends on container host Compiler: gcc (Ubuntu 13.3.0-6ubuntu2~24.04) 13.3.0 Windows Server 2022 Kernel: 10.0.20348.2031 Compiler: clang 15.0.7, gcc 14.1.0 (MinGW), and MSVC VS 19.39.33521 To view detailed results, visit: https://lab.dpdk.org/results/dashboard/patchsets/33224/ UNH-IOL DPDK Community Lab To manage your email subscriptions, visit: https://lab.dpdk.org/results/dashboard/preferences/subscriptions/