From mboxrd@z Thu Jan 1 00:00:00 1970 Return-Path: Received: from mails.dpdk.org (mails.dpdk.org [217.70.189.124]) by inbox.dpdk.org (Postfix) with ESMTP id ACA5D467AB for ; Thu, 22 May 2025 00:05:36 +0200 (CEST) Received: from mails.dpdk.org (localhost [127.0.0.1]) by mails.dpdk.org (Postfix) with ESMTP id A827540ED1; Thu, 22 May 2025 00:05:36 +0200 (CEST) Received: from mail-il1-f225.google.com (mail-il1-f225.google.com [209.85.166.225]) by mails.dpdk.org (Postfix) with ESMTP id C5E314026D for ; Thu, 22 May 2025 00:05:35 +0200 (CEST) Received: by mail-il1-f225.google.com with SMTP id e9e14a558f8ab-3dc64b08343so20348305ab.2 for ; Wed, 21 May 2025 15:05:35 -0700 (PDT) DKIM-Signature: v=1; a=rsa-sha256; c=relaxed/relaxed; d=iol.unh.edu; s=unh-iol; t=1747865135; x=1748469935; darn=dpdk.org; h=references:in-reply-to:cc:to:from:subject:message-id:date:from:to :cc:subject:date:message-id:reply-to; bh=OyiQuFa5SNoHZLCOP+Pt8lRCBZcQfH2aT1TXkUmKe8s=; b=d3/0Rtem1TrrQ2TdyG+fHc4joiGJGD7ysVdkOsV7JT3OuhNLy7Y5v8rrgPs5wOTXW2 lJmRSF+atWERkhneUAYjDbIhYqFQ9jwitUH/W1RrQHsZLOA4We92psklMpPQJXVwwHaS qef4ZX97Bn21nWv5jy96gTSEV1PW9wutywJS0= X-Google-DKIM-Signature: v=1; a=rsa-sha256; c=relaxed/relaxed; d=1e100.net; s=20230601; t=1747865135; x=1748469935; h=references:in-reply-to:cc:to:from:subject:message-id:date :x-gm-message-state:from:to:cc:subject:date:message-id:reply-to; bh=OyiQuFa5SNoHZLCOP+Pt8lRCBZcQfH2aT1TXkUmKe8s=; b=r1B+UW3uPTepLMsvf/4+rpQ3f1bpQWNNf3yx82fI2ImU0enaT41HOp9Vq6NnFeSDV9 EyuxeXbtPYhPP0WgdZvnzrVfAS48vyPkoWNkrE5/JNWvlVuLzxQr/DudyBm5GCGYHcEu VP8RIi9lTngL7B/5jvsntSJK/4evPAC/FquLM1gHRchBSmkEdaYXEBlDKXAgEMqMx1IR acdxzpkzQHMEH/JAb5CsblC6R01oEQdqgoDN+NKWpe1G5qH4yjyKK1VmhQvbjcNFySE2 KvVSYqVVQ9Vk8r7MWHPBTH9BVijnGegokcLIj6j+OiB9tcKUD90eUkRp7VLG0dK7VNbV 0OIA== X-Gm-Message-State: AOJu0YyLlHr5S1L6XPyqTENRo4dhjCjMUKNKC5iMme5hIkigreEHom71 K3Re9Z8mQlJh/q0e5PghzyhDwHqsFifAPIMrFrdTaQOeb2Qe24kSxctUy+OT1duep0FJzXFWlTo mhQPE9TcHTV7SLdvRNW0yRL9IhJSHL/NUZimwLKssJAvE9gBjIF/8x0lmL4Lx X-Gm-Gg: ASbGncsp+OP+ryQrAtR60ZNgyQDekqnGS0gl3MIT2j/50rJri6nNd39I9Etup9k29WR xd4Ga8/HnwAcRLC5XRW+75kphWrEvPzMTnfCysvGH2sFvcwV4rWyls8MAH26fw8hgQS+DfjVwKk vqMfwX3/v7O3fwqHbpjD4fgU6rOjzBSxKrDHptfRX4BgX6WjmYb9KGXSQ6PlB3esyDfe7hzMzWT I+CXVQHYR4a+pNbpsYNxJSQpU/8QRcyd505OJ0B1w13I+5m98jwWT36jB5JUPSnbY5Fld/aTS8z lqwijDCVO+E8w2cd/ctVmn3Rm/XkKMt6ztMO X-Google-Smtp-Source: AGHT+IGTUdQ+YQR1ckxh7gqMMe071V3W9oApJ/QeeX89b5XmoE+dT2vOarLBZEsaDNpO7aq91qpJKymT2KxY X-Received: by 2002:a05:6e02:2164:b0:3d0:4e57:bbda with SMTP id e9e14a558f8ab-3db85723a71mr215053245ab.1.1747865134989; Wed, 21 May 2025 15:05:34 -0700 (PDT) Received: from postal.iol.unh.edu (postal.iol.unh.edu. [2606:4100:3880:1234::84]) by smtp-relay.gmail.com with ESMTPS id e9e14a558f8ab-3dc810bcf57sm1463015ab.59.2025.05.21.15.05.34 (version=TLS1_2 cipher=ECDHE-ECDSA-AES128-GCM-SHA256 bits=128/128); Wed, 21 May 2025 15:05:34 -0700 (PDT) X-Relaying-Domain: iol.unh.edu Date: Wed, 21 May 2025 15:05:34 -0700 (PDT) Message-ID: <682e4e2e.050a0220.1cb3f8.7962SMTPIN_ADDED_MISSING@mx.google.com> Received: from [172.21.0.7] (unknown [172.18.0.240]) by postal.iol.unh.edu (Postfix) with ESMTP id 7CCAB6052471; Wed, 21 May 2025 18:05:34 -0400 (EDT) Subject: |SUCCESS| pw153575 [PATCH] examples/ntb: fix the heap allocation che From: dpdklab@iol.unh.edu To: Test Report Cc: dpdk-test-reports@iol.unh.edu In-Reply-To: <20250521172333.12859-1-bingz@nvidia.com> References: <20250521172333.12859-1-bingz@nvidia.com> Content-Type: text/plain X-BeenThere: test-report@dpdk.org X-Mailman-Version: 2.1.29 Precedence: list List-Id: automatic DPDK test reports List-Unsubscribe: , List-Archive: List-Post: List-Help: List-Subscribe: , Errors-To: test-report-bounces@dpdk.org Test-Label: iol-compile-arm64-testing Test-Status: SUCCESS http://dpdk.org/patch/153575 _Testing PASS_ Submitter: Bing Zhao Date: Wednesday, May 21 2025 17:23:33 DPDK git baseline: Repo:dpdk Branch: master CommitID:117e86c4b96ed761e9a7ab766261208fe81bf5ca 153575 --> testing pass Upstream job id: Generic-DPDK-Compile-Meson#390170 Test environment and result as below: +----------------------------------------+--------------------+ | Environment | dpdk_meson_compile | +========================================+====================+ | RHEL9 (ARM) | PASS | +----------------------------------------+--------------------+ | Fedora 40 (ARM) | PASS | +----------------------------------------+--------------------+ | Fedora 40 (ARM Clang) | PASS | +----------------------------------------+--------------------+ | Debian 12 with MUSDK | PASS | +----------------------------------------+--------------------+ | Ubuntu 20.04 ARM GCC Cross Compile | PASS | +----------------------------------------+--------------------+ | Ubuntu 20.04 ARM SVE | PASS | +----------------------------------------+--------------------+ | Fedora 41 (ARM) | PASS | +----------------------------------------+--------------------+ | Fedora 41 (ARM Clang) | PASS | +----------------------------------------+--------------------+ | Ubuntu 20.04 (ARM) | PASS | +----------------------------------------+--------------------+ | Ubuntu 22.04 (ARM) | PASS | +----------------------------------------+--------------------+ | Ubuntu 24.04 (ARM) | PASS | +----------------------------------------+--------------------+ | CentOS Stream 9 (ARM) | PASS | +----------------------------------------+--------------------+ | CentOS Stream 10 (ARM) | PASS | +----------------------------------------+--------------------+ | Ubuntu 20.04 ARM Clang Cross Compile | PASS | +----------------------------------------+--------------------+ | Debian 12 (arm) | PASS | +----------------------------------------+--------------------+ | Ubuntu 20.04 aarch32 GCC Cross Compile | PASS | +----------------------------------------+--------------------+ RHEL9 (ARM) Kernel: Depends on container host Compiler: gcc 11.5.0 20240719 (Red Hat 11.5.0-2) Fedora 40 (ARM) Kernel: Depends on container host Compiler: gcc 14.2.1 20240912 (Red Hat 14.2.1-3) Fedora 40 (ARM Clang) Kernel: Depends on container host Compiler: clang 18.1.8 (Fedora 18.1.8-1.fc40) Debian 12 with MUSDK Kernel: Depends on container host Compiler: gcc (Debian 12.2.0-14) 12.2.0 Ubuntu 20.04 ARM GCC Cross Compile Kernel: Depends on container host Compiler: aarch64-linux-gnu-gcc (Ubuntu 9.4.0-1ubuntu1~20.04.2) 9.4.0 Ubuntu 20.04 ARM SVE Kernel: Depends on container host Compiler: gcc (Ubuntu 10.5.0-1ubuntu1~20.04) 10.5.0 Fedora 41 (ARM) Kernel: Depends on container host Compiler: gcc 14.2.1 20240912 (Red Hat 14.2.1-3) Fedora 41 (ARM Clang) Kernel: Depends on container host Compiler: clang 19.1.5 (Fedora 19.1.5-1.fc41) Ubuntu 20.04 (ARM) Kernel: Depends on container host Compiler: gcc (Ubuntu 9.4.0-1ubuntu1~20.04.2) 9.4.0 Ubuntu 22.04 (ARM) Kernel: Depends on container host Compiler: gcc (Ubuntu 11.4.0-1ubuntu1~22.04) 11.4.0 Ubuntu 24.04 (ARM) Kernel: Depends on container host Compiler: gcc (Ubuntu 13.3.0-6ubuntu2~24.04) 13.3.0 CentOS Stream 9 (ARM) Kernel: Depends on container host Compiler: gcc 11.5.0 20240719 (Red Hat 11.5.0-2) CentOS Stream 10 (ARM) Kernel: Depends on container host Compiler: gcc 14.2.1 20241104 (Red Hat 14.2.1-6) Ubuntu 20.04 ARM Clang Cross Compile Kernel: Depends on container host Compiler: clang 10.0.0-4ubuntu1 Debian 12 (arm) Kernel: Depends on container host Compiler: gcc (Debian 12.2.0-14) 12.2.0 Ubuntu 20.04 aarch32 GCC Cross Compile Kernel: Depends on container host Compiler: gcc 9.4.0 To view detailed results, visit: https://lab.dpdk.org/results/dashboard/patchsets/33225/ UNH-IOL DPDK Community Lab To manage your email subscriptions, visit: https://lab.dpdk.org/results/dashboard/preferences/subscriptions/