From mboxrd@z Thu Jan 1 00:00:00 1970 Return-Path: Received: from mails.dpdk.org (mails.dpdk.org [217.70.189.124]) by inbox.dpdk.org (Postfix) with ESMTP id 9C7AC467AB for ; Thu, 22 May 2025 00:34:36 +0200 (CEST) Received: from mails.dpdk.org (localhost [127.0.0.1]) by mails.dpdk.org (Postfix) with ESMTP id 5589342E56; Thu, 22 May 2025 00:34:36 +0200 (CEST) Received: from mail-io1-f100.google.com (mail-io1-f100.google.com [209.85.166.100]) by mails.dpdk.org (Postfix) with ESMTP id 3B1BD40ED1 for ; Thu, 22 May 2025 00:34:35 +0200 (CEST) Received: by mail-io1-f100.google.com with SMTP id ca18e2360f4ac-86135ad7b4cso396413439f.1 for ; Wed, 21 May 2025 15:34:35 -0700 (PDT) DKIM-Signature: v=1; a=rsa-sha256; c=relaxed/relaxed; d=iol.unh.edu; s=unh-iol; t=1747866874; x=1748471674; darn=dpdk.org; h=references:in-reply-to:cc:to:from:subject:message-id:date:from:to :cc:subject:date:message-id:reply-to; bh=J+UPJB5BhYhck6jvMxY4Y+z2vODZqJpKXZoyvybIIfU=; b=hZR8HA1AvxYiS7ID/3W9sa1WjPW5ABuyMF3NmD4hAEXC/oaYux7c+cH/6A1LrnSYnG 7a8OoTupFD+rSrhz/pBMn3kGE8S9tA0gTGrFX1u57+ifOgAJmsWCwgxh7ySKtauXBiRm AkLO4cRJMrjXgjioVSllr/FlUIizgLsRdZb0k= X-Google-DKIM-Signature: v=1; a=rsa-sha256; c=relaxed/relaxed; d=1e100.net; s=20230601; t=1747866874; x=1748471674; h=references:in-reply-to:cc:to:from:subject:message-id:date :x-gm-message-state:from:to:cc:subject:date:message-id:reply-to; bh=J+UPJB5BhYhck6jvMxY4Y+z2vODZqJpKXZoyvybIIfU=; b=b1hb8OD7X06GZY9F/6xz88q7aIowrTYkP7KR9+jhbnIjlldaEy2xaW6x7QodDsumo+ gcaYj9U5QGx5RdNiy6fHNMS4t7lc74LwU5LSGdWw/GkM9mEEoVaVufdSU9Mhpe1D4H4n OaMnTZJfgGFwLM3mJeNHfZTbtEPJ7HJNtbTXXi1V/8OPxbx+xhqBcMmHPwv3DT2YBuNn CLwNFPGOpmOoCLP9fPg5N8jdbBpdhtP3cAjGs7fYbpElo7JhJoRpApnrCGDUBNORAa+v SqRzBM2F4s6mwRBqWyNYFS2ebRxa/KstXNTcIAHaII4XpRku/zQxn+bWL/AYsWnE1etv CVGw== X-Gm-Message-State: AOJu0YxdZ+wGKH6uCu5R02yX/lDOrwJWEKddYAArVKJUT/HSYLTorMC7 acdkOYB58yi64ipmqfhCv9gG1hkyBqJ+ymh+k3RZNCb8cAary0PX0W+htywoDvYTbDOMQY1Kjee lSUv+3hl6p3tz2qdUJniiCB5I9c05Me5iC1vLv9XU1lfx X-Gm-Gg: ASbGnctemBQGn9Y5KGIgpbmQAVIULubYTdsWnJAFSO9eF9gxlIen7jYn128yG50tkjv VnJEbrlma9ZfftWRey9Z+esvid/WSG88iOXytcyHIpFT1ARw+yTvgpBWS3NAWydss+22Vj4EsCU In4LsaLAv24/ak9zBJtWLxneGom5qA9BkvumlqWv1RKYjwwR0psnQVW5mwnypsRjM+mk0DAloI3 Vdasbl0a2uW6n3+Gu0/ovrSS1mwnxyRrVIrJDb82SsZi++N+1vXtLz6T6nVUKzjMGud9Q9NgsF7 AQCAFhv11KJ3ODPf754MdIZ+kFpoScekjWZCk2iI0Tlt8BM7/9rD6WMbIK8= X-Google-Smtp-Source: AGHT+IF2woUP1klSJ/kEBXKUyZpWL07E1CER5WKF7k5cYeeMdzXd/GZ6VABSTq083bKSMobaocuazbosEf0B X-Received: by 2002:a05:6e02:1fcc:b0:3dc:88ca:5ea9 with SMTP id e9e14a558f8ab-3dc88ca5ff8mr33755465ab.10.1747866874432; Wed, 21 May 2025 15:34:34 -0700 (PDT) Received: from postal.iol.unh.edu (postal.iol.unh.edu. [132.177.123.84]) by smtp-relay.gmail.com with ESMTPS id e9e14a558f8ab-3dc861d735esm1039585ab.49.2025.05.21.15.34.34 (version=TLS1_2 cipher=ECDHE-ECDSA-AES128-GCM-SHA256 bits=128/128); Wed, 21 May 2025 15:34:34 -0700 (PDT) X-Relaying-Domain: iol.unh.edu Date: Wed, 21 May 2025 15:34:34 -0700 (PDT) Message-ID: <682e54fa.050a0220.28a2eb.57d1SMTPIN_ADDED_MISSING@mx.google.com> Received: from [172.21.0.5] (unknown [172.18.0.240]) by postal.iol.unh.edu (Postfix) with ESMTP id E0E8C6052471; Wed, 21 May 2025 18:34:33 -0400 (EDT) Subject: |SUCCESS| pw153576-153578 [PATCH] [v2,3/3] dts: add flow validation From: dpdklab@iol.unh.edu To: Test Report Cc: dpdk-test-reports@iol.unh.edu In-Reply-To: <20250521192629.294265-3-dmarx@iol.unh.edu> References: <20250521192629.294265-3-dmarx@iol.unh.edu> Content-Type: text/plain X-BeenThere: test-report@dpdk.org X-Mailman-Version: 2.1.29 Precedence: list List-Id: automatic DPDK test reports List-Unsubscribe: , List-Archive: List-Post: List-Help: List-Subscribe: , Errors-To: test-report-bounces@dpdk.org Test-Label: iol-abi-testing Test-Status: SUCCESS http://dpdk.org/patch/153578 _Testing PASS_ Submitter: Dean Marx Date: Wednesday, May 21 2025 19:26:29 DPDK git baseline: Repo:dpdk Branch: master CommitID:1aef42bc97a31906486c9d66b792208948af06f3 153576-153578 --> testing pass Upstream job id: Generic-DPDK-Compile-ABI#127251 Test environment and result as below: +-------------------+----------+ | Environment | abi_test | +===================+==========+ | CentOS Stream 9 | PASS | +-------------------+----------+ | CentOS Stream 10 | PASS | +-------------------+----------+ | Debian 12 | PASS | +-------------------+----------+ | Fedora 40 (Clang) | PASS | +-------------------+----------+ | Fedora 40 | PASS | +-------------------+----------+ | openSUSE Leap 15 | PASS | +-------------------+----------+ | Fedora 41 | PASS | +-------------------+----------+ | RHEL8 | PASS | +-------------------+----------+ | Ubuntu 22.04 | PASS | +-------------------+----------+ | Ubuntu 24.04 | PASS | +-------------------+----------+ | RHEL9 | PASS | +-------------------+----------+ | Fedora 41 (Clang) | PASS | +-------------------+----------+ CentOS Stream 9 Kernel: Depends on container host Compiler: gcc 11.5.0 20240719 (Red Hat 11.5.0-2) CentOS Stream 10 Kernel: Depends on container host Compiler: gcc 14.2.1 20241104 (Red Hat 14.2.1-6) Debian 12 Kernel: Depends on container host Compiler: gcc (Debian 12.2.0-14) 12.2.0 Fedora 40 (Clang) Kernel: Depends on container host Compiler: clang 18.1.8 (Fedora 18.1.8-1.fc40) Fedora 40 Kernel: Depends on container host Compiler: gcc 14.2.1 20240912 (Red Hat 14.2.1-3) openSUSE Leap 15 Kernel: Depends on container host Compiler: gcc (SUSE Linux) 7.5.0 Fedora 41 Kernel: Depends on container host Compiler: gcc 14.2.1 20240912 (Red Hat 14.2.1-3) RHEL8 Kernel: Depends on container host Compiler: gcc 8.5.0 20210514 (Red Hat 8.5.0-22) Ubuntu 22.04 Kernel: Depends on container host Compiler: gcc (Ubuntu 11.4.0-1ubuntu1~22.04) 11.4.0 Ubuntu 24.04 Kernel: Depends on container host Compiler: gcc (Ubuntu 13.3.0-6ubuntu2~24.04) 13.3.0 RHEL9 Kernel: Depends on container host Compiler: gcc 11.5.0 20240719 (Red Hat 11.5.0-2) Fedora 41 (Clang) Kernel: Depends on container host Compiler: clang 19.1.5 (Fedora 19.1.5-1.fc41) To view detailed results, visit: https://lab.dpdk.org/results/dashboard/patchsets/33226/ UNH-IOL DPDK Community Lab To manage your email subscriptions, visit: https://lab.dpdk.org/results/dashboard/preferences/subscriptions/