From mboxrd@z Thu Jan 1 00:00:00 1970 Return-Path: Received: from mails.dpdk.org (mails.dpdk.org [217.70.189.124]) by inbox.dpdk.org (Postfix) with ESMTP id D1D22467AB for ; Thu, 22 May 2025 00:49:22 +0200 (CEST) Received: from mails.dpdk.org (localhost [127.0.0.1]) by mails.dpdk.org (Postfix) with ESMTP id B0E3B42E56; Thu, 22 May 2025 00:49:22 +0200 (CEST) Received: from mail-pg1-f227.google.com (mail-pg1-f227.google.com [209.85.215.227]) by mails.dpdk.org (Postfix) with ESMTP id B998740ED1 for ; Thu, 22 May 2025 00:49:21 +0200 (CEST) Received: by mail-pg1-f227.google.com with SMTP id 41be03b00d2f7-ae727e87c26so4522863a12.0 for ; Wed, 21 May 2025 15:49:21 -0700 (PDT) DKIM-Signature: v=1; a=rsa-sha256; c=relaxed/relaxed; d=iol.unh.edu; s=unh-iol; t=1747867761; x=1748472561; darn=dpdk.org; h=references:in-reply-to:cc:to:from:subject:message-id:date:from:to :cc:subject:date:message-id:reply-to; bh=S/vyOHDQB+xHG7JonU3m67VesWJJ8CmynzSzwzZA5+Y=; b=SK1sED1s97MZZJER11lHVS7Xlt6UNGWjBbemUPQ0WLUcu5AJDkBqh98P/g8PbAQwTu pMTC67XTwjuyPAWPKlcGKDVpfSvZVVFnF1nUwDdv+qIHISuhGtFpcKa44nMI5q6Ezzy3 SikU3oqs6HQyslZTperVsjg7LWxO1eJvMFboM= X-Google-DKIM-Signature: v=1; a=rsa-sha256; c=relaxed/relaxed; d=1e100.net; s=20230601; t=1747867761; x=1748472561; h=references:in-reply-to:cc:to:from:subject:message-id:date :x-gm-message-state:from:to:cc:subject:date:message-id:reply-to; bh=S/vyOHDQB+xHG7JonU3m67VesWJJ8CmynzSzwzZA5+Y=; b=BtzupWyUgQnkqcMPqY12wNtncU8yuGS+UZl/E8vqvNAXv51x3f4EWwUsi+YC5p28Hd M/ZD3lxgbWF+3oVdaRi2e3jfIlKlkxRYONPNZ+YFArwgRb/mykPnZmHRwJ2RAa6eVHGS v62EtVD5F5sneEcoq97lvEKC/rgA5N3vkacPR9o8dlgOkod9lTD2rC6jVjUHb7yiL7GL jWlC3r8jYXYGvDYGxN2PLafVD1o4x/bdRKpDa1/C6+kLgDKHM8+AB+cR5mswA/KVXEZC 5JgJX/SAqnwxq8k2s96+YQOfqOmlonnNWJZX7tW6SUraN/CM3i3xLRN3CFqbq7B6aN4c +j7g== X-Gm-Message-State: AOJu0YwZQqBM1Le7JOFfNWIiXbDZ49wB8B2JGpSHqfK/IF6ry1LjxzWg 2yuIBnMXUKOOJxtmxaKT7pbXWnFl/GTin3O41l4vMgTQaVBgi3zADUHyFKrp/4t451ONiKxYXY0 aeaZ1WnarJCgrZYSUl1Bdmquf+xbtel0Pcb5ybw3NuKHG1QSEg6q7HDwnbBSR X-Gm-Gg: ASbGncuY8LM/yIR8HZ5kHzqzDHNkchZNZwZ0js0AHcGgNGa/Wnr1einIz6EHxIPFXZh TiS8LA53kDPZ3NOoQ8QnjZmI4ijbSQdirhP31kT7wcEkcYsAmVYBOoaxo+eNrKd7ejjCB9kOuoy HYQh86wgZG5mx5SghVLKA7Hk7cWT2Sx7gm53t5yqqrcqxb8fBZrAcZ7ts8FYRCJHagOWR72gCmm kzZ4QZ1uMYWjPHOBUEg5BRN34W8dmU3mpJCAwhBOlFtk0AnJlmsqaUXy2iJ6PlWTz03Y3qx+61W y3lxzLXRMOrvMiyLa+uacufDWhWFeMe09gLJ X-Google-Smtp-Source: AGHT+IHxXF+qbhuow5dI7Qx9UFCPEJ1B8KS2S0FjDATVuDPlyx693MC1r0ObRhwLuWsbYbkifeMIZyvWxKbu X-Received: by 2002:a17:902:ccc1:b0:224:76f:9e4a with SMTP id d9443c01a7336-231d43a15a5mr318652315ad.14.1747867760681; Wed, 21 May 2025 15:49:20 -0700 (PDT) Received: from postal.iol.unh.edu (postal.iol.unh.edu. [2606:4100:3880:1234::84]) by smtp-relay.gmail.com with ESMTPS id d9443c01a7336-231d4aa7477sm6531485ad.13.2025.05.21.15.49.20 (version=TLS1_2 cipher=ECDHE-ECDSA-AES128-GCM-SHA256 bits=128/128); Wed, 21 May 2025 15:49:20 -0700 (PDT) X-Relaying-Domain: iol.unh.edu Date: Wed, 21 May 2025 15:49:20 -0700 (PDT) Message-ID: <682e5870.170a0220.2cced6.2cb3SMTPIN_ADDED_MISSING@mx.google.com> Received: from [172.21.0.5] (unknown [172.18.0.240]) by postal.iol.unh.edu (Postfix) with ESMTP id DC6D46052471; Wed, 21 May 2025 18:49:19 -0400 (EDT) Subject: |WARNING| pw153576-153578 [PATCH] [v2,3/3] dts: add flow validation From: dpdklab@iol.unh.edu To: Test Report Cc: dpdk-test-reports@iol.unh.edu In-Reply-To: <20250521192629.294265-3-dmarx@iol.unh.edu> References: <20250521192629.294265-3-dmarx@iol.unh.edu> Content-Type: text/plain X-BeenThere: test-report@dpdk.org X-Mailman-Version: 2.1.29 Precedence: list List-Id: automatic DPDK test reports List-Unsubscribe: , List-Archive: List-Post: List-Help: List-Subscribe: , Errors-To: test-report-bounces@dpdk.org Test-Label: iol-compile-amd64-testing Test-Status: WARNING http://dpdk.org/patch/153578 _Testing issues_ Submitter: Dean Marx Date: Wednesday, May 21 2025 19:26:29 DPDK git baseline: Repo:dpdk Branch: master CommitID:1aef42bc97a31906486c9d66b792208948af06f3 153576-153578 --> testing issues Upstream job id: Generic-DPDK-Compile-Meson#390227 Test environment and result as below: +-----------------------------------+-------------------------+--------------------+-------------------+-------------------+------------------+----------------------+ | Environment | dpdk_llvm_clang_compile | dpdk_meson_compile | dpdk_msvc_compile | dpdk_compile_spdk | dpdk_compile_ovs | dpdk_mingw64_compile | +===================================+=========================+====================+===================+===================+==================+======================+ | Windows Server 2022 | PASS | SKIPPED | PASS | SKIPPED | SKIPPED | PASS | +-----------------------------------+-------------------------+--------------------+-------------------+-------------------+------------------+----------------------+ | Ubuntu 20.04 | SKIPPED | PEND | SKIPPED | SKIPPED | SKIPPED | SKIPPED | +-----------------------------------+-------------------------+--------------------+-------------------+-------------------+------------------+----------------------+ | FreeBSD 14.2 | SKIPPED | PASS | SKIPPED | SKIPPED | SKIPPED | SKIPPED | +-----------------------------------+-------------------------+--------------------+-------------------+-------------------+------------------+----------------------+ | CentOS Stream 9 | SKIPPED | PEND | SKIPPED | PEND | SKIPPED | SKIPPED | +-----------------------------------+-------------------------+--------------------+-------------------+-------------------+------------------+----------------------+ | CentOS Stream 10 | SKIPPED | PASS | SKIPPED | SKIPPED | SKIPPED | SKIPPED | +-----------------------------------+-------------------------+--------------------+-------------------+-------------------+------------------+----------------------+ | Debian 12 | SKIPPED | PEND | SKIPPED | PEND | SKIPPED | SKIPPED | +-----------------------------------+-------------------------+--------------------+-------------------+-------------------+------------------+----------------------+ | Fedora 40 (Clang) | SKIPPED | PASS | SKIPPED | WARN | SKIPPED | SKIPPED | +-----------------------------------+-------------------------+--------------------+-------------------+-------------------+------------------+----------------------+ | Fedora 40 | SKIPPED | PEND | SKIPPED | PEND | SKIPPED | SKIPPED | +-----------------------------------+-------------------------+--------------------+-------------------+-------------------+------------------+----------------------+ | Fedora 41 (Clang) | SKIPPED | PEND | SKIPPED | PEND | PEND | SKIPPED | +-----------------------------------+-------------------------+--------------------+-------------------+-------------------+------------------+----------------------+ | Fedora 41 | SKIPPED | PEND | SKIPPED | PEND | PEND | SKIPPED | +-----------------------------------+-------------------------+--------------------+-------------------+-------------------+------------------+----------------------+ | openSUSE Leap 15 | SKIPPED | PEND | SKIPPED | SKIPPED | SKIPPED | SKIPPED | +-----------------------------------+-------------------------+--------------------+-------------------+-------------------+------------------+----------------------+ | RHEL8 | SKIPPED | PEND | SKIPPED | SKIPPED | SKIPPED | SKIPPED | +-----------------------------------+-------------------------+--------------------+-------------------+-------------------+------------------+----------------------+ | RHEL9 | SKIPPED | PEND | SKIPPED | SKIPPED | SKIPPED | SKIPPED | +-----------------------------------+-------------------------+--------------------+-------------------+-------------------+------------------+----------------------+ | Ubuntu 22.04 | SKIPPED | PEND | SKIPPED | PEND | SKIPPED | SKIPPED | +-----------------------------------+-------------------------+--------------------+-------------------+-------------------+------------------+----------------------+ | Ubuntu 24.04 | SKIPPED | PEND | SKIPPED | PEND | PEND | SKIPPED | +-----------------------------------+-------------------------+--------------------+-------------------+-------------------+------------------+----------------------+ | Alpine | SKIPPED | PEND | SKIPPED | SKIPPED | SKIPPED | SKIPPED | +-----------------------------------+-------------------------+--------------------+-------------------+-------------------+------------------+----------------------+ | Ubuntu 24.04 32 Bit Cross Compile | SKIPPED | PEND | SKIPPED | SKIPPED | SKIPPED | SKIPPED | +-----------------------------------+-------------------------+--------------------+-------------------+-------------------+------------------+----------------------+ ==== 20 line log output for Fedora 40 (Clang) (dpdk_compile_spdk): ==== --- Failed to get log output --- ==== End log output ==== Windows Server 2022 Kernel: 10.0.20348.2031 Compiler: clang 15.0.7, gcc 14.1.0 (MinGW), and MSVC VS 19.39.33521 Ubuntu 20.04 Kernel: 4.19.325-0419325-generic Compiler: gcc (Ubuntu 9.4.0-1ubuntu1~20.04.2) 9.4.0 FreeBSD 14.2 Kernel: 14.2-RELEASE Compiler: clang 18.1.6 CentOS Stream 9 Kernel: Depends on container host Compiler: gcc 11.5.0 20240719 (Red Hat 11.5.0-2) CentOS Stream 10 Kernel: Depends on container host Compiler: gcc 14.2.1 20241104 (Red Hat 14.2.1-6) Debian 12 Kernel: Depends on container host Compiler: gcc (Debian 12.2.0-14) 12.2.0 Fedora 40 (Clang) Kernel: Depends on container host Compiler: clang 18.1.8 (Fedora 18.1.8-1.fc40) Fedora 40 Kernel: Depends on container host Compiler: gcc 14.2.1 20240912 (Red Hat 14.2.1-3) Fedora 41 (Clang) Kernel: Depends on container host Compiler: clang 19.1.5 (Fedora 19.1.5-1.fc41) Fedora 41 Kernel: Depends on container host Compiler: gcc 14.2.1 20240912 (Red Hat 14.2.1-3) openSUSE Leap 15 Kernel: Depends on container host Compiler: gcc (SUSE Linux) 7.5.0 RHEL8 Kernel: Depends on container host Compiler: gcc 8.5.0 20210514 (Red Hat 8.5.0-22) RHEL9 Kernel: Depends on container host Compiler: gcc 11.5.0 20240719 (Red Hat 11.5.0-2) Ubuntu 22.04 Kernel: Depends on container host Compiler: gcc (Ubuntu 11.4.0-1ubuntu1~22.04) 11.4.0 Ubuntu 24.04 Kernel: Depends on container host Compiler: gcc (Ubuntu 13.3.0-6ubuntu2~24.04) 13.3.0 Alpine Kernel: Depends on container host Compiler: gcc (Alpine 14.2.0) 14.2.0 Ubuntu 24.04 32 Bit Cross Compile Kernel: Depends on container host Compiler: gcc (Ubuntu 13.3.0-6ubuntu2~24.04) 13.3.0 To view detailed results, visit: https://lab.dpdk.org/results/dashboard/patchsets/33226/ UNH-IOL DPDK Community Lab To manage your email subscriptions, visit: https://lab.dpdk.org/results/dashboard/preferences/subscriptions/