From mboxrd@z Thu Jan 1 00:00:00 1970 Return-Path: Received: from mails.dpdk.org (mails.dpdk.org [217.70.189.124]) by inbox.dpdk.org (Postfix) with ESMTP id 8366A467AB for ; Thu, 22 May 2025 01:09:24 +0200 (CEST) Received: from mails.dpdk.org (localhost [127.0.0.1]) by mails.dpdk.org (Postfix) with ESMTP id 608A940ED1; Thu, 22 May 2025 01:09:24 +0200 (CEST) Received: from mail-io1-f98.google.com (mail-io1-f98.google.com [209.85.166.98]) by mails.dpdk.org (Postfix) with ESMTP id 56334402B2 for ; Thu, 22 May 2025 01:09:23 +0200 (CEST) Received: by mail-io1-f98.google.com with SMTP id ca18e2360f4ac-85e73562577so779456739f.0 for ; Wed, 21 May 2025 16:09:23 -0700 (PDT) DKIM-Signature: v=1; a=rsa-sha256; c=relaxed/relaxed; d=iol.unh.edu; s=unh-iol; t=1747868962; x=1748473762; darn=dpdk.org; h=references:in-reply-to:cc:to:from:subject:message-id:date:from:to :cc:subject:date:message-id:reply-to; bh=F7H+BT4/E9Gqlw9okBPxXgCNisKA/8VRQBYWMBuM6iM=; b=VUgnf3ZttDnG9VDU8iboMzo9f0ufnbIiL8Ppo2BZLsUfNoVowdGRKjJo1U3gMAtWNm axjx/SaOO45A+vMbcX2I4p/mE9OOi5Sw2UzrTbphZZGuXJSYKtre+gn+9fXfoiwT9bkH oEreo5tLMzz4hMPPWzvE8hNfvZ51MR2NkcqgI= X-Google-DKIM-Signature: v=1; a=rsa-sha256; c=relaxed/relaxed; d=1e100.net; s=20230601; t=1747868962; x=1748473762; h=references:in-reply-to:cc:to:from:subject:message-id:date :x-gm-message-state:from:to:cc:subject:date:message-id:reply-to; bh=F7H+BT4/E9Gqlw9okBPxXgCNisKA/8VRQBYWMBuM6iM=; b=p2fSole9urqov05vvwnZkx1Pm3ynFn9gYNN4y5VgPQbvBsGoX/qHbjtMU0++qNfCXC tLuoPrTpWbHsRshfAIZVRtKWPKOPavs+GMzDmVWXEMiDRrRf6LIR30sZL9CPGLu8OlM1 hvKsr1LITSZZrk0lUOmsXEZwuaYOLfh6HcnKN8cyjK3s4YGyIVYt0hVQBW9zlkEKFRqd vTMP9xuFj41CDEDgl312NHiDR2wC/YVXf3CGHhbtFWtw5OCns6suQDO7r8LYc0dMnXPh 19nUwuUEr31rNbeoXgdCH/r0hC7Ij30y4EC0XbRTFf8/RELKDy+Xt7AAetAbJK0e4Vxo 2vWw== X-Gm-Message-State: AOJu0YwxhweT2NR6c9scMmfNfdgk3Od5oYXp3tTZreTqizaFbNEa9bq2 8l4gfj/pw6UmFVtABMHvS7jnFz8nUIRQcTbJJXbA/13CEp07lCUnGZs8b0uUKxAprfdzj1+tydp oTm26sagunKH5/5P/CQBXzc5k1RKU6c0LPCOGFLqj3I6LTDAxM+zQFRuk+gRK X-Gm-Gg: ASbGncuRWPORcdpGc0/JZ8Dt/hb9YGwa2rB6zcya7D0OZSpHaiza1vikeKx75BPnM8X fFREneyJswuVfcPt20VTtIaH5biHq40tMKkDOcqOwyfuY2DFJhTV/PHPEClF6sytfAxvtb2tEQ6 pZSSxV+6Ssku0se3/P2XuUdno1lUZp+b2aAkad8GMprbjmNBotIzfBp5JQcNynw1irqibXQajCJ 9D58FJl+V0ltMtXWa2a1gQ54zYb5AQwnN11SF7n2F+yjhQ+myo4YaqD482vj78itlzsFAHZjNDE 7+wlzawuS3TLoGzALZWOrlZImMF1krC2bG7y X-Google-Smtp-Source: AGHT+IEC2cYoIVhp77sm1hPAZoUMn3JReXfnZ+Z1V2W8IfQ7dznNlclgxtB6RvaO/gSWfWI3t6Od+Ossxbcy X-Received: by 2002:a05:6e02:1d89:b0:3dc:7a6d:1e28 with SMTP id e9e14a558f8ab-3dc7a6d1f9amr103992525ab.7.1747868962482; Wed, 21 May 2025 16:09:22 -0700 (PDT) Received: from postal.iol.unh.edu (postal.iol.unh.edu. [2606:4100:3880:1234::84]) by smtp-relay.gmail.com with ESMTPS id e9e14a558f8ab-3dc7c61f3efsm2219335ab.8.2025.05.21.16.09.22 (version=TLS1_2 cipher=ECDHE-ECDSA-AES128-GCM-SHA256 bits=128/128); Wed, 21 May 2025 16:09:22 -0700 (PDT) X-Relaying-Domain: iol.unh.edu Date: Wed, 21 May 2025 16:09:22 -0700 (PDT) Message-ID: <682e5d22.050a0220.197c1c.be15SMTPIN_ADDED_MISSING@mx.google.com> Received: from [172.21.0.6] (unknown [172.18.0.240]) by postal.iol.unh.edu (Postfix) with ESMTP id F2B8D6052471; Wed, 21 May 2025 19:09:21 -0400 (EDT) Subject: |SUCCESS| pw153574 [PATCH] [v1] net/virtio-user: implement MAC setti From: dpdklab@iol.unh.edu To: Test Report Cc: dpdk-test-reports@iol.unh.edu In-Reply-To: <20250521142305.343264-1-maxime.coquelin@redhat.com> References: <20250521142305.343264-1-maxime.coquelin@redhat.com> Content-Type: text/plain X-BeenThere: test-report@dpdk.org X-Mailman-Version: 2.1.29 Precedence: list List-Id: automatic DPDK test reports List-Unsubscribe: , List-Archive: List-Post: List-Help: List-Subscribe: , Errors-To: test-report-bounces@dpdk.org Test-Label: iol-unit-arm64-testing Test-Status: SUCCESS http://dpdk.org/patch/153574 _Testing PASS_ Submitter: Maxime Coquelin Date: Wednesday, May 21 2025 14:23:05 DPDK git baseline: Repo:dpdk Branch: master CommitID:3223019e73391066cbb0d248051b163e5373034c 153574 --> testing pass Upstream job id: Generic-Unit-Test-DPDK#339700 Test environment and result as below: +-----------------------------+----------------+---------------------------+--------------+------------------------------+ | Environment | dpdk_unit_test | cryptodev_sw_zuc_autotest | lpm_autotest | cryptodev_sw_snow3g_autotest | +=============================+================+===========================+==============+==============================+ | Debian 12 (arm) | PASS | PASS | SKIPPED | PASS | +-----------------------------+----------------+---------------------------+--------------+------------------------------+ | RHEL9 (ARM) | PASS | SKIPPED | SKIPPED | SKIPPED | +-----------------------------+----------------+---------------------------+--------------+------------------------------+ | CentOS Stream 10 (ARM) | PASS | SKIPPED | SKIPPED | SKIPPED | +-----------------------------+----------------+---------------------------+--------------+------------------------------+ | CentOS Stream 9 (ARM) | PASS | SKIPPED | SKIPPED | SKIPPED | +-----------------------------+----------------+---------------------------+--------------+------------------------------+ | Ubuntu 20.04 (ARM) | PASS | SKIPPED | SKIPPED | SKIPPED | +-----------------------------+----------------+---------------------------+--------------+------------------------------+ | Fedora 40 (ARM) | PASS | SKIPPED | SKIPPED | SKIPPED | +-----------------------------+----------------+---------------------------+--------------+------------------------------+ | Fedora 40 (ARM Clang) | PASS | SKIPPED | SKIPPED | SKIPPED | +-----------------------------+----------------+---------------------------+--------------+------------------------------+ | Fedora 41 (ARM) | PASS | SKIPPED | SKIPPED | SKIPPED | +-----------------------------+----------------+---------------------------+--------------+------------------------------+ | Ubuntu 22.04 (ARM) | PASS | SKIPPED | SKIPPED | SKIPPED | +-----------------------------+----------------+---------------------------+--------------+------------------------------+ | Fedora 41 (ARM Clang) | PASS | SKIPPED | SKIPPED | SKIPPED | +-----------------------------+----------------+---------------------------+--------------+------------------------------+ | Ubuntu 24.04 (ARM) | PASS | SKIPPED | SKIPPED | SKIPPED | +-----------------------------+----------------+---------------------------+--------------+------------------------------+ | 32-bit Ubuntu 22.04.4 (ARM) | PASS | SKIPPED | SKIPPED | SKIPPED | +-----------------------------+----------------+---------------------------+--------------+------------------------------+ | Ubuntu 20.04 ARM SVE | SKIPPED | SKIPPED | PASS | SKIPPED | +-----------------------------+----------------+---------------------------+--------------+------------------------------+ Debian 12 (arm) Kernel: Depends on container host Compiler: gcc (Debian 12.2.0-14) 12.2.0 RHEL9 (ARM) Kernel: Depends on container host Compiler: gcc 11.5.0 20240719 (Red Hat 11.5.0-2) CentOS Stream 10 (ARM) Kernel: Depends on container host Compiler: gcc 14.2.1 20241104 (Red Hat 14.2.1-6) CentOS Stream 9 (ARM) Kernel: Depends on container host Compiler: gcc 11.5.0 20240719 (Red Hat 11.5.0-2) Ubuntu 20.04 (ARM) Kernel: Depends on container host Compiler: gcc (Ubuntu 9.4.0-1ubuntu1~20.04.2) 9.4.0 Fedora 40 (ARM) Kernel: Depends on container host Compiler: gcc 14.2.1 20240912 (Red Hat 14.2.1-3) Fedora 40 (ARM Clang) Kernel: Depends on container host Compiler: clang 18.1.8 (Fedora 18.1.8-1.fc40) Fedora 41 (ARM) Kernel: Depends on container host Compiler: gcc 14.2.1 20240912 (Red Hat 14.2.1-3) Ubuntu 22.04 (ARM) Kernel: Depends on container host Compiler: gcc (Ubuntu 11.4.0-1ubuntu1~22.04) 11.4.0 Fedora 41 (ARM Clang) Kernel: Depends on container host Compiler: clang 19.1.5 (Fedora 19.1.5-1.fc41) Ubuntu 24.04 (ARM) Kernel: Depends on container host Compiler: gcc (Ubuntu 13.3.0-6ubuntu2~24.04) 13.3.0 32-bit Ubuntu 22.04.4 (ARM) Kernel: 5.15.83+ aarch64 Compiler: gcc (Ubuntu 11.4.0-1ubuntu1~22.04) 11.4.0 Ubuntu 20.04 ARM SVE Kernel: Depends on container host Compiler: gcc (Ubuntu 10.5.0-1ubuntu1~20.04) 10.5.0 To view detailed results, visit: https://lab.dpdk.org/results/dashboard/patchsets/33224/ UNH-IOL DPDK Community Lab To manage your email subscriptions, visit: https://lab.dpdk.org/results/dashboard/preferences/subscriptions/