From mboxrd@z Thu Jan 1 00:00:00 1970 Return-Path: Received: from mails.dpdk.org (mails.dpdk.org [217.70.189.124]) by inbox.dpdk.org (Postfix) with ESMTP id 762E8467AB for ; Thu, 22 May 2025 01:09:29 +0200 (CEST) Received: from mails.dpdk.org (localhost [127.0.0.1]) by mails.dpdk.org (Postfix) with ESMTP id 72C6940ED1; Thu, 22 May 2025 01:09:29 +0200 (CEST) Received: from mail-pl1-f227.google.com (mail-pl1-f227.google.com [209.85.214.227]) by mails.dpdk.org (Postfix) with ESMTP id 14083402B2 for ; Thu, 22 May 2025 01:09:24 +0200 (CEST) Received: by mail-pl1-f227.google.com with SMTP id d9443c01a7336-23211e62204so35656885ad.3 for ; Wed, 21 May 2025 16:09:24 -0700 (PDT) DKIM-Signature: v=1; a=rsa-sha256; c=relaxed/relaxed; d=iol.unh.edu; s=unh-iol; t=1747868963; x=1748473763; darn=dpdk.org; h=references:in-reply-to:cc:to:from:subject:message-id:date:from:to :cc:subject:date:message-id:reply-to; bh=bH50u4uTAPHntoKWUHaawPOCk1ho5cXqeyUFpilpDKk=; b=GpG50WOyyjksoiTFPguGG/gkDcFCT1EKlo6e7aTmODQzYibxPO2LY2+AUbcqK4bWvm gZiNhjU+3hwdeWT2Ya+CU2N/DYjWxXtPj/3dEV3pGdtVGtqA0fO67ItrMgxuhjGxADCZ GBYl06Qp2svvOyzA82SLEelyQPhjKN/Dptk34= X-Google-DKIM-Signature: v=1; a=rsa-sha256; c=relaxed/relaxed; d=1e100.net; s=20230601; t=1747868963; x=1748473763; h=references:in-reply-to:cc:to:from:subject:message-id:date :x-gm-message-state:from:to:cc:subject:date:message-id:reply-to; bh=bH50u4uTAPHntoKWUHaawPOCk1ho5cXqeyUFpilpDKk=; b=D9nRsZSjblMVTu/suqrv+9yFcky8j3zdthTo/xxi0PIDOx+5fqZfrtiAKAeCOe8Tg+ qdRFASy8sBQi8NKDivQuJfOg+j6Jv6ro/yng37CCNU+cF1eY4yPS461vB/gRGR4dZknQ 16o7uFxPVHDKYZg5NqysZthZsHLuralzZkBNmcE799XzYtrLIMi6y7/ywa3BH8DUqt43 2VYnw9WQ27FBXp3oO8fCABmAtnbw/tKUEA35GeAX7yBsPteRnysC0aBRZz53pH6vr+7V hiCxPhL7DiCeFqVNHdsGrmmnotvAqSWf8VqhH0bXZN/mIK0lULQJT87ptnflAOUWgG6F iiWw== X-Gm-Message-State: AOJu0YzGaGK0Dam10Y8LmsRLN+UKNwcgWWvdNy+wAWnNNca1kQlxNdmI xY81dFitg2UEbS9djj64tvucTA7jo+OnSpYSvHcaVV29RuGhm/ugVI4Y1q1PZfCrpbnbQ5q8aKc 2CZTUvvyVBLsV3ITeIKFG5XJ2C/yH56QA9fNKuTObTAAR9CUrpF1ReFr0yOGB X-Gm-Gg: ASbGnctNxHlgQG3w//FFZ+XnOYyFDj1I8jy9xIqJsrjRMuj7ohKDiKCUW3Okr37o/cC S6++IzXXveHfk1V4kiFntxU92eOGRM2OYlifPbu66a7kSNBijB7lr9ZvZt/eQjp513CasXkABGO iqxNKcC5iXsLMHn7iI17fh3p+xa/LUgDxSWM3tzyXGT9E0Z1oLoPOIy6zA9uKn4OO0o+5beX3+T ow+jcjG+aEZ4AFIcurjHAyvqDygxRGe1a9jMmulfolzISfumKUDxver9Rd7pwntvIeNTrGNBMhW xp+IEJmIwPil4xF+wYUz2QHEv5YRRdGWTuzq X-Google-Smtp-Source: AGHT+IFObOs41GDL1yLmn/GnsZoJtlRg38NDHuZ9DLs+VQc9OSVXAXkzRWoXavTsu01JPuGM8et9R0fyw3qC X-Received: by 2002:a17:903:94f:b0:226:38ff:1d6a with SMTP id d9443c01a7336-231d43d9cacmr291799165ad.7.1747868963157; Wed, 21 May 2025 16:09:23 -0700 (PDT) Received: from postal.iol.unh.edu (postal.iol.unh.edu. [2606:4100:3880:1234::84]) by smtp-relay.gmail.com with ESMTPS id d9443c01a7336-231d4ae3c43sm6615825ad.64.2025.05.21.16.09.23 (version=TLS1_2 cipher=ECDHE-ECDSA-AES128-GCM-SHA256 bits=128/128); Wed, 21 May 2025 16:09:23 -0700 (PDT) X-Relaying-Domain: iol.unh.edu Date: Wed, 21 May 2025 16:09:23 -0700 (PDT) Message-ID: <682e5d23.170a0220.245dc5.323cSMTPIN_ADDED_MISSING@mx.google.com> Received: from [172.21.0.5] (unknown [172.18.0.240]) by postal.iol.unh.edu (Postfix) with ESMTP id 5C9886052472; Wed, 21 May 2025 19:09:22 -0400 (EDT) Subject: |SUCCESS| pw153576-153578 [PATCH] [v2,3/3] dts: add flow validation From: dpdklab@iol.unh.edu To: Test Report Cc: dpdk-test-reports@iol.unh.edu In-Reply-To: <20250521192629.294265-3-dmarx@iol.unh.edu> References: <20250521192629.294265-3-dmarx@iol.unh.edu> Content-Type: text/plain X-BeenThere: test-report@dpdk.org X-Mailman-Version: 2.1.29 Precedence: list List-Id: automatic DPDK test reports List-Unsubscribe: , List-Archive: List-Post: List-Help: List-Subscribe: , Errors-To: test-report-bounces@dpdk.org Test-Label: iol-unit-amd64-testing Test-Status: SUCCESS http://dpdk.org/patch/153578 _Testing PASS_ Submitter: Dean Marx Date: Wednesday, May 21 2025 19:26:29 DPDK git baseline: Repo:dpdk Branch: master CommitID:1aef42bc97a31906486c9d66b792208948af06f3 153576-153578 --> testing pass Upstream job id: Generic-Unit-Test-DPDK#339741 Test environment and result as below: +---------------------+----------------+ | Environment | dpdk_unit_test | +=====================+================+ | CentOS Stream 9 | PASS | +---------------------+----------------+ | Fedora 40 (Clang) | PASS | +---------------------+----------------+ | Debian 12 | PASS | +---------------------+----------------+ | Fedora 40 | PASS | +---------------------+----------------+ | CentOS Stream 10 | PASS | +---------------------+----------------+ | Fedora 41 | PASS | +---------------------+----------------+ | Ubuntu 20.04 | PASS | +---------------------+----------------+ | RHEL9 | PASS | +---------------------+----------------+ | RHEL8 | PASS | +---------------------+----------------+ | Fedora 41 (Clang) | PASS | +---------------------+----------------+ | Ubuntu 24.04 | PASS | +---------------------+----------------+ | Ubuntu 22.04 | PASS | +---------------------+----------------+ | Windows Server 2022 | PASS | +---------------------+----------------+ CentOS Stream 9 Kernel: Depends on container host Compiler: gcc 11.5.0 20240719 (Red Hat 11.5.0-2) Fedora 40 (Clang) Kernel: Depends on container host Compiler: clang 18.1.8 (Fedora 18.1.8-1.fc40) Debian 12 Kernel: Depends on container host Compiler: gcc (Debian 12.2.0-14) 12.2.0 Fedora 40 Kernel: Depends on container host Compiler: gcc 14.2.1 20240912 (Red Hat 14.2.1-3) CentOS Stream 10 Kernel: Depends on container host Compiler: gcc 14.2.1 20241104 (Red Hat 14.2.1-6) Fedora 41 Kernel: Depends on container host Compiler: gcc 14.2.1 20240912 (Red Hat 14.2.1-3) Ubuntu 20.04 Kernel: Depends on container host Compiler: gcc (Ubuntu 9.4.0-1ubuntu1~20.04.2) 9.4.0 RHEL9 Kernel: Depends on container host Compiler: gcc 11.5.0 20240719 (Red Hat 11.5.0-2) RHEL8 Kernel: Depends on container host Compiler: gcc 8.5.0 20210514 (Red Hat 8.5.0-22) Fedora 41 (Clang) Kernel: Depends on container host Compiler: clang 19.1.5 (Fedora 19.1.5-1.fc41) Ubuntu 24.04 Kernel: Depends on container host Compiler: gcc (Ubuntu 13.3.0-6ubuntu2~24.04) 13.3.0 Ubuntu 22.04 Kernel: Depends on container host Compiler: gcc (Ubuntu 11.4.0-1ubuntu1~22.04) 11.4.0 Windows Server 2022 Kernel: 10.0.20348.2031 Compiler: clang 15.0.7, gcc 14.1.0 (MinGW), and MSVC VS 19.39.33521 To view detailed results, visit: https://lab.dpdk.org/results/dashboard/patchsets/33226/ UNH-IOL DPDK Community Lab To manage your email subscriptions, visit: https://lab.dpdk.org/results/dashboard/preferences/subscriptions/