From mboxrd@z Thu Jan 1 00:00:00 1970 Return-Path: Received: from mails.dpdk.org (mails.dpdk.org [217.70.189.124]) by inbox.dpdk.org (Postfix) with ESMTP id 71B05467AB for ; Thu, 22 May 2025 01:19:11 +0200 (CEST) Received: from mails.dpdk.org (localhost [127.0.0.1]) by mails.dpdk.org (Postfix) with ESMTP id 4413140ED1; Thu, 22 May 2025 01:19:11 +0200 (CEST) Received: from mail-pl1-f228.google.com (mail-pl1-f228.google.com [209.85.214.228]) by mails.dpdk.org (Postfix) with ESMTP id 04343402B2 for ; Thu, 22 May 2025 01:19:09 +0200 (CEST) Received: by mail-pl1-f228.google.com with SMTP id d9443c01a7336-2301ac32320so78629475ad.1 for ; Wed, 21 May 2025 16:19:09 -0700 (PDT) DKIM-Signature: v=1; a=rsa-sha256; c=relaxed/relaxed; d=iol.unh.edu; s=unh-iol; t=1747869549; x=1748474349; darn=dpdk.org; h=references:in-reply-to:cc:to:from:subject:message-id:date:from:to :cc:subject:date:message-id:reply-to; bh=NpLmNLV+N2KoYpZL48S5samUGopqocu65VooxX4GbCQ=; b=LL4BKMAJuPHcmsFQHWS3zlYAtU300MujtMYDm24YzwKXEoCcAYZnd36uW9zfWA0CdQ O7fnnfw8PkZpq1IcLFmmNJ9OsEVPz3IHe9w8Hu0GMRs8XEk6RboXrYNV09jgvhHjBSO0 0meF89XBwJc+SY3at060cjMiC1EaUHMYzchmk= X-Google-DKIM-Signature: v=1; a=rsa-sha256; c=relaxed/relaxed; d=1e100.net; s=20230601; t=1747869549; x=1748474349; h=references:in-reply-to:cc:to:from:subject:message-id:date :x-gm-message-state:from:to:cc:subject:date:message-id:reply-to; bh=NpLmNLV+N2KoYpZL48S5samUGopqocu65VooxX4GbCQ=; b=f7isklq8SXybZrEeRue0ostD1yCoSLoAiZEMslBbKu6dLjoRMX1v/aiBj+SJaHY0ir xgvfXdbFPjKoqUK+Ubk811MFUEJ1TGSjct89h7Gzj+s2pB6BIMcSLK/TfwM0PYpgjuni GHdVDoWMaSzxkwLAmDZFpjxtu/iCY+DJgr8ScmemRBaRc+seNF3OQaNgDNeLWA0O92mW 4zCoCvDyizgemgNjEcNterVgD4MO+w4hcqFoPPIL2my5fUZ3CoGAL5umV47JRpBR8L7Z q2zRG8mw8xiKMhVGpTpsKyK1E7vE+okn6MPrsFjBAg7aqPjtnjWQ6qxWRwxazG5SW6K8 0I8w== X-Gm-Message-State: AOJu0YxEvH8lriR03MCyP4AzLZd9/rvgA7VA9EvZCl3bWygZnCCvMft0 v/b+kuPsEdd0azGHvMyy9gFceVt5fMazWSAt95J+JrDslw+9PswRqr4U3hh1JN0ioMavGvfq3JZ XgmuDu0VWoTdR5Z9j6VHUPaqP37drHW9jH/Awlf7rVVde X-Gm-Gg: ASbGncuF3zX+pVbjGsUqgc9TLe/qh1QsYr1HBDeVtnUq30k03CjghvhfnqEmQk22Lqs 6dxnco3KCf9vAXQLYYesssIAlTl7qG5ZxiYb4LEv2jUjjHcEyBBvFBY6AnxX61PQ+YnIvC7kU7h wfCVVyZ2VjTkE8tAjRgGPt++HuP/udqb0JIvx0NWleflGB7+l952DYBg7FAllfK4v6D0nQpw3Eq xJo4C7XXm8wFEVXX65RTPALvjcw9Esv0A5avmsX6XZK3KInefVi3apuV7UMiI8QCq/a5O1Ww5I5 cgU8pCVpq5c2u7CXvxhaSJKsy8HqPIfVojB+bG8kLzSrwNneEg4aKC+PsmE= X-Google-Smtp-Source: AGHT+IEqUYYJRRAzaXzUTjFRpIRiluJvGCxpV1EzL4EVPBDJry32coO1GmDASQWhFifCXC5S+RSasslouvX3 X-Received: by 2002:a17:903:1ace:b0:231:c90e:292d with SMTP id d9443c01a7336-231d45af19fmr354996675ad.44.1747869548883; Wed, 21 May 2025 16:19:08 -0700 (PDT) Received: from postal.iol.unh.edu (postal.iol.unh.edu. [132.177.123.84]) by smtp-relay.gmail.com with ESMTPS id d9443c01a7336-231d4ed1433sm6271235ad.125.2025.05.21.16.19.08 (version=TLS1_2 cipher=ECDHE-ECDSA-AES128-GCM-SHA256 bits=128/128); Wed, 21 May 2025 16:19:08 -0700 (PDT) X-Relaying-Domain: iol.unh.edu Date: Wed, 21 May 2025 16:19:08 -0700 (PDT) Message-ID: <682e5f6c.170a0220.17308a.17d6SMTPIN_ADDED_MISSING@mx.google.com> Received: from [172.21.0.5] (unknown [172.18.0.240]) by postal.iol.unh.edu (Postfix) with ESMTP id 4CBD36052471; Wed, 21 May 2025 19:19:08 -0400 (EDT) Subject: |SUCCESS| pw153562-153565 [PATCH] [v1,4/4] config/x86: enable RTE_US From: dpdklab@iol.unh.edu To: Test Report Cc: dpdk-test-reports@iol.unh.edu In-Reply-To: <20250521111432.207936-5-konstantin.ananyev@huawei.com> References: <20250521111432.207936-5-konstantin.ananyev@huawei.com> Content-Type: text/plain X-BeenThere: test-report@dpdk.org X-Mailman-Version: 2.1.29 Precedence: list List-Id: automatic DPDK test reports List-Unsubscribe: , List-Archive: List-Post: List-Help: List-Subscribe: , Errors-To: test-report-bounces@dpdk.org Test-Label: iol-compile-arm64-testing Test-Status: SUCCESS http://dpdk.org/patch/153565 _Testing PASS_ Submitter: Konstantin Ananyev Date: Wednesday, May 21 2025 11:14:32 DPDK git baseline: Repo:dpdk Branch: master CommitID:117e86c4b96ed761e9a7ab766261208fe81bf5ca 153562-153565 --> testing pass Upstream job id: Generic-DPDK-Compile-Meson#390130 Test environment and result as below: +----------------------------------------+--------------------+ | Environment | dpdk_meson_compile | +========================================+====================+ | Fedora 40 (ARM Clang) | PASS | +----------------------------------------+--------------------+ | Fedora 41 (ARM) | PASS | +----------------------------------------+--------------------+ | Fedora 40 (ARM) | PASS | +----------------------------------------+--------------------+ | Ubuntu 20.04 (ARM) | PASS | +----------------------------------------+--------------------+ | Debian 12 with MUSDK | PASS | +----------------------------------------+--------------------+ | RHEL9 (ARM) | PASS | +----------------------------------------+--------------------+ | Ubuntu 20.04 ARM SVE | PASS | +----------------------------------------+--------------------+ | Fedora 41 (ARM Clang) | PASS | +----------------------------------------+--------------------+ | Debian 12 (arm) | PASS | +----------------------------------------+--------------------+ | CentOS Stream 9 (ARM) | PASS | +----------------------------------------+--------------------+ | Ubuntu 20.04 ARM Clang Cross Compile | PASS | +----------------------------------------+--------------------+ | Ubuntu 22.04 (ARM) | PASS | +----------------------------------------+--------------------+ | Ubuntu 24.04 (ARM) | PASS | +----------------------------------------+--------------------+ | Ubuntu 20.04 aarch32 GCC Cross Compile | PASS | +----------------------------------------+--------------------+ | CentOS Stream 10 (ARM) | PASS | +----------------------------------------+--------------------+ | Ubuntu 20.04 ARM GCC Cross Compile | PASS | +----------------------------------------+--------------------+ Fedora 40 (ARM Clang) Kernel: Depends on container host Compiler: clang 18.1.8 (Fedora 18.1.8-1.fc40) Fedora 41 (ARM) Kernel: Depends on container host Compiler: gcc 14.2.1 20240912 (Red Hat 14.2.1-3) Fedora 40 (ARM) Kernel: Depends on container host Compiler: gcc 14.2.1 20240912 (Red Hat 14.2.1-3) Ubuntu 20.04 (ARM) Kernel: Depends on container host Compiler: gcc (Ubuntu 9.4.0-1ubuntu1~20.04.2) 9.4.0 Debian 12 with MUSDK Kernel: Depends on container host Compiler: gcc (Debian 12.2.0-14) 12.2.0 RHEL9 (ARM) Kernel: Depends on container host Compiler: gcc 11.5.0 20240719 (Red Hat 11.5.0-2) Ubuntu 20.04 ARM SVE Kernel: Depends on container host Compiler: gcc (Ubuntu 10.5.0-1ubuntu1~20.04) 10.5.0 Fedora 41 (ARM Clang) Kernel: Depends on container host Compiler: clang 19.1.5 (Fedora 19.1.5-1.fc41) Debian 12 (arm) Kernel: Depends on container host Compiler: gcc (Debian 12.2.0-14) 12.2.0 CentOS Stream 9 (ARM) Kernel: Depends on container host Compiler: gcc 11.5.0 20240719 (Red Hat 11.5.0-2) Ubuntu 20.04 ARM Clang Cross Compile Kernel: Depends on container host Compiler: clang 10.0.0-4ubuntu1 Ubuntu 22.04 (ARM) Kernel: Depends on container host Compiler: gcc (Ubuntu 11.4.0-1ubuntu1~22.04) 11.4.0 Ubuntu 24.04 (ARM) Kernel: Depends on container host Compiler: gcc (Ubuntu 13.3.0-6ubuntu2~24.04) 13.3.0 Ubuntu 20.04 aarch32 GCC Cross Compile Kernel: Depends on container host Compiler: gcc 9.4.0 CentOS Stream 10 (ARM) Kernel: Depends on container host Compiler: gcc 14.2.1 20241104 (Red Hat 14.2.1-6) Ubuntu 20.04 ARM GCC Cross Compile Kernel: Depends on container host Compiler: aarch64-linux-gnu-gcc (Ubuntu 9.4.0-1ubuntu1~20.04.2) 9.4.0 To view detailed results, visit: https://lab.dpdk.org/results/dashboard/patchsets/33222/ UNH-IOL DPDK Community Lab To manage your email subscriptions, visit: https://lab.dpdk.org/results/dashboard/preferences/subscriptions/