From mboxrd@z Thu Jan 1 00:00:00 1970 Return-Path: Received: from mails.dpdk.org (mails.dpdk.org [217.70.189.124]) by inbox.dpdk.org (Postfix) with ESMTP id 34F63467AB for ; Thu, 22 May 2025 01:36:38 +0200 (CEST) Received: from mails.dpdk.org (localhost [127.0.0.1]) by mails.dpdk.org (Postfix) with ESMTP id 04C7040ED1; Thu, 22 May 2025 01:36:38 +0200 (CEST) Received: from mail-io1-f97.google.com (mail-io1-f97.google.com [209.85.166.97]) by mails.dpdk.org (Postfix) with ESMTP id 4B484402B2 for ; Thu, 22 May 2025 01:36:36 +0200 (CEST) Received: by mail-io1-f97.google.com with SMTP id ca18e2360f4ac-85dac9729c3so739539939f.2 for ; Wed, 21 May 2025 16:36:36 -0700 (PDT) DKIM-Signature: v=1; a=rsa-sha256; c=relaxed/relaxed; d=iol.unh.edu; s=unh-iol; t=1747870595; x=1748475395; darn=dpdk.org; h=cc:to:from:subject:message-id:date:from:to:cc:subject:date :message-id:reply-to; bh=8qH3zPJhCOj2m3eqxP3FdHeJ2UyeJOAKXQ3QSRJaHIU=; b=c/TvPG0SA3/yEXntyLKVW8ge2egaSP0/zkmfhcawDcxlR715lZ9lwqkV0PfSeeUCoD 5q/fyunmz32c3+KuhXACY+1LnsMRiQtr3n5YbiL+9K6pNlPvgRX9Opi0xqw4nowWSlvZ eLRc9lm9cEpscUQLuvPDe9DbSjkpxm0JlHcsw= X-Google-DKIM-Signature: v=1; a=rsa-sha256; c=relaxed/relaxed; d=1e100.net; s=20230601; t=1747870595; x=1748475395; h=cc:to:from:subject:message-id:date:x-gm-message-state:from:to:cc :subject:date:message-id:reply-to; bh=8qH3zPJhCOj2m3eqxP3FdHeJ2UyeJOAKXQ3QSRJaHIU=; b=afgUBJ0QWroAEl426Pd0I8zJW95mdmZXAy3x827lC+H1PSy8EkJ/EXIh0jwrSn2xP/ CEruwJKoyaH5ccna1qOKGfsH6u2s3GqoifUOlsP1A4ETpDXD5siuImpJIbiciM0rabVc zxY33NbOprNpCyht5I740HPn7Qa2vq0q/w2i2mTg/pUtALr3KXiKoSChAXNmnoihc8YY oHSuy42GhPjiXBnl4x+5Joj9fp1Rvs3M98cH5o01aIDACVLsK4bJ3Wz9cRuVAWDaDEP+ OSBVJzBBEV4fqpbH6GVTuWGJBpX1JvdVpPWjdE8iqZqHP2zWz7rdLS57koIpitFwrVvq cy4g== X-Gm-Message-State: AOJu0Ywv0Z52rqUQAInM4ejjdpOwsNilLDtn//WyTvEHEgMpUjeK7jcZ W0OXiw6f3MTBcaXfE9yieA2gIanMyqGMP9zN8p8NaKQdVqfl4XGseHMr8Bu7GBPV+HX3zAR/m4i nY+IgvTQuWT8SmIdvcpGtDea4uJAZDCaEPbPf2IfXMA4XuNeYyUQihrl30NRf X-Gm-Gg: ASbGncvgilPd45nu9lc7MM3X76lZ//pKcbryAQsaFCBNFuAwGdOs+Qk4TyLb3dytHHX 5FVeO5JCoraNc2WqV5PY4Q+9NFW9jS4jJgQ8vHS9h4eYrAuYo5drAdaNBeDGlB6L8iSWH7PmtrL z58b9ErKmKJgUx+Kdw3X1OM/O3FEP+3xlNhu8cqPr8Xk+ZhnkJag+uLPIbqrwHVU+H1Dy1r2aPr RUdx+Ek0Fd+FWSLECjOF5QBDz89rcvh4gqoUUwP0NvKC6yNSI149kBFJqM9YKvMEdWTOJ7fTzt0 d12ApuZejvH5HtSvbDZAyXXhkfCI8hHeRVZa X-Google-Smtp-Source: AGHT+IFp9RTJ4pwjH5bNUNM/jv1a9cygC4IsJbn/PpqA/CLzr/zq+E6eRdS8OPTQDGXBVk+iy+qAcXB9UiPF X-Received: by 2002:a05:6602:3f06:b0:869:d4df:c2a6 with SMTP id ca18e2360f4ac-86a2328839fmr3148367439f.14.1747870595451; Wed, 21 May 2025 16:36:35 -0700 (PDT) Received: from postal.iol.unh.edu (postal.iol.unh.edu. [2606:4100:3880:1234::84]) by smtp-relay.gmail.com with ESMTPS id ca18e2360f4ac-86ca3cf4140sm1844139f.30.2025.05.21.16.36.35 (version=TLS1_2 cipher=ECDHE-ECDSA-AES128-GCM-SHA256 bits=128/128); Wed, 21 May 2025 16:36:35 -0700 (PDT) X-Relaying-Domain: iol.unh.edu Date: Wed, 21 May 2025 16:36:35 -0700 (PDT) Message-ID: <682e6383.050a0220.2fe4d0.109eSMTPIN_ADDED_MISSING@mx.google.com> Received: from [172.21.0.6] (unknown [172.18.0.240]) by postal.iol.unh.edu (Postfix) with ESMTP id EF44B6052471; Wed, 21 May 2025 19:36:34 -0400 (EDT) Subject: |SUCCESS| [GIT MASTER] fc627d7065ba5100faa928cf2edfa1622846f542 From: dpdklab@iol.unh.edu To: Test Report Cc: dpdk-test-reports@iol.unh.edu, Akhil Goyal Content-Type: text/plain X-BeenThere: test-report@dpdk.org X-Mailman-Version: 2.1.29 Precedence: list List-Id: automatic DPDK test reports List-Unsubscribe: , List-Archive: List-Post: List-Help: List-Subscribe: , Errors-To: test-report-bounces@dpdk.org _Testing PASS_ Branch: dpdk-next-crypto fc627d7065ba5100faa928cf2edfa1622846f542 --> testing pass Upstream job id: Generic-Unit-Test-DPDK#339758 Test environment and result as below: +---------------------+----------------+ | Environment | dpdk_unit_test | +=====================+================+ | CentOS Stream 9 | PASS | +---------------------+----------------+ | Debian 12 | PASS | +---------------------+----------------+ | CentOS Stream 10 | PASS | +---------------------+----------------+ | Fedora 40 | PASS | +---------------------+----------------+ | Fedora 41 | PASS | +---------------------+----------------+ | Fedora 40 (Clang) | PASS | +---------------------+----------------+ | RHEL8 | PASS | +---------------------+----------------+ | Fedora 41 (Clang) | PASS | +---------------------+----------------+ | RHEL9 | PASS | +---------------------+----------------+ | Ubuntu 20.04 | PASS | +---------------------+----------------+ | Ubuntu 22.04 | PASS | +---------------------+----------------+ | Ubuntu 24.04 | PASS | +---------------------+----------------+ | Windows Server 2022 | PASS | +---------------------+----------------+ CentOS Stream 9 Kernel: Depends on container host Compiler: gcc 11.5.0 20240719 (Red Hat 11.5.0-2) Debian 12 Kernel: Depends on container host Compiler: gcc (Debian 12.2.0-14) 12.2.0 CentOS Stream 10 Kernel: Depends on container host Compiler: gcc 14.2.1 20241104 (Red Hat 14.2.1-6) Fedora 40 Kernel: Depends on container host Compiler: gcc 14.2.1 20240912 (Red Hat 14.2.1-3) Fedora 41 Kernel: Depends on container host Compiler: gcc 14.2.1 20240912 (Red Hat 14.2.1-3) Fedora 40 (Clang) Kernel: Depends on container host Compiler: clang 18.1.8 (Fedora 18.1.8-1.fc40) RHEL8 Kernel: Depends on container host Compiler: gcc 8.5.0 20210514 (Red Hat 8.5.0-22) Fedora 41 (Clang) Kernel: Depends on container host Compiler: clang 19.1.5 (Fedora 19.1.5-1.fc41) RHEL9 Kernel: Depends on container host Compiler: gcc 11.5.0 20240719 (Red Hat 11.5.0-2) Ubuntu 20.04 Kernel: Depends on container host Compiler: gcc (Ubuntu 9.4.0-1ubuntu1~20.04.2) 9.4.0 Ubuntu 22.04 Kernel: Depends on container host Compiler: gcc (Ubuntu 11.4.0-1ubuntu1~22.04) 11.4.0 Ubuntu 24.04 Kernel: Depends on container host Compiler: gcc (Ubuntu 13.3.0-6ubuntu2~24.04) 13.3.0 Windows Server 2022 Kernel: 10.0.20348.2031 Compiler: clang 15.0.7, gcc 14.1.0 (MinGW), and MSVC VS 19.39.33521 To view detailed results, visit: https://lab.dpdk.org/results/dashboard/tarballs/33609/ UNH-IOL DPDK Community Lab To manage your email subscriptions, visit: https://lab.dpdk.org/results/dashboard/preferences/subscriptions/