From mboxrd@z Thu Jan 1 00:00:00 1970 Return-Path: Received: from mails.dpdk.org (mails.dpdk.org [217.70.189.124]) by inbox.dpdk.org (Postfix) with ESMTP id C0B7D467AB for ; Thu, 22 May 2025 01:43:21 +0200 (CEST) Received: from mails.dpdk.org (localhost [127.0.0.1]) by mails.dpdk.org (Postfix) with ESMTP id 99C7240ED1; Thu, 22 May 2025 01:43:21 +0200 (CEST) Received: from mail-pg1-f225.google.com (mail-pg1-f225.google.com [209.85.215.225]) by mails.dpdk.org (Postfix) with ESMTP id 58FD8402B2 for ; Thu, 22 May 2025 01:43:20 +0200 (CEST) Received: by mail-pg1-f225.google.com with SMTP id 41be03b00d2f7-b26f5eb16a5so4796457a12.0 for ; Wed, 21 May 2025 16:43:20 -0700 (PDT) DKIM-Signature: v=1; a=rsa-sha256; c=relaxed/relaxed; d=iol.unh.edu; s=unh-iol; t=1747870999; x=1748475799; darn=dpdk.org; h=cc:to:from:subject:message-id:date:from:to:cc:subject:date :message-id:reply-to; bh=aE0/Sf0qj9Ero9+EqMMe1u/y3mVx5BhvSxpQz1Ra7K8=; b=R0oggQDUnwNRq8u19M/KV0UHUsoVSGsq+dmwwtj4a3r5DBx/QuAzuZSJ8CBTAH0Wxc o3kAafWq8hHxjmFaSlyHzmPiAe+cSpewBiWo9UGPyN7PXfkD6/F8juJf5wsUDv6oI8jJ iB3UtfgQW2iMOKqau4F7PtrlHBOB/B3zXOYmQ= X-Google-DKIM-Signature: v=1; a=rsa-sha256; c=relaxed/relaxed; d=1e100.net; s=20230601; t=1747870999; x=1748475799; h=cc:to:from:subject:message-id:date:x-gm-message-state:from:to:cc :subject:date:message-id:reply-to; bh=aE0/Sf0qj9Ero9+EqMMe1u/y3mVx5BhvSxpQz1Ra7K8=; b=Y8OLfzB5LFLiavB6bxThD2bR6cY/d/p0X18jwIRbLfBkEZS80l9ed+mE1AY4CvC1xg lYe7DRTgcfH6/tww2AM5lTmr5BScKa6ImQ6tCNlGgZ6tHxJNMCfmPq8qQ9j9MOT8kxYf grJNIHFbagj51gPirPsuQs5MsHSECjAJHQ0a6lH/BWzeBSEPWV9VSVzr6SGY7JXEL4zq 7u+1+izbmACo5ILt8w88JeOrQPkTZ0eyPPZ4K2UloRSB0CU+uC+m/h06w3DxtkSkMSms 0iaoQmXK/w5HVVBOKQ2hy8P+6NJaMkZ69HmnvXhf4rbXPrugP6v6xyJdme7qrZXi8KTY bFgQ== X-Gm-Message-State: AOJu0YzWAB2NeW9aiepJKotqbhLU0OUBY/Wm724pKQjMt39HiqFu1ZUj hrWlN+uXXNWHExC7Q/lBPr0s4RBONZrHM0uwbuzKmONI13J0/U8dIT2goUcnoRyldaumfpPpMS5 v7K0JlgCynvvdsjX4WAkavfb/7gr/aSkxfqfMD3xrhpetg3Sv5VNkVqMenTdG X-Gm-Gg: ASbGncuuOTw7eo0CqNa1IlvQszTCfXrGvj1+dCZBsCyRayTTKBYigjbUY2RMLiZRHeg tAFcqBVicL0kRCEhn6wiHl/48biAiAOMHx2OUzf6qm0oREfpznkCOCYqzcgJcP+rHv7x7hGHLhG Q5QAnNJQUMgef1u2CKY3Jb8NU2XOdZqMWihRrxjP5Ftr+l2ellEMYjTRFznRPe6ZWUG8lZRfO5o T5gyloRkG3QgaKdvwv+yjTxsSkFwQ3rYlgNygpj6cSy63AZaSD5ByIpV1FfmdsvVFgY7rLjDMek yNxMRF6ZGqgSoOyr8ZP4fTU1hxrOvtk6EBrq X-Google-Smtp-Source: AGHT+IFVUZDiw/2s9lfJOgJigJMQ9WvPG3T+dARWBbs8vIsj+KThRfyolWksNc9kbyFQuJJ84tDpS3idHmKF X-Received: by 2002:a17:902:d4c6:b0:231:eb7f:107e with SMTP id d9443c01a7336-231eb7f1265mr296635435ad.22.1747870999141; Wed, 21 May 2025 16:43:19 -0700 (PDT) Received: from postal.iol.unh.edu (postal.iol.unh.edu. [2606:4100:3880:1234::84]) by smtp-relay.gmail.com with ESMTPS id d9443c01a7336-231d4e97235sm6853325ad.86.2025.05.21.16.43.19 (version=TLS1_2 cipher=ECDHE-ECDSA-AES128-GCM-SHA256 bits=128/128); Wed, 21 May 2025 16:43:19 -0700 (PDT) X-Relaying-Domain: iol.unh.edu Date: Wed, 21 May 2025 16:43:19 -0700 (PDT) Message-ID: <682e6517.170a0220.2e319b.5ad4SMTPIN_ADDED_MISSING@mx.google.com> Received: from [172.17.0.4] (unknown [172.18.0.74]) by postal.iol.unh.edu (Postfix) with ESMTP id 44F296052471; Wed, 21 May 2025 19:43:18 -0400 (EDT) Subject: |WARNING| [GIT MASTER] fc627d7065ba5100faa928cf2edfa1622846f542 From: dpdklab@iol.unh.edu To: Test Report Cc: dpdk-test-reports@iol.unh.edu, Akhil Goyal Content-Type: text/plain X-BeenThere: test-report@dpdk.org X-Mailman-Version: 2.1.29 Precedence: list List-Id: automatic DPDK test reports List-Unsubscribe: , List-Archive: List-Post: List-Help: List-Subscribe: , Errors-To: test-report-bounces@dpdk.org _Testing issues_ Branch: dpdk-next-crypto fc627d7065ba5100faa928cf2edfa1622846f542 --> testing issues Upstream job id: Generic-DPDK-Compile-Meson#390249 Test environment and result as below: +-----------------------------------+-------------------+--------------------+-------------------------+-------------------+------------------+----------------------+ | Environment | dpdk_msvc_compile | dpdk_meson_compile | dpdk_llvm_clang_compile | dpdk_compile_spdk | dpdk_compile_ovs | dpdk_mingw64_compile | +===================================+===================+====================+=========================+===================+==================+======================+ | Windows Server 2022 | PASS | SKIPPED | PASS | SKIPPED | SKIPPED | PASS | +-----------------------------------+-------------------+--------------------+-------------------------+-------------------+------------------+----------------------+ | FreeBSD 14.2 | SKIPPED | PASS | SKIPPED | SKIPPED | SKIPPED | SKIPPED | +-----------------------------------+-------------------+--------------------+-------------------------+-------------------+------------------+----------------------+ | Ubuntu 20.04 | SKIPPED | PASS | SKIPPED | SKIPPED | SKIPPED | SKIPPED | +-----------------------------------+-------------------+--------------------+-------------------------+-------------------+------------------+----------------------+ | CentOS Stream 9 | SKIPPED | PASS | SKIPPED | PASS | SKIPPED | SKIPPED | +-----------------------------------+-------------------+--------------------+-------------------------+-------------------+------------------+----------------------+ | CentOS Stream 10 | SKIPPED | PASS | SKIPPED | SKIPPED | SKIPPED | SKIPPED | +-----------------------------------+-------------------+--------------------+-------------------------+-------------------+------------------+----------------------+ | Debian 12 | SKIPPED | PASS | SKIPPED | PASS | SKIPPED | SKIPPED | +-----------------------------------+-------------------+--------------------+-------------------------+-------------------+------------------+----------------------+ | Fedora 40 (Clang) | SKIPPED | PASS | SKIPPED | WARN | SKIPPED | SKIPPED | +-----------------------------------+-------------------+--------------------+-------------------------+-------------------+------------------+----------------------+ | Fedora 40 | SKIPPED | PASS | SKIPPED | PASS | SKIPPED | SKIPPED | +-----------------------------------+-------------------+--------------------+-------------------------+-------------------+------------------+----------------------+ | Fedora 41 (Clang) | SKIPPED | PEND | SKIPPED | PEND | PEND | SKIPPED | +-----------------------------------+-------------------+--------------------+-------------------------+-------------------+------------------+----------------------+ | Fedora 41 | SKIPPED | PASS | SKIPPED | PASS | PASS | SKIPPED | +-----------------------------------+-------------------+--------------------+-------------------------+-------------------+------------------+----------------------+ | openSUSE Leap 15 | SKIPPED | PASS | SKIPPED | SKIPPED | SKIPPED | SKIPPED | +-----------------------------------+-------------------+--------------------+-------------------------+-------------------+------------------+----------------------+ | RHEL8 | SKIPPED | PASS | SKIPPED | SKIPPED | SKIPPED | SKIPPED | +-----------------------------------+-------------------+--------------------+-------------------------+-------------------+------------------+----------------------+ | RHEL9 | SKIPPED | PASS | SKIPPED | SKIPPED | SKIPPED | SKIPPED | +-----------------------------------+-------------------+--------------------+-------------------------+-------------------+------------------+----------------------+ | Ubuntu 22.04 | SKIPPED | PASS | SKIPPED | PASS | SKIPPED | SKIPPED | +-----------------------------------+-------------------+--------------------+-------------------------+-------------------+------------------+----------------------+ | Ubuntu 24.04 | SKIPPED | PEND | SKIPPED | PEND | PEND | SKIPPED | +-----------------------------------+-------------------+--------------------+-------------------------+-------------------+------------------+----------------------+ | Alpine | SKIPPED | PEND | SKIPPED | SKIPPED | SKIPPED | SKIPPED | +-----------------------------------+-------------------+--------------------+-------------------------+-------------------+------------------+----------------------+ | Ubuntu 24.04 32 Bit Cross Compile | SKIPPED | PEND | SKIPPED | SKIPPED | SKIPPED | SKIPPED | +-----------------------------------+-------------------+--------------------+-------------------------+-------------------+------------------+----------------------+ ==== 20 line log output for Fedora 40 (Clang) (dpdk_compile_spdk): ==== --- Failed to get log output --- ==== End log output ==== Windows Server 2022 Kernel: 10.0.20348.2031 Compiler: clang 15.0.7, gcc 14.1.0 (MinGW), and MSVC VS 19.39.33521 FreeBSD 14.2 Kernel: 14.2-RELEASE Compiler: clang 18.1.6 Ubuntu 20.04 Kernel: 4.19.325-0419325-generic Compiler: gcc (Ubuntu 9.4.0-1ubuntu1~20.04.2) 9.4.0 CentOS Stream 9 Kernel: Depends on container host Compiler: gcc 11.5.0 20240719 (Red Hat 11.5.0-2) CentOS Stream 10 Kernel: Depends on container host Compiler: gcc 14.2.1 20241104 (Red Hat 14.2.1-6) Debian 12 Kernel: Depends on container host Compiler: gcc (Debian 12.2.0-14) 12.2.0 Fedora 40 (Clang) Kernel: Depends on container host Compiler: clang 18.1.8 (Fedora 18.1.8-1.fc40) Fedora 40 Kernel: Depends on container host Compiler: gcc 14.2.1 20240912 (Red Hat 14.2.1-3) Fedora 41 (Clang) Kernel: Depends on container host Compiler: clang 19.1.5 (Fedora 19.1.5-1.fc41) Fedora 41 Kernel: Depends on container host Compiler: gcc 14.2.1 20240912 (Red Hat 14.2.1-3) openSUSE Leap 15 Kernel: Depends on container host Compiler: gcc (SUSE Linux) 7.5.0 RHEL8 Kernel: Depends on container host Compiler: gcc 8.5.0 20210514 (Red Hat 8.5.0-22) RHEL9 Kernel: Depends on container host Compiler: gcc 11.5.0 20240719 (Red Hat 11.5.0-2) Ubuntu 22.04 Kernel: Depends on container host Compiler: gcc (Ubuntu 11.4.0-1ubuntu1~22.04) 11.4.0 Ubuntu 24.04 Kernel: Depends on container host Compiler: gcc (Ubuntu 13.3.0-6ubuntu2~24.04) 13.3.0 Alpine Kernel: Depends on container host Compiler: gcc (Alpine 14.2.0) 14.2.0 Ubuntu 24.04 32 Bit Cross Compile Kernel: Depends on container host Compiler: gcc (Ubuntu 13.3.0-6ubuntu2~24.04) 13.3.0 To view detailed results, visit: https://lab.dpdk.org/results/dashboard/tarballs/33609/ UNH-IOL DPDK Community Lab To manage your email subscriptions, visit: https://lab.dpdk.org/results/dashboard/preferences/subscriptions/