From mboxrd@z Thu Jan 1 00:00:00 1970 Return-Path: Received: from mails.dpdk.org (mails.dpdk.org [217.70.189.124]) by inbox.dpdk.org (Postfix) with ESMTP id C8CE6467AB for ; Thu, 22 May 2025 01:43:50 +0200 (CEST) Received: from mails.dpdk.org (localhost [127.0.0.1]) by mails.dpdk.org (Postfix) with ESMTP id C487240ED1; Thu, 22 May 2025 01:43:50 +0200 (CEST) Received: from mail-pf1-f227.google.com (mail-pf1-f227.google.com [209.85.210.227]) by mails.dpdk.org (Postfix) with ESMTP id 622AD402B2 for ; Thu, 22 May 2025 01:43:49 +0200 (CEST) Received: by mail-pf1-f227.google.com with SMTP id d2e1a72fcca58-742c73f82dfso3682827b3a.2 for ; Wed, 21 May 2025 16:43:49 -0700 (PDT) DKIM-Signature: v=1; a=rsa-sha256; c=relaxed/relaxed; d=iol.unh.edu; s=unh-iol; t=1747871028; x=1748475828; darn=dpdk.org; h=cc:to:from:subject:message-id:date:from:to:cc:subject:date :message-id:reply-to; bh=rloY9hzCVrjYZjsWxRnIwQZ2poqC+Lxv0m2rpywkawY=; b=KaGpoYXV2PrFbWZMCGHmx4LctkoSf0iKKDX7S0a94haFYOy026Pf0zfWwOAnYiKC/D X59yFBWsjJYlMii9RNQOUwDa7mt2fbmlr//dyokf4uNTnW82l5IB/hDHrfa8ISryu0Or Ydd0DAaGskKxQF+aZSALN+4N67RlbDXMiErR8= X-Google-DKIM-Signature: v=1; a=rsa-sha256; c=relaxed/relaxed; d=1e100.net; s=20230601; t=1747871028; x=1748475828; h=cc:to:from:subject:message-id:date:x-gm-message-state:from:to:cc :subject:date:message-id:reply-to; bh=rloY9hzCVrjYZjsWxRnIwQZ2poqC+Lxv0m2rpywkawY=; b=DJ8IunwtT0alvkr8I+VSm9390ZjKn1Z2zXRSkn71ZZinI9Ku6UyLX8Llw5wNa5LfIC ppGwY9kaaCWxkQnCOVoI2iKilkM49HuQOwj0kZfHyE4SPITlsty18h/E9sYiU3xdL+0O Oc8XsrZ24JDAAcKZJVAwl7EwZVhznpb4pAV3srSGqSRn+hSBqkXNLeFGDP7PJ1cw/iFz dR/jDIKZir8SXUOpY238bQxcJWYlp9Tp3JVzY4nPuX2ngFvtz9YJta+tezBH5GlSls7A cId3A1tRfmohBpKpyzp2gBQ0Xnkk6dsjwWfI9cDOyeyvi+qrFLhXA3do8T6mKYBccFeL Nh2w== X-Gm-Message-State: AOJu0YxM91ndf9D97aiU/mRzueCxYjxfba7TT9Vi0Q4NE+o0JLNO3uM6 I8NmNerFFPTA9us4djSyqFk8M11owoNbhTXvfyQNphvbDUN0rfLdsHC2bNn74URe+hG67XAJGHY KVKzGUwauiNdHIJ2NAHTRv7hstoR2mV/6/06UfmXspCg44zDZ3EUWzDZXmKVE X-Gm-Gg: ASbGnctRI7ktsqzqcKdCha7VIThH+LeFwWvcEOoj66OsZP0wFrAKZ+SR/VfFi70h5g+ qE7pmVm6zzvXQAKghz/3yYbqa8YheKNvCSAaNmaCLFozQDbPiJwfcDOfrylfvOi6QcEBR9oZijE OqkKutqKJr+/jAtdeFuSkeJOIAo6+jHgd/9AQ/idlE+kod3bZn6t9r/LGWLe3Mio2ql3ROasu7L lP6T72U7drRRnL3UOH/IFhXaNdUhK6YqT6HqHwaESI+5VAXCjhfXGToMsDaDGCu0bHbcs+zkA/6 oi/HWn/H5EjY0rvgr06Q+qWOzhgu0eT8FbD5 X-Google-Smtp-Source: AGHT+IHu8eujaNhamOLsMiU7PUIsU/8YcLstqjZQkL7hlDINeXRKF+lEox0uxyudWy09hu7EhxEuOyOZqhnm X-Received: by 2002:a05:6a20:7d9c:b0:216:1ea0:a526 with SMTP id adf61e73a8af0-21621a2e93emr37771842637.40.1747871028216; Wed, 21 May 2025 16:43:48 -0700 (PDT) Received: from postal.iol.unh.edu (postal.iol.unh.edu. [2606:4100:3880:1234::84]) by smtp-relay.gmail.com with ESMTPS id 98e67ed59e1d1-30f365d7790sm341432a91.2.2025.05.21.16.43.48 (version=TLS1_2 cipher=ECDHE-ECDSA-AES128-GCM-SHA256 bits=128/128); Wed, 21 May 2025 16:43:48 -0700 (PDT) X-Relaying-Domain: iol.unh.edu Date: Wed, 21 May 2025 16:43:48 -0700 (PDT) Message-ID: <682e6534.170a0220.1b5d83.1ed7SMTPIN_ADDED_MISSING@mx.google.com> Received: from [172.17.0.4] (unknown [172.18.0.74]) by postal.iol.unh.edu (Postfix) with ESMTP id 6CAF46052471; Wed, 21 May 2025 19:43:47 -0400 (EDT) Subject: |WARNING| [GIT MASTER] fc627d7065ba5100faa928cf2edfa1622846f542 From: dpdklab@iol.unh.edu To: Test Report Cc: dpdk-test-reports@iol.unh.edu, Akhil Goyal Content-Type: text/plain X-BeenThere: test-report@dpdk.org X-Mailman-Version: 2.1.29 Precedence: list List-Id: automatic DPDK test reports List-Unsubscribe: , List-Archive: List-Post: List-Help: List-Subscribe: , Errors-To: test-report-bounces@dpdk.org _Testing issues_ Branch: dpdk-next-crypto fc627d7065ba5100faa928cf2edfa1622846f542 --> testing issues Upstream job id: Generic-DPDK-Compile-Meson#390244 Test environment and result as below: +-----------------------------------+-------------------+--------------------+-------------------------+-------------------+------------------+----------------------+ | Environment | dpdk_msvc_compile | dpdk_meson_compile | dpdk_llvm_clang_compile | dpdk_compile_spdk | dpdk_compile_ovs | dpdk_mingw64_compile | +===================================+===================+====================+=========================+===================+==================+======================+ | Windows Server 2022 | PASS | SKIPPED | PASS | SKIPPED | SKIPPED | PASS | +-----------------------------------+-------------------+--------------------+-------------------------+-------------------+------------------+----------------------+ | FreeBSD 14.2 | SKIPPED | PASS | SKIPPED | SKIPPED | SKIPPED | SKIPPED | +-----------------------------------+-------------------+--------------------+-------------------------+-------------------+------------------+----------------------+ | Ubuntu 20.04 | SKIPPED | PASS | SKIPPED | SKIPPED | SKIPPED | SKIPPED | +-----------------------------------+-------------------+--------------------+-------------------------+-------------------+------------------+----------------------+ | CentOS Stream 9 | SKIPPED | PASS | SKIPPED | PASS | SKIPPED | SKIPPED | +-----------------------------------+-------------------+--------------------+-------------------------+-------------------+------------------+----------------------+ | CentOS Stream 10 | SKIPPED | PASS | SKIPPED | SKIPPED | SKIPPED | SKIPPED | +-----------------------------------+-------------------+--------------------+-------------------------+-------------------+------------------+----------------------+ | Debian 12 | SKIPPED | PASS | SKIPPED | PASS | SKIPPED | SKIPPED | +-----------------------------------+-------------------+--------------------+-------------------------+-------------------+------------------+----------------------+ | Fedora 40 (Clang) | SKIPPED | PASS | SKIPPED | WARN | SKIPPED | SKIPPED | +-----------------------------------+-------------------+--------------------+-------------------------+-------------------+------------------+----------------------+ | Fedora 40 | SKIPPED | PASS | SKIPPED | PASS | SKIPPED | SKIPPED | +-----------------------------------+-------------------+--------------------+-------------------------+-------------------+------------------+----------------------+ | Fedora 41 (Clang) | SKIPPED | PEND | SKIPPED | PEND | PEND | SKIPPED | +-----------------------------------+-------------------+--------------------+-------------------------+-------------------+------------------+----------------------+ | Fedora 41 | SKIPPED | PASS | SKIPPED | PASS | PASS | SKIPPED | +-----------------------------------+-------------------+--------------------+-------------------------+-------------------+------------------+----------------------+ | openSUSE Leap 15 | SKIPPED | PASS | SKIPPED | SKIPPED | SKIPPED | SKIPPED | +-----------------------------------+-------------------+--------------------+-------------------------+-------------------+------------------+----------------------+ | RHEL8 | SKIPPED | PASS | SKIPPED | SKIPPED | SKIPPED | SKIPPED | +-----------------------------------+-------------------+--------------------+-------------------------+-------------------+------------------+----------------------+ | RHEL9 | SKIPPED | PASS | SKIPPED | SKIPPED | SKIPPED | SKIPPED | +-----------------------------------+-------------------+--------------------+-------------------------+-------------------+------------------+----------------------+ | Ubuntu 22.04 | SKIPPED | PASS | SKIPPED | PASS | SKIPPED | SKIPPED | +-----------------------------------+-------------------+--------------------+-------------------------+-------------------+------------------+----------------------+ | Ubuntu 24.04 | SKIPPED | PEND | SKIPPED | PEND | PEND | SKIPPED | +-----------------------------------+-------------------+--------------------+-------------------------+-------------------+------------------+----------------------+ | Alpine | SKIPPED | PEND | SKIPPED | SKIPPED | SKIPPED | SKIPPED | +-----------------------------------+-------------------+--------------------+-------------------------+-------------------+------------------+----------------------+ | Ubuntu 24.04 32 Bit Cross Compile | SKIPPED | PEND | SKIPPED | SKIPPED | SKIPPED | SKIPPED | +-----------------------------------+-------------------+--------------------+-------------------------+-------------------+------------------+----------------------+ ==== 20 line log output for Fedora 40 (Clang) (dpdk_compile_spdk): ==== --- Failed to get log output --- ==== End log output ==== Windows Server 2022 Kernel: 10.0.20348.2031 Compiler: clang 15.0.7, gcc 14.1.0 (MinGW), and MSVC VS 19.39.33521 FreeBSD 14.2 Kernel: 14.2-RELEASE Compiler: clang 18.1.6 Ubuntu 20.04 Kernel: 4.19.325-0419325-generic Compiler: gcc (Ubuntu 9.4.0-1ubuntu1~20.04.2) 9.4.0 CentOS Stream 9 Kernel: Depends on container host Compiler: gcc 11.5.0 20240719 (Red Hat 11.5.0-2) CentOS Stream 10 Kernel: Depends on container host Compiler: gcc 14.2.1 20241104 (Red Hat 14.2.1-6) Debian 12 Kernel: Depends on container host Compiler: gcc (Debian 12.2.0-14) 12.2.0 Fedora 40 (Clang) Kernel: Depends on container host Compiler: clang 18.1.8 (Fedora 18.1.8-1.fc40) Fedora 40 Kernel: Depends on container host Compiler: gcc 14.2.1 20240912 (Red Hat 14.2.1-3) Fedora 41 (Clang) Kernel: Depends on container host Compiler: clang 19.1.5 (Fedora 19.1.5-1.fc41) Fedora 41 Kernel: Depends on container host Compiler: gcc 14.2.1 20240912 (Red Hat 14.2.1-3) openSUSE Leap 15 Kernel: Depends on container host Compiler: gcc (SUSE Linux) 7.5.0 RHEL8 Kernel: Depends on container host Compiler: gcc 8.5.0 20210514 (Red Hat 8.5.0-22) RHEL9 Kernel: Depends on container host Compiler: gcc 11.5.0 20240719 (Red Hat 11.5.0-2) Ubuntu 22.04 Kernel: Depends on container host Compiler: gcc (Ubuntu 11.4.0-1ubuntu1~22.04) 11.4.0 Ubuntu 24.04 Kernel: Depends on container host Compiler: gcc (Ubuntu 13.3.0-6ubuntu2~24.04) 13.3.0 Alpine Kernel: Depends on container host Compiler: gcc (Alpine 14.2.0) 14.2.0 Ubuntu 24.04 32 Bit Cross Compile Kernel: Depends on container host Compiler: gcc (Ubuntu 13.3.0-6ubuntu2~24.04) 13.3.0 To view detailed results, visit: https://lab.dpdk.org/results/dashboard/tarballs/33609/ UNH-IOL DPDK Community Lab To manage your email subscriptions, visit: https://lab.dpdk.org/results/dashboard/preferences/subscriptions/