From mboxrd@z Thu Jan 1 00:00:00 1970 Return-Path: Received: from mails.dpdk.org (mails.dpdk.org [217.70.189.124]) by inbox.dpdk.org (Postfix) with ESMTP id E75E1467AC for ; Thu, 22 May 2025 02:05:40 +0200 (CEST) Received: from mails.dpdk.org (localhost [127.0.0.1]) by mails.dpdk.org (Postfix) with ESMTP id DF2F240616; Thu, 22 May 2025 02:05:40 +0200 (CEST) Received: from mail-pg1-f228.google.com (mail-pg1-f228.google.com [209.85.215.228]) by mails.dpdk.org (Postfix) with ESMTP id 2B5A1402CA for ; Thu, 22 May 2025 02:05:40 +0200 (CEST) Received: by mail-pg1-f228.google.com with SMTP id 41be03b00d2f7-b26ef4791a5so6036525a12.1 for ; Wed, 21 May 2025 17:05:40 -0700 (PDT) DKIM-Signature: v=1; a=rsa-sha256; c=relaxed/relaxed; d=iol.unh.edu; s=unh-iol; t=1747872339; x=1748477139; darn=dpdk.org; h=cc:to:from:subject:message-id:date:from:to:cc:subject:date :message-id:reply-to; bh=LgCrsNvhE4IkK4taq7Q821q+IdmYocjHuEC7oU6uIF4=; b=Us79LpHaYRc6UxM0XpvwOz/4iNUi/IvOzFHzUiiQD6Ze1k/hnxckLq7Eo6o+hmoGvX Ossz9zxas6muHqTxVzExg0ivuJR7govCgEnd4HI0fvXNrP0swZvUfwp4u3eJdV2bn597 gt3Kgg+92UwPQ+G8hXRUOFVU267fbiNo3ybfY= X-Google-DKIM-Signature: v=1; a=rsa-sha256; c=relaxed/relaxed; d=1e100.net; s=20230601; t=1747872339; x=1748477139; h=cc:to:from:subject:message-id:date:x-gm-message-state:from:to:cc :subject:date:message-id:reply-to; bh=LgCrsNvhE4IkK4taq7Q821q+IdmYocjHuEC7oU6uIF4=; b=drs1l9qY0i42mnwUDnoISFX/O2x3R5sWvPN81oLsVtvm9M3G1i4geAq/Xbglvvwq5a r2uhwobSgzIG5ijvqRVZLVeroz67e8rz195ItGbZ/y3edeZrT4zCNafoshAT7eun1xS2 Fuo5fB96mR0ksFDr+kuxmfJ2KIA+HbnF5ORaZpHEkkU1lUk/w/+7pFjmMk6+OOY5z6ws ZL00eidZb+G2oAiv0EEwMYD0q2k9ebR01XCqxtNwzz2+8t8UvqG7dvO/SlQB4+bV0EGC M1YmrKhrMMNm8zfuxuloNk3M25qEzbNSgxOyTaMyFh4qOR1r94PuJRMqC+K4OGextxQW Kg1A== X-Gm-Message-State: AOJu0YxS5djyHj45FOhMoG32Og9iqg67Je79PwTf2hU6J0uIR9XlTsoV CleiObWw7iUb7GQMK9zo4GdITsTd+vO/9d5aKviRSSVf2S8r9ldhpaZhXZpfeiDOYI09mKgylW+ 80iHjSEasTHgxdAwagxYsx+JYWnRT6NbrrmWllQGrRmB1idHTeG2ZJ5ecX7GD X-Gm-Gg: ASbGncuEk3XdXbYcSqJREwZN6WKr7ydxmXOt197uivxxO/vUhJV7vBa0sbyV2esUXxI Uhg79ss/1SeoEZChBH9j/kTTifX4llUei4uf6SNFKs9/ln86mZHwJ+3tD8JO0YAnwmWBH18+0Ay kcYfnDql+HUifP3PFtUDSxUnZTUWb+/eHtV+V6P5FU80cKvth64NcnRWkeLkU17VTZuJ98w/NLl pLHbJz9PBqoygYg+Izq1IZHToeZlAx+Mh+uIRuTgTbVzBGCptpxjdtPdrUUUMS6lOwmRntJSXfZ TUljbthjpmYLqUDEO2a3erp8fcTPxcfL2gNN X-Google-Smtp-Source: AGHT+IEi2wxE2F71pHkijeoc16RkKEYuOJSiDfRQOmLIW5ScIFHlQqSK3TgLS+UPe6mzcluzMuXjjd+ex/bv X-Received: by 2002:a17:902:db05:b0:231:c792:205 with SMTP id d9443c01a7336-231d43dcad8mr333544075ad.4.1747872339035; Wed, 21 May 2025 17:05:39 -0700 (PDT) Received: from postal.iol.unh.edu (postal.iol.unh.edu. [2606:4100:3880:1234::84]) by smtp-relay.gmail.com with ESMTPS id d9443c01a7336-231d4e98118sm6368705ad.95.2025.05.21.17.05.38 (version=TLS1_2 cipher=ECDHE-ECDSA-AES128-GCM-SHA256 bits=128/128); Wed, 21 May 2025 17:05:39 -0700 (PDT) X-Relaying-Domain: iol.unh.edu Date: Wed, 21 May 2025 17:05:39 -0700 (PDT) Message-ID: <682e6a53.170a0220.13d99e.3224SMTPIN_ADDED_MISSING@mx.google.com> Received: from [172.17.0.3] (unknown [172.18.0.74]) by postal.iol.unh.edu (Postfix) with ESMTP id 380A66052471; Wed, 21 May 2025 20:05:38 -0400 (EDT) Subject: |WARNING| [GIT MASTER] fc627d7065ba5100faa928cf2edfa1622846f542 From: dpdklab@iol.unh.edu To: Test Report Cc: dpdk-test-reports@iol.unh.edu, Akhil Goyal Content-Type: text/plain X-BeenThere: test-report@dpdk.org X-Mailman-Version: 2.1.29 Precedence: list List-Id: automatic DPDK test reports List-Unsubscribe: , List-Archive: List-Post: List-Help: List-Subscribe: , Errors-To: test-report-bounces@dpdk.org _Testing issues_ Branch: dpdk-next-crypto fc627d7065ba5100faa928cf2edfa1622846f542 --> testing issues Upstream job id: Generic-DPDK-Compile-Meson#390254 Test environment and result as below: +-----------------------------------+-------------------+--------------------+-------------------------+-------------------+------------------+----------------------+ | Environment | dpdk_msvc_compile | dpdk_meson_compile | dpdk_llvm_clang_compile | dpdk_compile_spdk | dpdk_compile_ovs | dpdk_mingw64_compile | +===================================+===================+====================+=========================+===================+==================+======================+ | Windows Server 2022 | PASS | SKIPPED | PASS | SKIPPED | SKIPPED | PASS | +-----------------------------------+-------------------+--------------------+-------------------------+-------------------+------------------+----------------------+ | FreeBSD 14.2 | SKIPPED | PASS | SKIPPED | SKIPPED | SKIPPED | SKIPPED | +-----------------------------------+-------------------+--------------------+-------------------------+-------------------+------------------+----------------------+ | Ubuntu 20.04 | SKIPPED | PASS | SKIPPED | SKIPPED | SKIPPED | SKIPPED | +-----------------------------------+-------------------+--------------------+-------------------------+-------------------+------------------+----------------------+ | CentOS Stream 9 | SKIPPED | PASS | SKIPPED | PASS | SKIPPED | SKIPPED | +-----------------------------------+-------------------+--------------------+-------------------------+-------------------+------------------+----------------------+ | CentOS Stream 10 | SKIPPED | PASS | SKIPPED | SKIPPED | SKIPPED | SKIPPED | +-----------------------------------+-------------------+--------------------+-------------------------+-------------------+------------------+----------------------+ | Debian 12 | SKIPPED | PASS | SKIPPED | PASS | SKIPPED | SKIPPED | +-----------------------------------+-------------------+--------------------+-------------------------+-------------------+------------------+----------------------+ | Fedora 40 (Clang) | SKIPPED | PASS | SKIPPED | WARN | SKIPPED | SKIPPED | +-----------------------------------+-------------------+--------------------+-------------------------+-------------------+------------------+----------------------+ | Fedora 40 | SKIPPED | PASS | SKIPPED | PASS | SKIPPED | SKIPPED | +-----------------------------------+-------------------+--------------------+-------------------------+-------------------+------------------+----------------------+ | Fedora 41 (Clang) | SKIPPED | PASS | SKIPPED | WARN | PASS | SKIPPED | +-----------------------------------+-------------------+--------------------+-------------------------+-------------------+------------------+----------------------+ | Fedora 41 | SKIPPED | PASS | SKIPPED | PASS | PASS | SKIPPED | +-----------------------------------+-------------------+--------------------+-------------------------+-------------------+------------------+----------------------+ | openSUSE Leap 15 | SKIPPED | PASS | SKIPPED | SKIPPED | SKIPPED | SKIPPED | +-----------------------------------+-------------------+--------------------+-------------------------+-------------------+------------------+----------------------+ | RHEL8 | SKIPPED | PASS | SKIPPED | SKIPPED | SKIPPED | SKIPPED | +-----------------------------------+-------------------+--------------------+-------------------------+-------------------+------------------+----------------------+ | RHEL9 | SKIPPED | PASS | SKIPPED | SKIPPED | SKIPPED | SKIPPED | +-----------------------------------+-------------------+--------------------+-------------------------+-------------------+------------------+----------------------+ | Ubuntu 22.04 | SKIPPED | PASS | SKIPPED | PASS | SKIPPED | SKIPPED | +-----------------------------------+-------------------+--------------------+-------------------------+-------------------+------------------+----------------------+ | Ubuntu 24.04 | SKIPPED | PASS | SKIPPED | PASS | PASS | SKIPPED | +-----------------------------------+-------------------+--------------------+-------------------------+-------------------+------------------+----------------------+ | Alpine | SKIPPED | PASS | SKIPPED | SKIPPED | SKIPPED | SKIPPED | +-----------------------------------+-------------------+--------------------+-------------------------+-------------------+------------------+----------------------+ | Ubuntu 24.04 32 Bit Cross Compile | SKIPPED | PASS | SKIPPED | SKIPPED | SKIPPED | SKIPPED | +-----------------------------------+-------------------+--------------------+-------------------------+-------------------+------------------+----------------------+ ==== 20 line log output for Fedora 41 (Clang) (dpdk_compile_spdk): ==== --- Failed to get log output --- ==== End log output ==== Windows Server 2022 Kernel: 10.0.20348.2031 Compiler: clang 15.0.7, gcc 14.1.0 (MinGW), and MSVC VS 19.39.33521 FreeBSD 14.2 Kernel: 14.2-RELEASE Compiler: clang 18.1.6 Ubuntu 20.04 Kernel: 4.19.325-0419325-generic Compiler: gcc (Ubuntu 9.4.0-1ubuntu1~20.04.2) 9.4.0 CentOS Stream 9 Kernel: Depends on container host Compiler: gcc 11.5.0 20240719 (Red Hat 11.5.0-2) CentOS Stream 10 Kernel: Depends on container host Compiler: gcc 14.2.1 20241104 (Red Hat 14.2.1-6) Debian 12 Kernel: Depends on container host Compiler: gcc (Debian 12.2.0-14) 12.2.0 Fedora 40 (Clang) Kernel: Depends on container host Compiler: clang 18.1.8 (Fedora 18.1.8-1.fc40) Fedora 40 Kernel: Depends on container host Compiler: gcc 14.2.1 20240912 (Red Hat 14.2.1-3) Fedora 41 (Clang) Kernel: Depends on container host Compiler: clang 19.1.5 (Fedora 19.1.5-1.fc41) Fedora 41 Kernel: Depends on container host Compiler: gcc 14.2.1 20240912 (Red Hat 14.2.1-3) openSUSE Leap 15 Kernel: Depends on container host Compiler: gcc (SUSE Linux) 7.5.0 RHEL8 Kernel: Depends on container host Compiler: gcc 8.5.0 20210514 (Red Hat 8.5.0-22) RHEL9 Kernel: Depends on container host Compiler: gcc 11.5.0 20240719 (Red Hat 11.5.0-2) Ubuntu 22.04 Kernel: Depends on container host Compiler: gcc (Ubuntu 11.4.0-1ubuntu1~22.04) 11.4.0 Ubuntu 24.04 Kernel: Depends on container host Compiler: gcc (Ubuntu 13.3.0-6ubuntu2~24.04) 13.3.0 Alpine Kernel: Depends on container host Compiler: gcc (Alpine 14.2.0) 14.2.0 Ubuntu 24.04 32 Bit Cross Compile Kernel: Depends on container host Compiler: gcc (Ubuntu 13.3.0-6ubuntu2~24.04) 13.3.0 To view detailed results, visit: https://lab.dpdk.org/results/dashboard/tarballs/33609/ UNH-IOL DPDK Community Lab To manage your email subscriptions, visit: https://lab.dpdk.org/results/dashboard/preferences/subscriptions/