From mboxrd@z Thu Jan  1 00:00:00 1970
Return-Path: <test-report-bounces@dpdk.org>
Received: from mails.dpdk.org (mails.dpdk.org [217.70.189.124])
	by inbox.dpdk.org (Postfix) with ESMTP id 649F3467AC
	for <public@inbox.dpdk.org>; Thu, 22 May 2025 02:32:52 +0200 (CEST)
Received: from mails.dpdk.org (localhost [127.0.0.1])
	by mails.dpdk.org (Postfix) with ESMTP id 4A17F4027A;
	Thu, 22 May 2025 02:32:52 +0200 (CEST)
Received: from mail-pl1-f227.google.com (mail-pl1-f227.google.com
 [209.85.214.227])
 by mails.dpdk.org (Postfix) with ESMTP id BB33C40144
 for <test-report@dpdk.org>; Thu, 22 May 2025 02:32:51 +0200 (CEST)
Received: by mail-pl1-f227.google.com with SMTP id
 d9443c01a7336-231f6af929eso58784305ad.2
 for <test-report@dpdk.org>; Wed, 21 May 2025 17:32:51 -0700 (PDT)
DKIM-Signature: v=1; a=rsa-sha256; c=relaxed/relaxed;
 d=iol.unh.edu; s=unh-iol; t=1747873971; x=1748478771; darn=dpdk.org;
 h=references:in-reply-to:cc:to:from:subject:message-id:date:from:to
 :cc:subject:date:message-id:reply-to;
 bh=7p35LhxL+cOYVx7j4/aZhbaKEYQhz27uYUkBWLAXXCw=;
 b=bLD39bQSkC2MbgWJaZNfQHYHxkqlEhcs8z/C6sYOHKZLIvTeoQVZIh3PKS1YSDHuTq
 ZWYsmsdEimQqJK+H7i2khDb4QNyd6YeQvbwJEkDYMub+3JHhwmQtsx+nbg9Uwe485tAX
 /ubIiK/HrcI0qQJvwTMVUCBhqTR37jX+/vHhM=
X-Google-DKIM-Signature: v=1; a=rsa-sha256; c=relaxed/relaxed;
 d=1e100.net; s=20230601; t=1747873971; x=1748478771;
 h=references:in-reply-to:cc:to:from:subject:message-id:date
 :x-gm-message-state:from:to:cc:subject:date:message-id:reply-to;
 bh=7p35LhxL+cOYVx7j4/aZhbaKEYQhz27uYUkBWLAXXCw=;
 b=i7bRSTshK7rbpUsa2/KfMHR7gpGe0jJxh0dmlazf+d4GgGfbOExV3Y7Cv87bnlFird
 BKBiT4d2ek02L5OBSumlcBYxoVfxagqoEGdCLe0IhTU/VACB9TF12mzMTwzLqPaifW6u
 6ehDj7LDBE3Zvmc4kwk1HN+o3Y2NoT2eQpXLWAzVD9vhPFseh3uqEwiZp7dcym4iTapa
 wUZamxei2M6o0JOKbd/uim/o0QPjLmdEK5QzjfP/ZHemI5xicCGtpZK3y3xAKBW5r1Mg
 yQy+BHiKVPKl67RDa5QHvVPuBU92lU3bKT5+TMuSOzkP9GoFXbv9oO+nAVNYBY3bRIRm
 yKTQ==
X-Gm-Message-State: AOJu0YxdyFQJFtJuA1webxBG3gJdV0cseyecG8ayXBKwScLhgz1IOwPZ
 MgOQjRn7XWn6+Cyalyhx2pViVoIz7tpBaj8dClX5uVAWNXAzKHoyxfhrKzquDhK7AZPzTpn8hzT
 P8UVVdnZAg6CbpqPvTqAWGH+ZmeNhhVTwf7cFqgzmiZbFKlBXhCUootDdjLpN
X-Gm-Gg: ASbGncs+riyJG49XTS5bRGS8cotUUSgVEC3aO/xJXGIcjKqcR24UwxKekDuFk4YmqnC
 juIAlSKj7C3c9e+3F2cV9LeDUeRcwvL364kZaVbnzsITnnAToJfv7gA/MiAKxVtUj7M+7NXzhtz
 GA9aCH+jMFF0razCFAAKD5XEavXKKr/seVQVZdYFwts29GZUTmDQfKiH59Z+nzkqfd8g/C6D8sH
 2uOpVypgSv1i8w215OuXXDZ18N3+adh7xX61G3cIC28gAEDIXujV1UyYgSDhfYEkDPcwT8L+52M
 Ckk9yshpWXnqc21MuHL8eJ+23uHceyaF4+Fj
X-Google-Smtp-Source: AGHT+IGBIbMWsKN4Qlg85Vu2uuiF6Z9Nyy0oDUrSyPCVSLzDY1f88PoNm2vmysQTq93CkiHyqlTNBdTSm0fM
X-Received: by 2002:a17:902:f64f:b0:224:1c41:a4bc with SMTP id
 d9443c01a7336-231d43a3c50mr404577965ad.12.1747873970628; 
 Wed, 21 May 2025 17:32:50 -0700 (PDT)
Received: from postal.iol.unh.edu (postal.iol.unh.edu.
 [2606:4100:3880:1234::84]) by smtp-relay.gmail.com with ESMTPS id
 d9443c01a7336-231d4ed0e98sm6327915ad.124.2025.05.21.17.32.50
 (version=TLS1_2 cipher=ECDHE-ECDSA-AES128-GCM-SHA256 bits=128/128);
 Wed, 21 May 2025 17:32:50 -0700 (PDT)
X-Relaying-Domain: iol.unh.edu
Date: Wed, 21 May 2025 17:32:50 -0700 (PDT)
Message-ID: <682e70b2.170a0220.2a955b.16d0SMTPIN_ADDED_MISSING@mx.google.com>
Received: from [172.17.0.4] (unknown [172.18.0.74])
 by postal.iol.unh.edu (Postfix) with ESMTP id D782E6052471;
 Wed, 21 May 2025 20:32:49 -0400 (EDT)
Subject: |SUCCESS| pw153574 [PATCH] [v1] net/virtio-user: implement MAC setti
From: dpdklab@iol.unh.edu
To: Test Report <test-report@dpdk.org>
Cc: dpdk-test-reports@iol.unh.edu
In-Reply-To: <20250521142305.343264-1-maxime.coquelin@redhat.com>
References: <20250521142305.343264-1-maxime.coquelin@redhat.com>
Content-Type: text/plain
X-BeenThere: test-report@dpdk.org
X-Mailman-Version: 2.1.29
Precedence: list
List-Id: automatic DPDK test reports <test-report.dpdk.org>
List-Unsubscribe: <https://mails.dpdk.org/options/test-report>,
 <mailto:test-report-request@dpdk.org?subject=unsubscribe>
List-Archive: <http://mails.dpdk.org/archives/test-report/>
List-Post: <mailto:test-report@dpdk.org>
List-Help: <mailto:test-report-request@dpdk.org?subject=help>
List-Subscribe: <https://mails.dpdk.org/listinfo/test-report>,
 <mailto:test-report-request@dpdk.org?subject=subscribe>
Errors-To: test-report-bounces@dpdk.org

Test-Label: iol-compile-arm64-testing
Test-Status: SUCCESS
http://dpdk.org/patch/153574

_Testing PASS_

Submitter: Maxime Coquelin <maxime.coquelin@redhat.com>
Date: Wednesday, May 21 2025 14:23:05 
DPDK git baseline: Repo:dpdk
  Branch: master
  CommitID:3223019e73391066cbb0d248051b163e5373034c

153574 --> testing pass

Upstream job id: Generic-DPDK-Compile-Meson#390201

Test environment and result as below:

+----------------------------------------+--------------------+
|              Environment               | dpdk_meson_compile |
+========================================+====================+
| RHEL9 (ARM)                            | PASS               |
+----------------------------------------+--------------------+
| Ubuntu 20.04 ARM GCC Cross Compile     | PASS               |
+----------------------------------------+--------------------+
| Ubuntu 20.04 ARM SVE                   | PASS               |
+----------------------------------------+--------------------+
| Debian 12 with MUSDK                   | PASS               |
+----------------------------------------+--------------------+
| Fedora 40 (ARM Clang)                  | PASS               |
+----------------------------------------+--------------------+
| Fedora 41 (ARM)                        | PASS               |
+----------------------------------------+--------------------+
| Fedora 41 (ARM Clang)                  | PASS               |
+----------------------------------------+--------------------+
| Ubuntu 20.04 (ARM)                     | PASS               |
+----------------------------------------+--------------------+
| Ubuntu 22.04 (ARM)                     | PASS               |
+----------------------------------------+--------------------+
| Ubuntu 24.04 (ARM)                     | PASS               |
+----------------------------------------+--------------------+
| CentOS Stream 9 (ARM)                  | PASS               |
+----------------------------------------+--------------------+
| Debian 12 (arm)                        | PASS               |
+----------------------------------------+--------------------+
| Ubuntu 20.04 ARM Clang Cross Compile   | PASS               |
+----------------------------------------+--------------------+
| Ubuntu 20.04 aarch32 GCC Cross Compile | PASS               |
+----------------------------------------+--------------------+
| Fedora 40 (ARM)                        | PASS               |
+----------------------------------------+--------------------+
| CentOS Stream 10 (ARM)                 | PASS               |
+----------------------------------------+--------------------+


RHEL9 (ARM)
	Kernel: Depends on container host
	Compiler: gcc 11.5.0 20240719 (Red Hat 11.5.0-2)

Ubuntu 20.04 ARM GCC Cross Compile
	Kernel: Depends on container host
	Compiler: aarch64-linux-gnu-gcc (Ubuntu 9.4.0-1ubuntu1~20.04.2) 9.4.0

Ubuntu 20.04 ARM SVE
	Kernel: Depends on container host
	Compiler: gcc (Ubuntu 10.5.0-1ubuntu1~20.04) 10.5.0

Debian 12 with MUSDK
	Kernel: Depends on container host
	Compiler: gcc (Debian 12.2.0-14) 12.2.0

Fedora 40 (ARM Clang)
	Kernel: Depends on container host
	Compiler: clang 18.1.8 (Fedora 18.1.8-1.fc40)

Fedora 41 (ARM)
	Kernel: Depends on container host
	Compiler: gcc 14.2.1 20240912 (Red Hat 14.2.1-3)

Fedora 41 (ARM Clang)
	Kernel: Depends on container host
	Compiler: clang 19.1.5 (Fedora 19.1.5-1.fc41)

Ubuntu 20.04 (ARM)
	Kernel: Depends on container host
	Compiler: gcc (Ubuntu 9.4.0-1ubuntu1~20.04.2) 9.4.0

Ubuntu 22.04 (ARM)
	Kernel: Depends on container host
	Compiler: gcc (Ubuntu 11.4.0-1ubuntu1~22.04) 11.4.0

Ubuntu 24.04 (ARM)
	Kernel: Depends on container host
	Compiler: gcc (Ubuntu 13.3.0-6ubuntu2~24.04) 13.3.0

CentOS Stream 9 (ARM)
	Kernel: Depends on container host
	Compiler: gcc 11.5.0 20240719 (Red Hat 11.5.0-2)

Debian 12 (arm)
	Kernel: Depends on container host
	Compiler: gcc (Debian 12.2.0-14) 12.2.0

Ubuntu 20.04 ARM Clang Cross Compile
	Kernel: Depends on container host
	Compiler: clang 10.0.0-4ubuntu1

Ubuntu 20.04 aarch32 GCC Cross Compile
	Kernel: Depends on container host
	Compiler: gcc 9.4.0

Fedora 40 (ARM)
	Kernel: Depends on container host
	Compiler: gcc 14.2.1 20240912 (Red Hat 14.2.1-3)

CentOS Stream 10 (ARM)
	Kernel: Depends on container host
	Compiler: gcc 14.2.1 20241104 (Red Hat 14.2.1-6)

To view detailed results, visit:
https://lab.dpdk.org/results/dashboard/patchsets/33224/

UNH-IOL DPDK Community Lab

To manage your email subscriptions, visit: 
https://lab.dpdk.org/results/dashboard/preferences/subscriptions/