From mboxrd@z Thu Jan 1 00:00:00 1970 Return-Path: Received: from mails.dpdk.org (mails.dpdk.org [217.70.189.124]) by inbox.dpdk.org (Postfix) with ESMTP id 5A135467AC for ; Thu, 22 May 2025 03:06:49 +0200 (CEST) Received: from mails.dpdk.org (localhost [127.0.0.1]) by mails.dpdk.org (Postfix) with ESMTP id 2E2514027A; Thu, 22 May 2025 03:06:49 +0200 (CEST) Received: from mail-pj1-f99.google.com (mail-pj1-f99.google.com [209.85.216.99]) by mails.dpdk.org (Postfix) with ESMTP id 7D53B40144 for ; Thu, 22 May 2025 03:06:47 +0200 (CEST) Received: by mail-pj1-f99.google.com with SMTP id 98e67ed59e1d1-30eb1c68386so3791751a91.2 for ; Wed, 21 May 2025 18:06:47 -0700 (PDT) DKIM-Signature: v=1; a=rsa-sha256; c=relaxed/relaxed; d=iol.unh.edu; s=unh-iol; t=1747876006; x=1748480806; darn=dpdk.org; h=references:in-reply-to:cc:to:from:subject:message-id:date:from:to :cc:subject:date:message-id:reply-to; bh=HwuVAPP3NENLZYk6OYiQ2j7AarBm7n7jWgoy9Wtpzk8=; b=YZAxx3qkXQq3BpvFycCFUVts93kzLykGZgGoNfbGQwjXXsHf4/ZuG1drrChVfzWF+f 825Ms2J13kMRA0dNCpdgwiK3nsn/zvdMasIBWTwIdIkJdnBWj6++9SXVPDA8RVzj+pHa 1+yZYoJJ3h2Od/Z2eXhBRzxTic3MwqillU/tM= X-Google-DKIM-Signature: v=1; a=rsa-sha256; c=relaxed/relaxed; d=1e100.net; s=20230601; t=1747876006; x=1748480806; h=references:in-reply-to:cc:to:from:subject:message-id:date :x-gm-message-state:from:to:cc:subject:date:message-id:reply-to; bh=HwuVAPP3NENLZYk6OYiQ2j7AarBm7n7jWgoy9Wtpzk8=; b=lqOMnqvclBI15kmEiSUQkdOYb9F0NFIkQqGnOb6mHa482lbPmAU0FW3Afdh68u4lFl d8kNv+S9FQENbdUmafkdXHAeL8ko2JIloJ+Ir4XZaSdsCpX8jZe1/p5tHmzyYnXB9mhd ubHKP9lEICUsV9Q4cauUj/Vl74cwAjiwiyjPdqRZ9HjFeXstZY5kZtDmJxYhZn8iVygL OIzx7n/AtTgBoUnRRaNboyb/QEcABWKtJridNpiwz54s2OPlXF9+2pmkNu3KW3TMApUH QOcqBJe153BFsRcGbSbwHfij4I48ha9J4abWArV6NyotigYjpW/NUAznDCN5l2xW7quu ggkQ== X-Gm-Message-State: AOJu0YxQH351PQwGazUCDq3Q0R2PkfUvAmXhf+NG9NuHHXn1sfq7oFgM SUGiqhMZIXK3MhRuLu73b7RYV3CuM5kCM4ix6cOTEqs5UVwoBnA2Gad3tfNj2Q1/+WGvefpDeNh 6a1m51c2DMc8UY5wqmrwWMS3KVe8QPlr9S3WkJa/nYt1bWKFXoivw055p3zZY X-Gm-Gg: ASbGncv1br6sbEGnrgiupn1mf4StnXTYfPTbfdIKeQKTc9wGUO51oPzzk3w3Yt6KGQK gKWFqgbqA0AdoyBE8k5piAISLJPw8MJ3NPytufYM6gCgfvHId+FVNugjaVx1NxRbMA3foErshjH AcSGalwY5XUtq6UfP56bMaSrKwiHZLvSmNnWFesjhGNEdnCGxG/q1IKNpiCAufmD0JaMUAfKl6L 5G2A8LymXuQi033JoQCto0i8BIV4XFOBCrnNOFEv3svMFRzodOC+4u7sC9SVHWgyLhGeF9geqSC MCnGye8kR42WEEiQ+MyW7J1gBvhJWpN4X1h7 X-Google-Smtp-Source: AGHT+IEdeG9XHUG7f+gDTsSWddrTd3+RhjyYr1l7PKV+1sikZ3pBErROhc1MHtJfKsub2rFaSe7ZO9EuREoO X-Received: by 2002:a17:90b:254a:b0:2ef:31a9:95c6 with SMTP id 98e67ed59e1d1-30e7d52b08dmr38680952a91.14.1747876006584; Wed, 21 May 2025 18:06:46 -0700 (PDT) Received: from postal.iol.unh.edu (postal.iol.unh.edu. [2606:4100:3880:1234::84]) by smtp-relay.gmail.com with ESMTPS id 98e67ed59e1d1-30f36523762sm367160a91.0.2025.05.21.18.06.46 (version=TLS1_2 cipher=ECDHE-ECDSA-AES128-GCM-SHA256 bits=128/128); Wed, 21 May 2025 18:06:46 -0700 (PDT) X-Relaying-Domain: iol.unh.edu Date: Wed, 21 May 2025 18:06:46 -0700 (PDT) Message-ID: <682e78a6.170a0220.2dbdbe.3a2aSMTPIN_ADDED_MISSING@mx.google.com> Received: from [172.21.0.5] (unknown [172.18.0.240]) by postal.iol.unh.edu (Postfix) with ESMTP id B6DA26052471; Wed, 21 May 2025 21:06:45 -0400 (EDT) Subject: |SUCCESS| pw153576-153578 [PATCH] [v2,3/3] dts: add flow validation From: dpdklab@iol.unh.edu To: Test Report Cc: dpdk-test-reports@iol.unh.edu In-Reply-To: <20250521192629.294265-3-dmarx@iol.unh.edu> References: <20250521192629.294265-3-dmarx@iol.unh.edu> Content-Type: text/plain X-BeenThere: test-report@dpdk.org X-Mailman-Version: 2.1.29 Precedence: list List-Id: automatic DPDK test reports List-Unsubscribe: , List-Archive: List-Post: List-Help: List-Subscribe: , Errors-To: test-report-bounces@dpdk.org Test-Label: iol-unit-arm64-testing Test-Status: SUCCESS http://dpdk.org/patch/153578 _Testing PASS_ Submitter: Dean Marx Date: Wednesday, May 21 2025 19:26:29 DPDK git baseline: Repo:dpdk Branch: master CommitID:1aef42bc97a31906486c9d66b792208948af06f3 153576-153578 --> testing pass Upstream job id: Generic-Unit-Test-DPDK#339733 Test environment and result as below: +-----------------------------+------------------------------+---------------------------+--------------+----------------+ | Environment | cryptodev_sw_snow3g_autotest | cryptodev_sw_zuc_autotest | lpm_autotest | dpdk_unit_test | +=============================+==============================+===========================+==============+================+ | Debian 12 (arm) | PASS | PASS | SKIPPED | PASS | +-----------------------------+------------------------------+---------------------------+--------------+----------------+ | Ubuntu 20.04 ARM SVE | SKIPPED | SKIPPED | PASS | SKIPPED | +-----------------------------+------------------------------+---------------------------+--------------+----------------+ | Fedora 40 (ARM) | SKIPPED | SKIPPED | SKIPPED | PASS | +-----------------------------+------------------------------+---------------------------+--------------+----------------+ | CentOS Stream 9 (ARM) | SKIPPED | SKIPPED | SKIPPED | PASS | +-----------------------------+------------------------------+---------------------------+--------------+----------------+ | Fedora 40 (ARM Clang) | SKIPPED | SKIPPED | SKIPPED | PASS | +-----------------------------+------------------------------+---------------------------+--------------+----------------+ | CentOS Stream 10 (ARM) | SKIPPED | SKIPPED | SKIPPED | PASS | +-----------------------------+------------------------------+---------------------------+--------------+----------------+ | Fedora 41 (ARM Clang) | SKIPPED | SKIPPED | SKIPPED | PASS | +-----------------------------+------------------------------+---------------------------+--------------+----------------+ | Ubuntu 20.04 (ARM) | SKIPPED | SKIPPED | SKIPPED | PASS | +-----------------------------+------------------------------+---------------------------+--------------+----------------+ | Fedora 41 (ARM) | SKIPPED | SKIPPED | SKIPPED | PASS | +-----------------------------+------------------------------+---------------------------+--------------+----------------+ | RHEL9 (ARM) | SKIPPED | SKIPPED | SKIPPED | PASS | +-----------------------------+------------------------------+---------------------------+--------------+----------------+ | Ubuntu 24.04 (ARM) | SKIPPED | SKIPPED | SKIPPED | PASS | +-----------------------------+------------------------------+---------------------------+--------------+----------------+ | Ubuntu 22.04 (ARM) | SKIPPED | SKIPPED | SKIPPED | PASS | +-----------------------------+------------------------------+---------------------------+--------------+----------------+ | 32-bit Ubuntu 22.04.4 (ARM) | SKIPPED | SKIPPED | SKIPPED | PASS | +-----------------------------+------------------------------+---------------------------+--------------+----------------+ Debian 12 (arm) Kernel: Depends on container host Compiler: gcc (Debian 12.2.0-14) 12.2.0 Ubuntu 20.04 ARM SVE Kernel: Depends on container host Compiler: gcc (Ubuntu 10.5.0-1ubuntu1~20.04) 10.5.0 Fedora 40 (ARM) Kernel: Depends on container host Compiler: gcc 14.2.1 20240912 (Red Hat 14.2.1-3) CentOS Stream 9 (ARM) Kernel: Depends on container host Compiler: gcc 11.5.0 20240719 (Red Hat 11.5.0-2) Fedora 40 (ARM Clang) Kernel: Depends on container host Compiler: clang 18.1.8 (Fedora 18.1.8-1.fc40) CentOS Stream 10 (ARM) Kernel: Depends on container host Compiler: gcc 14.2.1 20241104 (Red Hat 14.2.1-6) Fedora 41 (ARM Clang) Kernel: Depends on container host Compiler: clang 19.1.5 (Fedora 19.1.5-1.fc41) Ubuntu 20.04 (ARM) Kernel: Depends on container host Compiler: gcc (Ubuntu 9.4.0-1ubuntu1~20.04.2) 9.4.0 Fedora 41 (ARM) Kernel: Depends on container host Compiler: gcc 14.2.1 20240912 (Red Hat 14.2.1-3) RHEL9 (ARM) Kernel: Depends on container host Compiler: gcc 11.5.0 20240719 (Red Hat 11.5.0-2) Ubuntu 24.04 (ARM) Kernel: Depends on container host Compiler: gcc (Ubuntu 13.3.0-6ubuntu2~24.04) 13.3.0 Ubuntu 22.04 (ARM) Kernel: Depends on container host Compiler: gcc (Ubuntu 11.4.0-1ubuntu1~22.04) 11.4.0 32-bit Ubuntu 22.04.4 (ARM) Kernel: 5.15.83+ aarch64 Compiler: gcc (Ubuntu 11.4.0-1ubuntu1~22.04) 11.4.0 To view detailed results, visit: https://lab.dpdk.org/results/dashboard/patchsets/33226/ UNH-IOL DPDK Community Lab To manage your email subscriptions, visit: https://lab.dpdk.org/results/dashboard/preferences/subscriptions/