From mboxrd@z Thu Jan 1 00:00:00 1970 Return-Path: Received: from mails.dpdk.org (mails.dpdk.org [217.70.189.124]) by inbox.dpdk.org (Postfix) with ESMTP id C10CF467AC for ; Thu, 22 May 2025 03:17:49 +0200 (CEST) Received: from mails.dpdk.org (localhost [127.0.0.1]) by mails.dpdk.org (Postfix) with ESMTP id 7749D4027A; Thu, 22 May 2025 03:17:49 +0200 (CEST) Received: from mail-pg1-f226.google.com (mail-pg1-f226.google.com [209.85.215.226]) by mails.dpdk.org (Postfix) with ESMTP id 9248040144 for ; Thu, 22 May 2025 03:17:47 +0200 (CEST) Received: by mail-pg1-f226.google.com with SMTP id 41be03b00d2f7-b07d607dc83so5783126a12.1 for ; Wed, 21 May 2025 18:17:47 -0700 (PDT) DKIM-Signature: v=1; a=rsa-sha256; c=relaxed/relaxed; d=iol.unh.edu; s=unh-iol; t=1747876666; x=1748481466; darn=dpdk.org; h=cc:to:from:subject:message-id:date:from:to:cc:subject:date :message-id:reply-to; bh=K5/wCepKwOxZt/nIAOVkfXq0to+5TJ1BGCWcWXEUubA=; b=T4FQsMeADI2LqhD4vgY9N8K879vS8rhLmhqTX9cMXaAtl0qZjljIL+s0JxNm7pvQ6+ MF4K8lyuH7R56Z1e7wfE4OcZGjLYCF7HJsdQcoJrS77j4kvsbjtMVRPLtLGQv4eT7mFH qirYOHBz7lQPoHo0gIXNJiF1gqlWghVFZPQ+Q= X-Google-DKIM-Signature: v=1; a=rsa-sha256; c=relaxed/relaxed; d=1e100.net; s=20230601; t=1747876666; x=1748481466; h=cc:to:from:subject:message-id:date:x-gm-message-state:from:to:cc :subject:date:message-id:reply-to; bh=K5/wCepKwOxZt/nIAOVkfXq0to+5TJ1BGCWcWXEUubA=; b=f0nD/hczg7g+XewB4vPdrNR1Gcw9/e5/V4S7aj/uYixx2yhdAZiFTlqMhk+oPEYKvN eSzDnh4aAn2IVvMcwQUBV86/IrKNUDcmf5wCBLVfwdrIud+uR307syHSfRXiqSBrK6TR apJ9fLS72IBGRolIWDGR7bg1AYvKgk2NygljjQM9d/u9M/tdAXzGSlCcMkxCeXd5x7n6 yWCbNUXIbih7bJ77A51cLd5Nl2OMigRNHaOPdbb2GNJx1PZr6HxMQko6+RhHEZbDoDww 1tebtz/IjHwnbHBV4dAkU006hCCs7+wdYpXjVRH1IG5ocyUHirJt3Of1SyIbmRTk8Ywq fP0Q== X-Gm-Message-State: AOJu0Yw59O98P7Ghjwnmwf6ire9wewJ0RQpNAbHTfeFi3rt7ykfSCirK ImEQknyTuAlJpSZFx2IgFK453Jho2TNZYbEeDEEdfQBsqf55q95MuC9m9R9r12DHRWDXUQNDchl UsAR0DwK2jPMcW1iSH2ZLzJbXycfHBzk4sdjNCHrYMrWj X-Gm-Gg: ASbGnctKu5n6FValiW1EmVY2RLvFGVDoI/dPoHErm8SU01GWvDujeznqZHIczMCsF6a Sn9Ld0LzlS49aZSiFIIDow7XKcE7mbWVKo7BN4LFC83N5w7pTSfV9VHnumLxbt+fHpgSD+p2cZ9 SVtacSYifPGMtVH01vHolf33NPprsFjfvmXvOxW+7v4cFCj8THnICxNmeOH+Yr7uyQYklQie6al lGHmSbZPjJsBMWCSo2v07QGtCP84M45XuyPRHIgWqX+XbxVlIn99DX2r1hkrMVGWiqcvjJBt1en HuiyjMhBQsb+nfKVave7v5EwqQdgUByhHQx+JBD0poNTonwYY3i0C13Kf94= X-Google-Smtp-Source: AGHT+IFarcuRMRxTbjwpOhqWOkRVO0NzT25LxhsRcJAWx8dFAnNWJjpFJZZuWQAlR/y3m0Pr9oZ73TaUdHJk X-Received: by 2002:a17:902:ea05:b0:22e:4a2e:8ae7 with SMTP id d9443c01a7336-231d451db06mr368282875ad.22.1747876666482; Wed, 21 May 2025 18:17:46 -0700 (PDT) Received: from postal.iol.unh.edu (postal.iol.unh.edu. [132.177.123.84]) by smtp-relay.gmail.com with ESMTPS id d9443c01a7336-231d4ebb86csm6904385ad.115.2025.05.21.18.17.46 (version=TLS1_2 cipher=ECDHE-ECDSA-AES128-GCM-SHA256 bits=128/128); Wed, 21 May 2025 18:17:46 -0700 (PDT) X-Relaying-Domain: iol.unh.edu Date: Wed, 21 May 2025 18:17:46 -0700 (PDT) Message-ID: <682e7b3a.170a0220.143a37.5ffdSMTPIN_ADDED_MISSING@mx.google.com> Received: from [172.17.0.3] (unknown [172.18.0.74]) by postal.iol.unh.edu (Postfix) with ESMTP id 5B04E6052471; Wed, 21 May 2025 21:17:45 -0400 (EDT) Subject: |SUCCESS| [GIT MASTER] 117e86c4b96ed761e9a7ab766261208fe81bf5ca From: dpdklab@iol.unh.edu To: Test Report Cc: dpdk-test-reports@iol.unh.edu Content-Type: text/plain X-BeenThere: test-report@dpdk.org X-Mailman-Version: 2.1.29 Precedence: list List-Id: automatic DPDK test reports List-Unsubscribe: , List-Archive: List-Post: List-Help: List-Subscribe: , Errors-To: test-report-bounces@dpdk.org _Testing PASS_ Branch: dpdk 117e86c4b96ed761e9a7ab766261208fe81bf5ca --> testing pass Upstream job id: Generic-Unit-Test-DPDK#339794 Test environment and result as below: +---------------------+----------------+ | Environment | dpdk_unit_test | +=====================+================+ | CentOS Stream 9 | PASS | +---------------------+----------------+ | Arch Linux | PASS | +---------------------+----------------+ | CentOS Stream 10 | PASS | +---------------------+----------------+ | Debian 12 | PASS | +---------------------+----------------+ | Fedora 40 | PASS | +---------------------+----------------+ | Fedora 41 | PASS | +---------------------+----------------+ | RHEL8 | PASS | +---------------------+----------------+ | Fedora 40 (Clang) | PASS | +---------------------+----------------+ | RHEL9 | PASS | +---------------------+----------------+ | Fedora 41 (Clang) | PASS | +---------------------+----------------+ | Ubuntu 20.04 | PASS | +---------------------+----------------+ | Ubuntu 22.04 | PASS | +---------------------+----------------+ | Ubuntu 24.04 | PASS | +---------------------+----------------+ | Windows Server 2022 | PASS | +---------------------+----------------+ CentOS Stream 9 Kernel: Depends on container host Compiler: gcc 11.5.0 20240719 (Red Hat 11.5.0-2) Arch Linux Kernel: Depends on container host Compiler: gcc 14.2.1 20240910 CentOS Stream 10 Kernel: Depends on container host Compiler: gcc 14.2.1 20241104 (Red Hat 14.2.1-6) Debian 12 Kernel: Depends on container host Compiler: gcc (Debian 12.2.0-14) 12.2.0 Fedora 40 Kernel: Depends on container host Compiler: gcc 14.2.1 20240912 (Red Hat 14.2.1-3) Fedora 41 Kernel: Depends on container host Compiler: gcc 14.2.1 20240912 (Red Hat 14.2.1-3) RHEL8 Kernel: Depends on container host Compiler: gcc 8.5.0 20210514 (Red Hat 8.5.0-22) Fedora 40 (Clang) Kernel: Depends on container host Compiler: clang 18.1.8 (Fedora 18.1.8-1.fc40) RHEL9 Kernel: Depends on container host Compiler: gcc 11.5.0 20240719 (Red Hat 11.5.0-2) Fedora 41 (Clang) Kernel: Depends on container host Compiler: clang 19.1.5 (Fedora 19.1.5-1.fc41) Ubuntu 20.04 Kernel: Depends on container host Compiler: gcc (Ubuntu 9.4.0-1ubuntu1~20.04.2) 9.4.0 Ubuntu 22.04 Kernel: Depends on container host Compiler: gcc (Ubuntu 11.4.0-1ubuntu1~22.04) 11.4.0 Ubuntu 24.04 Kernel: Depends on container host Compiler: gcc (Ubuntu 13.3.0-6ubuntu2~24.04) 13.3.0 Windows Server 2022 Kernel: 10.0.20348.2031 Compiler: clang 15.0.7, gcc 14.1.0 (MinGW), and MSVC VS 19.39.33521 To view detailed results, visit: https://lab.dpdk.org/results/dashboard/tarballs/33610/ UNH-IOL DPDK Community Lab To manage your email subscriptions, visit: https://lab.dpdk.org/results/dashboard/preferences/subscriptions/