From mboxrd@z Thu Jan  1 00:00:00 1970
Return-Path: <test-report-bounces@dpdk.org>
Received: from mails.dpdk.org (mails.dpdk.org [217.70.189.124])
	by inbox.dpdk.org (Postfix) with ESMTP id 7164A467AC
	for <public@inbox.dpdk.org>; Thu, 22 May 2025 03:24:55 +0200 (CEST)
Received: from mails.dpdk.org (localhost [127.0.0.1])
	by mails.dpdk.org (Postfix) with ESMTP id 4F21F4027A;
	Thu, 22 May 2025 03:24:55 +0200 (CEST)
Received: from mail-pf1-f227.google.com (mail-pf1-f227.google.com
 [209.85.210.227])
 by mails.dpdk.org (Postfix) with ESMTP id 1AD7040144
 for <test-report@dpdk.org>; Thu, 22 May 2025 03:24:54 +0200 (CEST)
Received: by mail-pf1-f227.google.com with SMTP id
 d2e1a72fcca58-742c7a52e97so3755197b3a.3
 for <test-report@dpdk.org>; Wed, 21 May 2025 18:24:53 -0700 (PDT)
DKIM-Signature: v=1; a=rsa-sha256; c=relaxed/relaxed;
 d=iol.unh.edu; s=unh-iol; t=1747877093; x=1748481893; darn=dpdk.org;
 h=cc:to:from:subject:message-id:date:from:to:cc:subject:date
 :message-id:reply-to;
 bh=kZe1UR6/UpOTb4Q5YSDpG9LBmQ1STvFrYxZrXua/4LE=;
 b=Txp5Lq7sGp+/VAvJsi9Q5akRWTlMtq5TYatmhsVvZGEpmt1ikX1pwXqxlshqaUrOp1
 f5cSUFsDcmxlav6C+zgOpFiixFbFbcN5EiF1L3k9n8Ba+PIPYQwx0xUgEEEJwz4ZWK8x
 wvfNvJ5xL/oeG49UZlaJGdO3jizcSqsRlXlWY=
X-Google-DKIM-Signature: v=1; a=rsa-sha256; c=relaxed/relaxed;
 d=1e100.net; s=20230601; t=1747877093; x=1748481893;
 h=cc:to:from:subject:message-id:date:x-gm-message-state:from:to:cc
 :subject:date:message-id:reply-to;
 bh=kZe1UR6/UpOTb4Q5YSDpG9LBmQ1STvFrYxZrXua/4LE=;
 b=rM/1C0+0fXt7FPVJNGuirig2PAw4GhVaJ0uQ/e53R0fZpcKlw0OqKNR0IWd6QWWwW1
 krcyXQ9RSAx7R/aG5g0DNUYjQJxkGDYbyQ/udUH+fwDruevCCtxhdmZ+STLUze/Sgbb9
 kbp2kduz868U0UA5QU20zNzrY5TPpROIz1rPugyVMZTFU+YJikJ4qCHGA6xoUjn10I6u
 l5OAMveP8iJGh+WTRqXJu7HHsPXna+Ie/HTDSgauWcvLYxd7A+OOfp+ruNyBZ/8yDCPs
 d3naPUuMYcY/1/HRsatJHikWymvmIUGdx+Y+YCfjjk3qBuJNKMkB22pkAHrNzlEWmtoi
 EhMQ==
X-Gm-Message-State: AOJu0YwtekfohBdjjDk5Zjf7bXsfFNOTBj6w1tQRDFdHj4bMGxYt+gCR
 EOcFCJk9x2qV93M9psCSZ9N3hhMm1gvCB/gAj4KREuhuC+IreiPWFyPPBwjffCmbPC9ocBrN+kQ
 xzoxokgWw4MHsPaISAX12k8ABqFHy2R1xSU7gwcuy0A5D
X-Gm-Gg: ASbGncv7t/j6Ej+DWBkskimBalH6pz/SckdHeXY0bOUPshi9I8A9gCON2oNuyKMaGAK
 5edjRBOxrCeZkZMNtnhwzmyXXs2/qzeVU5kI/7UoeXAlMAnQhXT3TlH72XgzQQE/vq/HYrNA8xj
 f0RVOntLUPqEcCWxcdHfHhdZK74lQYtYAjMuBWy7qHdGRggY3DQUBASLHrNofgRJYR0DYZa/65g
 TUqp4X+Dnn+lGjIW9FrqhFYhOUltCMLj6BbeTWqIMofz7bQy/t9C/f4jbpMefm+oQDrKk4M+Ucu
 pKyV/6Plu2sezKktrWFYskHgLQNGOWCv9f7cLufFbJ9xVlmd0zNQ6/TevT8=
X-Google-Smtp-Source: AGHT+IErkiOWqY/DnKaUsVCfnLQ7ItYOasON2ipw6mTIQpYDzjL5YZX/rAPiVUBt9abd+UeT7EoIxiX2R4Ru
X-Received: by 2002:a05:6a20:3d1c:b0:215:d457:ca6d with SMTP id
 adf61e73a8af0-2170ce3b120mr36646525637.40.1747877092926; 
 Wed, 21 May 2025 18:24:52 -0700 (PDT)
Received: from postal.iol.unh.edu (postal.iol.unh.edu. [132.177.123.84])
 by smtp-relay.gmail.com with ESMTPS id
 41be03b00d2f7-b26eaf7d701sm382597a12.10.2025.05.21.18.24.52
 (version=TLS1_2 cipher=ECDHE-ECDSA-AES128-GCM-SHA256 bits=128/128);
 Wed, 21 May 2025 18:24:52 -0700 (PDT)
X-Relaying-Domain: iol.unh.edu
Date: Wed, 21 May 2025 18:24:52 -0700 (PDT)
Message-ID: <682e7ce4.050a0220.13154b.2e42SMTPIN_ADDED_MISSING@mx.google.com>
Received: from [172.17.0.4] (unknown [172.18.0.74])
 by postal.iol.unh.edu (Postfix) with ESMTP id 44C8A6052471;
 Wed, 21 May 2025 21:24:51 -0400 (EDT)
Subject: |WARNING| [GIT MASTER] 117e86c4b96ed761e9a7ab766261208fe81bf5ca
From: dpdklab@iol.unh.edu
To: Test Report <test-report@dpdk.org>
Cc: dpdk-test-reports@iol.unh.edu
Content-Type: text/plain
X-BeenThere: test-report@dpdk.org
X-Mailman-Version: 2.1.29
Precedence: list
List-Id: automatic DPDK test reports <test-report.dpdk.org>
List-Unsubscribe: <https://mails.dpdk.org/options/test-report>,
 <mailto:test-report-request@dpdk.org?subject=unsubscribe>
List-Archive: <http://mails.dpdk.org/archives/test-report/>
List-Post: <mailto:test-report@dpdk.org>
List-Help: <mailto:test-report-request@dpdk.org?subject=help>
List-Subscribe: <https://mails.dpdk.org/listinfo/test-report>,
 <mailto:test-report-request@dpdk.org?subject=subscribe>
Errors-To: test-report-bounces@dpdk.org

_Testing issues_

Branch: dpdk

117e86c4b96ed761e9a7ab766261208fe81bf5ca --> testing issues

Upstream job id: Windows-Compile-DPDK-VS#5788

Test environment and result as below:

+-----------------------------------+--------------------+-------------------+------------------+-------------------+-------------------------+----------------------+
|            Environment            | dpdk_meson_compile | dpdk_compile_spdk | dpdk_compile_ovs | dpdk_msvc_compile | dpdk_llvm_clang_compile | dpdk_mingw64_compile |
+===================================+====================+===================+==================+===================+=========================+======================+
| CentOS Stream 9                   | PASS               | PASS              | SKIPPED          | SKIPPED           | SKIPPED                 | SKIPPED              |
+-----------------------------------+--------------------+-------------------+------------------+-------------------+-------------------------+----------------------+
| CentOS Stream 10                  | PASS               | SKIPPED           | SKIPPED          | SKIPPED           | SKIPPED                 | SKIPPED              |
+-----------------------------------+--------------------+-------------------+------------------+-------------------+-------------------------+----------------------+
| Fedora 40 (Clang)                 | PASS               | WARN              | SKIPPED          | SKIPPED           | SKIPPED                 | SKIPPED              |
+-----------------------------------+--------------------+-------------------+------------------+-------------------+-------------------------+----------------------+
| Debian 12                         | PASS               | PASS              | SKIPPED          | SKIPPED           | SKIPPED                 | SKIPPED              |
+-----------------------------------+--------------------+-------------------+------------------+-------------------+-------------------------+----------------------+
| Fedora 41 (Clang)                 | PEND               | PEND              | PEND             | SKIPPED           | SKIPPED                 | SKIPPED              |
+-----------------------------------+--------------------+-------------------+------------------+-------------------+-------------------------+----------------------+
| Fedora 40                         | PASS               | PASS              | SKIPPED          | SKIPPED           | SKIPPED                 | SKIPPED              |
+-----------------------------------+--------------------+-------------------+------------------+-------------------+-------------------------+----------------------+
| openSUSE Leap 15                  | PASS               | SKIPPED           | SKIPPED          | SKIPPED           | SKIPPED                 | SKIPPED              |
+-----------------------------------+--------------------+-------------------+------------------+-------------------+-------------------------+----------------------+
| Fedora 41                         | PEND               | PEND              | PEND             | SKIPPED           | SKIPPED                 | SKIPPED              |
+-----------------------------------+--------------------+-------------------+------------------+-------------------+-------------------------+----------------------+
| RHEL8                             | PASS               | SKIPPED           | SKIPPED          | SKIPPED           | SKIPPED                 | SKIPPED              |
+-----------------------------------+--------------------+-------------------+------------------+-------------------+-------------------------+----------------------+
| Ubuntu 20.04                      | PASS               | SKIPPED           | SKIPPED          | SKIPPED           | SKIPPED                 | SKIPPED              |
+-----------------------------------+--------------------+-------------------+------------------+-------------------+-------------------------+----------------------+
| RHEL9                             | PASS               | SKIPPED           | SKIPPED          | SKIPPED           | SKIPPED                 | SKIPPED              |
+-----------------------------------+--------------------+-------------------+------------------+-------------------+-------------------------+----------------------+
| Ubuntu 22.04                      | PASS               | PASS              | SKIPPED          | SKIPPED           | SKIPPED                 | SKIPPED              |
+-----------------------------------+--------------------+-------------------+------------------+-------------------+-------------------------+----------------------+
| Ubuntu 24.04                      | PEND               | PEND              | PEND             | SKIPPED           | SKIPPED                 | SKIPPED              |
+-----------------------------------+--------------------+-------------------+------------------+-------------------+-------------------------+----------------------+
| Arch Linux                        | PEND               | SKIPPED           | SKIPPED          | SKIPPED           | SKIPPED                 | SKIPPED              |
+-----------------------------------+--------------------+-------------------+------------------+-------------------+-------------------------+----------------------+
| Alpine                            | PASS               | SKIPPED           | SKIPPED          | SKIPPED           | SKIPPED                 | SKIPPED              |
+-----------------------------------+--------------------+-------------------+------------------+-------------------+-------------------------+----------------------+
| Ubuntu 24.04 32 Bit Cross Compile | PEND               | SKIPPED           | SKIPPED          | SKIPPED           | SKIPPED                 | SKIPPED              |
+-----------------------------------+--------------------+-------------------+------------------+-------------------+-------------------------+----------------------+
| FreeBSD 14.2                      | PASS               | SKIPPED           | SKIPPED          | SKIPPED           | SKIPPED                 | SKIPPED              |
+-----------------------------------+--------------------+-------------------+------------------+-------------------+-------------------------+----------------------+
| Windows Server 2022               | SKIPPED            | SKIPPED           | SKIPPED          | PASS              | PASS                    | PEND                 |
+-----------------------------------+--------------------+-------------------+------------------+-------------------+-------------------------+----------------------+

==== 20 line log output for Fedora 40 (Clang) (dpdk_compile_spdk): ====
 --- Failed to get log output --- 
==== End log output ====

CentOS Stream 9
	Kernel: Depends on container host
	Compiler: gcc 11.5.0 20240719 (Red Hat 11.5.0-2)

CentOS Stream 10
	Kernel: Depends on container host
	Compiler: gcc 14.2.1 20241104 (Red Hat 14.2.1-6)

Fedora 40 (Clang)
	Kernel: Depends on container host
	Compiler: clang 18.1.8 (Fedora 18.1.8-1.fc40)

Debian 12
	Kernel: Depends on container host
	Compiler: gcc (Debian 12.2.0-14) 12.2.0

Fedora 41 (Clang)
	Kernel: Depends on container host
	Compiler: clang 19.1.5 (Fedora 19.1.5-1.fc41)

Fedora 40
	Kernel: Depends on container host
	Compiler: gcc 14.2.1 20240912 (Red Hat 14.2.1-3)

openSUSE Leap 15
	Kernel: Depends on container host
	Compiler: gcc (SUSE Linux) 7.5.0

Fedora 41
	Kernel: Depends on container host
	Compiler: gcc 14.2.1 20240912 (Red Hat 14.2.1-3)

RHEL8
	Kernel: Depends on container host
	Compiler: gcc 8.5.0 20210514 (Red Hat 8.5.0-22)

Ubuntu 20.04
	Kernel: Depends on container host
	Compiler: gcc (Ubuntu 9.4.0-1ubuntu1~20.04.2) 9.4.0

RHEL9
	Kernel: Depends on container host
	Compiler: gcc 11.5.0 20240719 (Red Hat 11.5.0-2)

Ubuntu 22.04
	Kernel: Depends on container host
	Compiler: gcc (Ubuntu 11.4.0-1ubuntu1~22.04) 11.4.0

Ubuntu 24.04
	Kernel: Depends on container host
	Compiler: gcc (Ubuntu 13.3.0-6ubuntu2~24.04) 13.3.0

Arch Linux
	Kernel: Depends on container host
	Compiler: gcc 14.2.1 20240910

Alpine
	Kernel: Depends on container host
	Compiler: gcc (Alpine 14.2.0) 14.2.0

Ubuntu 24.04 32 Bit Cross Compile
	Kernel: Depends on container host
	Compiler: gcc (Ubuntu 13.3.0-6ubuntu2~24.04) 13.3.0

FreeBSD 14.2
	Kernel: 14.2-RELEASE
	Compiler: clang 18.1.6

Windows Server 2022
	Kernel: 10.0.20348.2031
	Compiler: clang 15.0.7, gcc 14.1.0 (MinGW), and MSVC VS 19.39.33521

To view detailed results, visit:
https://lab.dpdk.org/results/dashboard/tarballs/33610/

UNH-IOL DPDK Community Lab

To manage your email subscriptions, visit: 
https://lab.dpdk.org/results/dashboard/preferences/subscriptions/