From mboxrd@z Thu Jan 1 00:00:00 1970 Return-Path: Received: from mails.dpdk.org (mails.dpdk.org [217.70.189.124]) by inbox.dpdk.org (Postfix) with ESMTP id 69C53467AC for ; Thu, 22 May 2025 03:25:06 +0200 (CEST) Received: from mails.dpdk.org (localhost [127.0.0.1]) by mails.dpdk.org (Postfix) with ESMTP id 655B64027A; Thu, 22 May 2025 03:25:06 +0200 (CEST) Received: from mail-il1-f228.google.com (mail-il1-f228.google.com [209.85.166.228]) by mails.dpdk.org (Postfix) with ESMTP id 1B1EA40144 for ; Thu, 22 May 2025 03:25:05 +0200 (CEST) Received: by mail-il1-f228.google.com with SMTP id e9e14a558f8ab-3dc6dbb3d58so32512615ab.3 for ; Wed, 21 May 2025 18:25:05 -0700 (PDT) DKIM-Signature: v=1; a=rsa-sha256; c=relaxed/relaxed; d=iol.unh.edu; s=unh-iol; t=1747877104; x=1748481904; darn=dpdk.org; h=cc:to:from:subject:message-id:date:from:to:cc:subject:date :message-id:reply-to; bh=KTrSKolA6ueccvYY88AqDi0I9Dq1OXkIgiFmq/VxUvM=; b=IJBV/TnYkcBoSqpDlBM03Ni25yWYK8GJe8dUXzpaoPxJg5IefW93VS9tj0e+utZ9Ug G3mKmrOTZJyV7p2scj6iE3K/+vScTU04tztgw0fKXC9HD9Ak7hi5YNkmmwan5dhzsQNB 7Wkp+J1mVLLO+I29gWFENuYOqPU/iNKryDTd0= X-Google-DKIM-Signature: v=1; a=rsa-sha256; c=relaxed/relaxed; d=1e100.net; s=20230601; t=1747877104; x=1748481904; h=cc:to:from:subject:message-id:date:x-gm-message-state:from:to:cc :subject:date:message-id:reply-to; bh=KTrSKolA6ueccvYY88AqDi0I9Dq1OXkIgiFmq/VxUvM=; b=dhUQf3zeKzFV7DqhJUFEvqrXa8zUw+eHwATAdccWSW2LSg46pDDTF/qrLO2njXVOzv yvWVtRDuqSc2rfZJWs4QRoMdTv/yvK9BNjp81Jk2G8XgV9UEUzXZhmYKCgsLKFoLK+8m NRygk+MOzQ1safdQUBFhtrxRgVsh5T/3JIfLM2GrAPngIbTRi35vKynMiXR+iviH/d2j sabpQsYvC5GegpCeHDERNTCgRlwsf7aDTmG9oN1KPuorhqKy7jPQj1Dk3kdQ3YkO5CvA H7SIjgZEpB5pj1vePhbFClaMzrvMgd0xXDpLyjrKko56zupoKGn0B7jtG4Jke6I7tARj C39A== X-Gm-Message-State: AOJu0YyuAq9wsO7USxOFENwMBu64srOjCY0+Io9dScidZ0Rn1TJmr31D 3KYrbUYZLQhiiJquUA6FqBUjdBXcrfcjfSQa8sJ+7dxM4jm7YrPVba8VQ2kRjCrM70PKGW3kgvf Ye/oltHxxAIqzCdubTS4cNg1xUc4WvGgqLsvXLU5VQrJzsfpgfXijtiKwzS3U X-Gm-Gg: ASbGncvsOeIG+78W+h88zFxahp5ZUhoISIAKCtawgB0Fdd/Iq9j8yiLIolZhW8iFry+ gFhVVgz+S2Ae0tkA3U7JvOuv7qJhRuk0wI+FQOz6T3WHeC/uK7TOdhygJSSCvKJF9UYwPkegw37 2UpxHpUc1/ovKILraINtBHY+s9xDdg8lhLXHYkbKjN+CdzzRDKO31GhrT2BVJm+HRUYD8IKVMSR WiyM/MMouj9BIXaOQsQLECdUUCB9tMsH4EAISpdD3sLQwlob1wLowqfDqjowrwRxbCt4/tyrKXG Dm+ehCtXaMIikNQj8xLiAhnghFSSv5IBy3r+ X-Google-Smtp-Source: AGHT+IEsTiu2tjphX2oTuiU4GOCJi1ZItxnFQjTIh0rWoWcaCS05GR6xb+EGHqsJ/LHZQhL7ISad/89sG7T7 X-Received: by 2002:a05:6e02:10:b0:3d6:cbc5:a102 with SMTP id e9e14a558f8ab-3db842de1cemr222094595ab.13.1747877104359; Wed, 21 May 2025 18:25:04 -0700 (PDT) Received: from postal.iol.unh.edu (postal.iol.unh.edu. [2606:4100:3880:1234::84]) by smtp-relay.gmail.com with ESMTPS id e9e14a558f8ab-3dc88d694e2sm922695ab.63.2025.05.21.18.25.04 (version=TLS1_2 cipher=ECDHE-ECDSA-AES128-GCM-SHA256 bits=128/128); Wed, 21 May 2025 18:25:04 -0700 (PDT) X-Relaying-Domain: iol.unh.edu Date: Wed, 21 May 2025 18:25:04 -0700 (PDT) Message-ID: <682e7cf0.050a0220.3d9db5.4bbaSMTPIN_ADDED_MISSING@mx.google.com> Received: from [172.17.0.3] (unknown [172.18.0.76]) by postal.iol.unh.edu (Postfix) with ESMTP id 5B3566052471; Wed, 21 May 2025 21:25:03 -0400 (EDT) Subject: |WARNING| [GIT MASTER] 117e86c4b96ed761e9a7ab766261208fe81bf5ca From: dpdklab@iol.unh.edu To: Test Report Cc: dpdk-test-reports@iol.unh.edu Content-Type: text/plain X-BeenThere: test-report@dpdk.org X-Mailman-Version: 2.1.29 Precedence: list List-Id: automatic DPDK test reports List-Unsubscribe: , List-Archive: List-Post: List-Help: List-Subscribe: , Errors-To: test-report-bounces@dpdk.org _Testing issues_ Branch: dpdk 117e86c4b96ed761e9a7ab766261208fe81bf5ca --> testing issues Upstream job id: Generic-DPDK-Compile-Meson#390291 Test environment and result as below: +-----------------------------------+--------------------+-------------------+------------------+-------------------+-------------------------+----------------------+ | Environment | dpdk_meson_compile | dpdk_compile_spdk | dpdk_compile_ovs | dpdk_msvc_compile | dpdk_llvm_clang_compile | dpdk_mingw64_compile | +===================================+====================+===================+==================+===================+=========================+======================+ | CentOS Stream 9 | PASS | PASS | SKIPPED | SKIPPED | SKIPPED | SKIPPED | +-----------------------------------+--------------------+-------------------+------------------+-------------------+-------------------------+----------------------+ | CentOS Stream 10 | PASS | SKIPPED | SKIPPED | SKIPPED | SKIPPED | SKIPPED | +-----------------------------------+--------------------+-------------------+------------------+-------------------+-------------------------+----------------------+ | Fedora 40 (Clang) | PASS | WARN | SKIPPED | SKIPPED | SKIPPED | SKIPPED | +-----------------------------------+--------------------+-------------------+------------------+-------------------+-------------------------+----------------------+ | Debian 12 | PASS | PASS | SKIPPED | SKIPPED | SKIPPED | SKIPPED | +-----------------------------------+--------------------+-------------------+------------------+-------------------+-------------------------+----------------------+ | Fedora 41 (Clang) | PEND | PEND | PEND | SKIPPED | SKIPPED | SKIPPED | +-----------------------------------+--------------------+-------------------+------------------+-------------------+-------------------------+----------------------+ | Fedora 40 | PASS | PASS | SKIPPED | SKIPPED | SKIPPED | SKIPPED | +-----------------------------------+--------------------+-------------------+------------------+-------------------+-------------------------+----------------------+ | openSUSE Leap 15 | PASS | SKIPPED | SKIPPED | SKIPPED | SKIPPED | SKIPPED | +-----------------------------------+--------------------+-------------------+------------------+-------------------+-------------------------+----------------------+ | Fedora 41 | PEND | PEND | PEND | SKIPPED | SKIPPED | SKIPPED | +-----------------------------------+--------------------+-------------------+------------------+-------------------+-------------------------+----------------------+ | RHEL8 | PASS | SKIPPED | SKIPPED | SKIPPED | SKIPPED | SKIPPED | +-----------------------------------+--------------------+-------------------+------------------+-------------------+-------------------------+----------------------+ | Ubuntu 20.04 | PASS | SKIPPED | SKIPPED | SKIPPED | SKIPPED | SKIPPED | +-----------------------------------+--------------------+-------------------+------------------+-------------------+-------------------------+----------------------+ | RHEL9 | PASS | SKIPPED | SKIPPED | SKIPPED | SKIPPED | SKIPPED | +-----------------------------------+--------------------+-------------------+------------------+-------------------+-------------------------+----------------------+ | Ubuntu 22.04 | PASS | PASS | SKIPPED | SKIPPED | SKIPPED | SKIPPED | +-----------------------------------+--------------------+-------------------+------------------+-------------------+-------------------------+----------------------+ | Ubuntu 24.04 | PEND | PEND | PEND | SKIPPED | SKIPPED | SKIPPED | +-----------------------------------+--------------------+-------------------+------------------+-------------------+-------------------------+----------------------+ | Arch Linux | PEND | SKIPPED | SKIPPED | SKIPPED | SKIPPED | SKIPPED | +-----------------------------------+--------------------+-------------------+------------------+-------------------+-------------------------+----------------------+ | Alpine | PASS | SKIPPED | SKIPPED | SKIPPED | SKIPPED | SKIPPED | +-----------------------------------+--------------------+-------------------+------------------+-------------------+-------------------------+----------------------+ | Ubuntu 24.04 32 Bit Cross Compile | PEND | SKIPPED | SKIPPED | SKIPPED | SKIPPED | SKIPPED | +-----------------------------------+--------------------+-------------------+------------------+-------------------+-------------------------+----------------------+ | FreeBSD 14.2 | PASS | SKIPPED | SKIPPED | SKIPPED | SKIPPED | SKIPPED | +-----------------------------------+--------------------+-------------------+------------------+-------------------+-------------------------+----------------------+ | Windows Server 2022 | SKIPPED | SKIPPED | SKIPPED | PASS | PASS | PEND | +-----------------------------------+--------------------+-------------------+------------------+-------------------+-------------------------+----------------------+ ==== 20 line log output for Fedora 40 (Clang) (dpdk_compile_spdk): ==== --- Failed to get log output --- ==== End log output ==== CentOS Stream 9 Kernel: Depends on container host Compiler: gcc 11.5.0 20240719 (Red Hat 11.5.0-2) CentOS Stream 10 Kernel: Depends on container host Compiler: gcc 14.2.1 20241104 (Red Hat 14.2.1-6) Fedora 40 (Clang) Kernel: Depends on container host Compiler: clang 18.1.8 (Fedora 18.1.8-1.fc40) Debian 12 Kernel: Depends on container host Compiler: gcc (Debian 12.2.0-14) 12.2.0 Fedora 41 (Clang) Kernel: Depends on container host Compiler: clang 19.1.5 (Fedora 19.1.5-1.fc41) Fedora 40 Kernel: Depends on container host Compiler: gcc 14.2.1 20240912 (Red Hat 14.2.1-3) openSUSE Leap 15 Kernel: Depends on container host Compiler: gcc (SUSE Linux) 7.5.0 Fedora 41 Kernel: Depends on container host Compiler: gcc 14.2.1 20240912 (Red Hat 14.2.1-3) RHEL8 Kernel: Depends on container host Compiler: gcc 8.5.0 20210514 (Red Hat 8.5.0-22) Ubuntu 20.04 Kernel: Depends on container host Compiler: gcc (Ubuntu 9.4.0-1ubuntu1~20.04.2) 9.4.0 RHEL9 Kernel: Depends on container host Compiler: gcc 11.5.0 20240719 (Red Hat 11.5.0-2) Ubuntu 22.04 Kernel: Depends on container host Compiler: gcc (Ubuntu 11.4.0-1ubuntu1~22.04) 11.4.0 Ubuntu 24.04 Kernel: Depends on container host Compiler: gcc (Ubuntu 13.3.0-6ubuntu2~24.04) 13.3.0 Arch Linux Kernel: Depends on container host Compiler: gcc 14.2.1 20240910 Alpine Kernel: Depends on container host Compiler: gcc (Alpine 14.2.0) 14.2.0 Ubuntu 24.04 32 Bit Cross Compile Kernel: Depends on container host Compiler: gcc (Ubuntu 13.3.0-6ubuntu2~24.04) 13.3.0 FreeBSD 14.2 Kernel: 14.2-RELEASE Compiler: clang 18.1.6 Windows Server 2022 Kernel: 10.0.20348.2031 Compiler: clang 15.0.7, gcc 14.1.0 (MinGW), and MSVC VS 19.39.33521 To view detailed results, visit: https://lab.dpdk.org/results/dashboard/tarballs/33610/ UNH-IOL DPDK Community Lab To manage your email subscriptions, visit: https://lab.dpdk.org/results/dashboard/preferences/subscriptions/