From mboxrd@z Thu Jan 1 00:00:00 1970 Return-Path: Received: from mails.dpdk.org (mails.dpdk.org [217.70.189.124]) by inbox.dpdk.org (Postfix) with ESMTP id DC8C0467B2 for ; Thu, 22 May 2025 06:20:48 +0200 (CEST) Received: from mails.dpdk.org (localhost [127.0.0.1]) by mails.dpdk.org (Postfix) with ESMTP id A76114027A; Thu, 22 May 2025 06:20:48 +0200 (CEST) Received: from mail-pj1-f98.google.com (mail-pj1-f98.google.com [209.85.216.98]) by mails.dpdk.org (Postfix) with ESMTP id BFF7440144 for ; Thu, 22 May 2025 06:20:47 +0200 (CEST) Received: by mail-pj1-f98.google.com with SMTP id 98e67ed59e1d1-30820167b47so6085412a91.0 for ; Wed, 21 May 2025 21:20:47 -0700 (PDT) DKIM-Signature: v=1; a=rsa-sha256; c=relaxed/relaxed; d=iol.unh.edu; s=unh-iol; t=1747887646; x=1748492446; darn=dpdk.org; h=cc:to:from:subject:message-id:date:from:to:cc:subject:date :message-id:reply-to; bh=hCLo+A5rG5QgDVQwuTUMEDgG15KgZAoOarJGsu1EsmY=; b=Ewmy9AKjPs/lL6K1t9RghERoWzpLVATX8cUyAWH0K4ELrNy0pD5paysgfh5DH3zbcK +vkBX0+ZRYQguI/vNueJdER4XylwaBTbqCIH50Rss6HUgla+sr3+KWi38u47mcGA0ltb ZxdHVXHvGsFOUgxPdecV4r6q+MNnQdvJFPLGU= X-Google-DKIM-Signature: v=1; a=rsa-sha256; c=relaxed/relaxed; d=1e100.net; s=20230601; t=1747887646; x=1748492446; h=cc:to:from:subject:message-id:date:x-gm-message-state:from:to:cc :subject:date:message-id:reply-to; bh=hCLo+A5rG5QgDVQwuTUMEDgG15KgZAoOarJGsu1EsmY=; b=AhVcJklzGcU4xEeBPdgI260GaiqidQZZ3xTnCI0flnAgUwG3+Ax8CLgYr0BL58I2qS 57HbWg7lFZI/OHHGfgle4y2hh8QuFp1POO/vfAIng3qCnT+ZF/z5tB2Q/hLvwcLjdfH/ 5fSgbtUwtgFliH+6ujfEmrKlBx5OYvLmr5Nr745rLUAh4aKAkjVTWwJFsBakwtIBBL7r rfSw2Drj5GgNfatZQizYd7MQbgEhJw8u0Ou/fy+6wtr/w4OmUUibWr4T21NgKe8lB5wu XKPsUBIZsRlS4bRtuqJk5pfRx27S+IRX7NA9iTLePb0xoIMoQw95ZNRtE8kua+YjNPHr hrFw== X-Gm-Message-State: AOJu0YwK4M2E43jL9NAYCYxmhYyjis4M5vLIKsJlkWTjW86dohGI+eY0 4hKrcLb1WBc/C4FCNfcij5LAhj1FzYJWJWRBLyGLo14XyLB/EMKr+58vUOSxF2P1VLynBQF8VEy HaA4aSNkt72r38cnVwsmxYDlDgzIe6hLUxcJTKrnb0riX6jubsryG0oHGnHyL X-Gm-Gg: ASbGncugx/yfN1A/xBb8DTyj8Lu+1fu7LvHfpWHtTQP3LYGlM0t7lanGxH8kzSaqBH0 adkIJNiyq15YkwDwyB2s7KNT4WMjNWCoDlUsytJq0uJEKZBfoBEaoMGKg/7VHLCA63aOYS+CB+2 AbbVhw/9cge5u5Hltlqu/Z9wtLH4W6vnNqKPGdJKfeFMwr/vz7BNuKntldHdgyCGKllvwvX66ly jhB1L+lDOoUUZeEl+qDQ1dUQzUk1b2J6QTB3ySxdO3NCSfQ+0m3GabL3xuaJ6TedRiTq6ctnnWi 4XpgGLba32IZY2Mm3ks00E1AULl68dYWsfY7 X-Google-Smtp-Source: AGHT+IH2CeBRWA40f0hMKaXxrvt6nblrJyTviA4GgloKhC+0ayHbJa68qHBc+lyqof+jO/6h5/7d0RDboTCu X-Received: by 2002:a17:90b:2ecf:b0:30e:8fe1:f787 with SMTP id 98e67ed59e1d1-30e8fe1f8bfmr22082796a91.5.1747887646504; Wed, 21 May 2025 21:20:46 -0700 (PDT) Received: from postal.iol.unh.edu (postal.iol.unh.edu. [2606:4100:3880:1234::84]) by smtp-relay.gmail.com with ESMTPS id 98e67ed59e1d1-310cec3ef4bsm2555a91.1.2025.05.21.21.20.46 (version=TLS1_2 cipher=ECDHE-ECDSA-AES128-GCM-SHA256 bits=128/128); Wed, 21 May 2025 21:20:46 -0700 (PDT) X-Relaying-Domain: iol.unh.edu Date: Wed, 21 May 2025 21:20:46 -0700 (PDT) Message-ID: <682ea61e.170a0220.17e985.0201SMTPIN_ADDED_MISSING@mx.google.com> Received: from [172.17.0.3] (unknown [172.18.0.74]) by postal.iol.unh.edu (Postfix) with ESMTP id 6C0F76052471; Thu, 22 May 2025 00:20:45 -0400 (EDT) Subject: |SUCCESS| [GIT MASTER] fc627d7065ba5100faa928cf2edfa1622846f542 From: dpdklab@iol.unh.edu To: Test Report Cc: dpdk-test-reports@iol.unh.edu, Akhil Goyal Content-Type: text/plain X-BeenThere: test-report@dpdk.org X-Mailman-Version: 2.1.29 Precedence: list List-Id: automatic DPDK test reports List-Unsubscribe: , List-Archive: List-Post: List-Help: List-Subscribe: , Errors-To: test-report-bounces@dpdk.org _Testing PASS_ Branch: dpdk-next-crypto fc627d7065ba5100faa928cf2edfa1622846f542 --> testing pass Upstream job id: Generic-DPDK-Compile-Meson#390262 Test environment and result as below: +----------------------------------------+--------------------+ | Environment | dpdk_meson_compile | +========================================+====================+ | RHEL9 (ARM) | PASS | +----------------------------------------+--------------------+ | Ubuntu 20.04 ARM GCC Cross Compile | PASS | +----------------------------------------+--------------------+ | Ubuntu 20.04 ARM SVE | PASS | +----------------------------------------+--------------------+ | Debian 12 with MUSDK | PASS | +----------------------------------------+--------------------+ | Fedora 40 (ARM) | PASS | +----------------------------------------+--------------------+ | Fedora 40 (ARM Clang) | PASS | +----------------------------------------+--------------------+ | Fedora 41 (ARM) | PASS | +----------------------------------------+--------------------+ | Fedora 41 (ARM Clang) | PASS | +----------------------------------------+--------------------+ | Ubuntu 20.04 (ARM) | PASS | +----------------------------------------+--------------------+ | Ubuntu 22.04 (ARM) | PASS | +----------------------------------------+--------------------+ | Ubuntu 24.04 (ARM) | PASS | +----------------------------------------+--------------------+ | CentOS Stream 9 (ARM) | PASS | +----------------------------------------+--------------------+ | CentOS Stream 10 (ARM) | PASS | +----------------------------------------+--------------------+ | Debian 12 (arm) | PASS | +----------------------------------------+--------------------+ | Ubuntu 20.04 ARM Clang Cross Compile | PASS | +----------------------------------------+--------------------+ | Ubuntu 20.04 aarch32 GCC Cross Compile | PASS | +----------------------------------------+--------------------+ RHEL9 (ARM) Kernel: Depends on container host Compiler: gcc 11.5.0 20240719 (Red Hat 11.5.0-2) Ubuntu 20.04 ARM GCC Cross Compile Kernel: Depends on container host Compiler: aarch64-linux-gnu-gcc (Ubuntu 9.4.0-1ubuntu1~20.04.2) 9.4.0 Ubuntu 20.04 ARM SVE Kernel: Depends on container host Compiler: gcc (Ubuntu 10.5.0-1ubuntu1~20.04) 10.5.0 Debian 12 with MUSDK Kernel: Depends on container host Compiler: gcc (Debian 12.2.0-14) 12.2.0 Fedora 40 (ARM) Kernel: Depends on container host Compiler: gcc 14.2.1 20240912 (Red Hat 14.2.1-3) Fedora 40 (ARM Clang) Kernel: Depends on container host Compiler: clang 18.1.8 (Fedora 18.1.8-1.fc40) Fedora 41 (ARM) Kernel: Depends on container host Compiler: gcc 14.2.1 20240912 (Red Hat 14.2.1-3) Fedora 41 (ARM Clang) Kernel: Depends on container host Compiler: clang 19.1.5 (Fedora 19.1.5-1.fc41) Ubuntu 20.04 (ARM) Kernel: Depends on container host Compiler: gcc (Ubuntu 9.4.0-1ubuntu1~20.04.2) 9.4.0 Ubuntu 22.04 (ARM) Kernel: Depends on container host Compiler: gcc (Ubuntu 11.4.0-1ubuntu1~22.04) 11.4.0 Ubuntu 24.04 (ARM) Kernel: Depends on container host Compiler: gcc (Ubuntu 13.3.0-6ubuntu2~24.04) 13.3.0 CentOS Stream 9 (ARM) Kernel: Depends on container host Compiler: gcc 11.5.0 20240719 (Red Hat 11.5.0-2) CentOS Stream 10 (ARM) Kernel: Depends on container host Compiler: gcc 14.2.1 20241104 (Red Hat 14.2.1-6) Debian 12 (arm) Kernel: Depends on container host Compiler: gcc (Debian 12.2.0-14) 12.2.0 Ubuntu 20.04 ARM Clang Cross Compile Kernel: Depends on container host Compiler: clang 10.0.0-4ubuntu1 Ubuntu 20.04 aarch32 GCC Cross Compile Kernel: Depends on container host Compiler: gcc 9.4.0 To view detailed results, visit: https://lab.dpdk.org/results/dashboard/tarballs/33609/ UNH-IOL DPDK Community Lab To manage your email subscriptions, visit: https://lab.dpdk.org/results/dashboard/preferences/subscriptions/