From mboxrd@z Thu Jan 1 00:00:00 1970 Return-Path: Received: from mails.dpdk.org (mails.dpdk.org [217.70.189.124]) by inbox.dpdk.org (Postfix) with ESMTP id 6C5FA467B2 for ; Thu, 22 May 2025 07:06:36 +0200 (CEST) Received: from mails.dpdk.org (localhost [127.0.0.1]) by mails.dpdk.org (Postfix) with ESMTP id 5B0F54027A; Thu, 22 May 2025 07:06:36 +0200 (CEST) Received: from mail-oo1-f98.google.com (mail-oo1-f98.google.com [209.85.161.98]) by mails.dpdk.org (Postfix) with ESMTP id 9D9DE40144 for ; Thu, 22 May 2025 07:06:34 +0200 (CEST) Received: by mail-oo1-f98.google.com with SMTP id 006d021491bc7-60219d9812bso2257498eaf.0 for ; Wed, 21 May 2025 22:06:34 -0700 (PDT) DKIM-Signature: v=1; a=rsa-sha256; c=relaxed/relaxed; d=iol.unh.edu; s=unh-iol; t=1747890394; x=1748495194; darn=dpdk.org; h=cc:to:from:subject:message-id:date:from:to:cc:subject:date :message-id:reply-to; bh=en/l10oxTGBFDuIBCiWsvG2d7sxG5dg2VKNVJdDXjKg=; b=R+FjS3prtm79QXDtzDEPcJNnkwwA/Z9cAv4S2xVsa/FDieOxLcXTd+fJztrhIw+3Yi DoHlrHQ+JVX44dtv/OT+ypyu3qaxCZOfOIaxD3UYDsa4LbQfRcZt0XJ1pINCw0H5fAIG BWCcr2IeygSoqMDiKtNqPQddLGweoQfRZ1Na0= X-Google-DKIM-Signature: v=1; a=rsa-sha256; c=relaxed/relaxed; d=1e100.net; s=20230601; t=1747890394; x=1748495194; h=cc:to:from:subject:message-id:date:x-gm-message-state:from:to:cc :subject:date:message-id:reply-to; bh=en/l10oxTGBFDuIBCiWsvG2d7sxG5dg2VKNVJdDXjKg=; b=wtxdZv1k0+WsAzX/Zd/gCRlJiuvQOdMunXVeqB4j2kjdWMK66Zu8ZZfW3dtNW60AeY WzOtSBVpBZetVaI+bhcqg3nrXDeX6/GAFq83W9Qv4nqMQR+R70iq+xBFivxVzlf/3DE6 QqlUaVDl5emGEN2h9oX5mMNWLWXY9Yi2SzDExU0FSIm/6pmC7NUZpTVLHlFGkYE3DeVZ 4Nuy/fMMdmDrtLiX0ZcRTJCNOQiWsWxBjh7AlHo5gKefsxEnwJHfj0LFx0HwmR5PMw1c iC4BbCeqBiBs3PlEDPuv09XEJeLuGCF0zSOvpXlNGtythweYY9LRuuqphoKPHE4sImqq 4i9A== X-Gm-Message-State: AOJu0YxlgFTxJsfzjAtLFu6zJm4+8q/AkA9L/9r/znsFmkOnfN4MIVUA Fb0/2EiRnIgzP2xV8B6bdDcI6NH8Mhsb0lSuMlkxNK6BuBSrAzUXPJgA8oJprNhC49D0eJRm98o eAfwN1zNRhp3ref2kfgw2rU3Tlrx3wzLfcJuvEhWKbG50QO8CC5xJZmaVvhc0 X-Gm-Gg: ASbGnctgV7vL9XQhHqpCpk6S4DfH/Yu8RxntIy8AQaDTc/xM4dxLkxTSOEZFA74EKpS WUdp95pBdt8rwu3aNlfjDhwQMWckJFY7fzw/7NEZXjGOwMJy+aTenq4JYLHbqSVspdZ5k+KNpqb 5RZnykok4zSyu1E9bTuTXXPkX8tPemllvcce0GhpJUv0AIUeYRizHIhVAw8sobWcX9neiraOTWJ X2gCSwY7GDqoyWisUxcKv1xegcacfadXdZekHMRjvPhnexyQzw+ChzDaQ6Mp8q8acsnc4QqKrlW 5gmKuwmgSb1g5LDoTrbs3wLxK3BxAHRtbND5 X-Google-Smtp-Source: AGHT+IEZY6mjPOVPMV2XLkKuvltArgF0KFMyX8Xgdu70W4hxIZwSr5QJqv6q2WIA7oHzG+/jOMoQNr7Jurj4 X-Received: by 2002:a05:6820:1e09:b0:609:def7:b3a0 with SMTP id 006d021491bc7-609f374ce02mr12575692eaf.5.1747890393858; Wed, 21 May 2025 22:06:33 -0700 (PDT) Received: from postal.iol.unh.edu (postal.iol.unh.edu. [2606:4100:3880:1234::84]) by smtp-relay.gmail.com with ESMTPS id 006d021491bc7-609f2f809b8sm415511eaf.5.2025.05.21.22.06.33 (version=TLS1_2 cipher=ECDHE-ECDSA-AES128-GCM-SHA256 bits=128/128); Wed, 21 May 2025 22:06:33 -0700 (PDT) X-Relaying-Domain: iol.unh.edu Date: Wed, 21 May 2025 22:06:33 -0700 (PDT) Message-ID: <682eb0d9.050a0220.2d52d6.5c18SMTPIN_ADDED_MISSING@mx.google.com> Received: from [172.21.0.8] (unknown [172.18.0.240]) by postal.iol.unh.edu (Postfix) with ESMTP id 12A8D6052471; Thu, 22 May 2025 01:06:33 -0400 (EDT) Subject: |SUCCESS| [GIT MASTER] fc627d7065ba5100faa928cf2edfa1622846f542 From: dpdklab@iol.unh.edu To: Test Report Cc: dpdk-test-reports@iol.unh.edu, Akhil Goyal Content-Type: text/plain X-BeenThere: test-report@dpdk.org X-Mailman-Version: 2.1.29 Precedence: list List-Id: automatic DPDK test reports List-Unsubscribe: , List-Archive: List-Post: List-Help: List-Subscribe: , Errors-To: test-report-bounces@dpdk.org _Testing PASS_ Branch: dpdk-next-crypto fc627d7065ba5100faa928cf2edfa1622846f542 --> testing pass Upstream job id: Generic-Unit-Test-DPDK#339767 Test environment and result as below: +-----------------------------+----------------+------------------------------+--------------+---------------------------+ | Environment | dpdk_unit_test | cryptodev_sw_snow3g_autotest | lpm_autotest | cryptodev_sw_zuc_autotest | +=============================+================+==============================+==============+===========================+ | CentOS Stream 10 (ARM) | PASS | SKIPPED | SKIPPED | SKIPPED | +-----------------------------+----------------+------------------------------+--------------+---------------------------+ | Debian 12 (arm) | PASS | PASS | SKIPPED | PASS | +-----------------------------+----------------+------------------------------+--------------+---------------------------+ | CentOS Stream 9 (ARM) | PASS | SKIPPED | SKIPPED | SKIPPED | +-----------------------------+----------------+------------------------------+--------------+---------------------------+ | Fedora 40 (ARM) | PASS | SKIPPED | SKIPPED | SKIPPED | +-----------------------------+----------------+------------------------------+--------------+---------------------------+ | Ubuntu 22.04 (ARM) | PASS | SKIPPED | SKIPPED | SKIPPED | +-----------------------------+----------------+------------------------------+--------------+---------------------------+ | Ubuntu 20.04 (ARM) | PASS | SKIPPED | SKIPPED | SKIPPED | +-----------------------------+----------------+------------------------------+--------------+---------------------------+ | Fedora 40 (ARM Clang) | PASS | SKIPPED | SKIPPED | SKIPPED | +-----------------------------+----------------+------------------------------+--------------+---------------------------+ | Fedora 41 (ARM Clang) | PASS | SKIPPED | SKIPPED | SKIPPED | +-----------------------------+----------------+------------------------------+--------------+---------------------------+ | RHEL9 (ARM) | PASS | SKIPPED | SKIPPED | SKIPPED | +-----------------------------+----------------+------------------------------+--------------+---------------------------+ | Fedora 41 (ARM) | PASS | SKIPPED | SKIPPED | SKIPPED | +-----------------------------+----------------+------------------------------+--------------+---------------------------+ | Ubuntu 24.04 (ARM) | PASS | SKIPPED | SKIPPED | SKIPPED | +-----------------------------+----------------+------------------------------+--------------+---------------------------+ | 32-bit Ubuntu 22.04.4 (ARM) | PASS | SKIPPED | SKIPPED | SKIPPED | +-----------------------------+----------------+------------------------------+--------------+---------------------------+ | Ubuntu 20.04 ARM SVE | SKIPPED | SKIPPED | PASS | SKIPPED | +-----------------------------+----------------+------------------------------+--------------+---------------------------+ CentOS Stream 10 (ARM) Kernel: Depends on container host Compiler: gcc 14.2.1 20241104 (Red Hat 14.2.1-6) Debian 12 (arm) Kernel: Depends on container host Compiler: gcc (Debian 12.2.0-14) 12.2.0 CentOS Stream 9 (ARM) Kernel: Depends on container host Compiler: gcc 11.5.0 20240719 (Red Hat 11.5.0-2) Fedora 40 (ARM) Kernel: Depends on container host Compiler: gcc 14.2.1 20240912 (Red Hat 14.2.1-3) Ubuntu 22.04 (ARM) Kernel: Depends on container host Compiler: gcc (Ubuntu 11.4.0-1ubuntu1~22.04) 11.4.0 Ubuntu 20.04 (ARM) Kernel: Depends on container host Compiler: gcc (Ubuntu 9.4.0-1ubuntu1~20.04.2) 9.4.0 Fedora 40 (ARM Clang) Kernel: Depends on container host Compiler: clang 18.1.8 (Fedora 18.1.8-1.fc40) Fedora 41 (ARM Clang) Kernel: Depends on container host Compiler: clang 19.1.5 (Fedora 19.1.5-1.fc41) RHEL9 (ARM) Kernel: Depends on container host Compiler: gcc 11.5.0 20240719 (Red Hat 11.5.0-2) Fedora 41 (ARM) Kernel: Depends on container host Compiler: gcc 14.2.1 20240912 (Red Hat 14.2.1-3) Ubuntu 24.04 (ARM) Kernel: Depends on container host Compiler: gcc (Ubuntu 13.3.0-6ubuntu2~24.04) 13.3.0 32-bit Ubuntu 22.04.4 (ARM) Kernel: 5.15.83+ aarch64 Compiler: gcc (Ubuntu 11.4.0-1ubuntu1~22.04) 11.4.0 Ubuntu 20.04 ARM SVE Kernel: Depends on container host Compiler: gcc (Ubuntu 10.5.0-1ubuntu1~20.04) 10.5.0 To view detailed results, visit: https://lab.dpdk.org/results/dashboard/tarballs/33609/ UNH-IOL DPDK Community Lab To manage your email subscriptions, visit: https://lab.dpdk.org/results/dashboard/preferences/subscriptions/