From mboxrd@z Thu Jan 1 00:00:00 1970 Return-Path: Received: from mails.dpdk.org (mails.dpdk.org [217.70.189.124]) by inbox.dpdk.org (Postfix) with ESMTP id E32E4467B2 for ; Thu, 22 May 2025 07:10:54 +0200 (CEST) Received: from mails.dpdk.org (localhost [127.0.0.1]) by mails.dpdk.org (Postfix) with ESMTP id DD4FC4027A; Thu, 22 May 2025 07:10:54 +0200 (CEST) Received: from mail-pg1-f227.google.com (mail-pg1-f227.google.com [209.85.215.227]) by mails.dpdk.org (Postfix) with ESMTP id DFD6040144 for ; Thu, 22 May 2025 07:10:53 +0200 (CEST) Received: by mail-pg1-f227.google.com with SMTP id 41be03b00d2f7-b0b2d0b2843so5634786a12.2 for ; Wed, 21 May 2025 22:10:53 -0700 (PDT) DKIM-Signature: v=1; a=rsa-sha256; c=relaxed/relaxed; d=iol.unh.edu; s=unh-iol; t=1747890653; x=1748495453; darn=dpdk.org; h=cc:to:from:subject:message-id:date:from:to:cc:subject:date :message-id:reply-to; bh=UzeRxfoh0Fi0aiIYw8XEAE7TzvQkd+xtWX4Axnvib7k=; b=aF+BaDM0I5hBWeYg2coCXSHVOCUCVWzqU9RUwKAXg5jYav0R4MLaXWwD0ZBRTPEUuc vq6iecoVyJ4tNkUBFUeGcmArKW/viifUCagVKejYRGa3XAouUeHDh+2H9SvJzQTux9pY GEoy521FG1SPHVC6zEudLVbmuGWOyXNKSWCXM= X-Google-DKIM-Signature: v=1; a=rsa-sha256; c=relaxed/relaxed; d=1e100.net; s=20230601; t=1747890653; x=1748495453; h=cc:to:from:subject:message-id:date:x-gm-message-state:from:to:cc :subject:date:message-id:reply-to; bh=UzeRxfoh0Fi0aiIYw8XEAE7TzvQkd+xtWX4Axnvib7k=; b=ibGZXci09FSaPZSjGy1AisCHoYnFcCSmuPeb2qSo3u+lN5PMwBCHDW3PQpxTWZvS7o YR+/RsMi7o5zvCqVaYXOI6NuFskPfMtE+cFnLzBGZfP4lFoXNo0ewL/8QCeun/w5OncO n/f6jTWzdXX0zdgJdn9GrxCDHrmTnMavPU6ItBUrNCNtntmbpzita29RfuKlN1cPt2g2 HQyHvL4ZBL/2Gd9hw6Ztis88uTQQTn/CAVujsYfuCOSrDxFk/J2TEwtx/tluXp2lBffb GJFz9icceN8egOR9rPqgoeYhNabXVGfTveLA0Gdjum0QkHSW+R1DfTL8Z8KryTISbtd0 pmqA== X-Gm-Message-State: AOJu0YwPSMxD5DztyvWv0HJk+dxh5008r9ihpVaJAvCiNt8UtTmVOQ72 L0Ncyr8zh9qYsK7MXOgjpRmpY4ngWMZbR/MubtUojQcDWVAzhbaUKq64fM6TDdd5GDbCur/XFnB 5yx2Vyv1JPdzqjSbWymZO1Zz6mybFD0LpENDV X-Gm-Gg: ASbGncvkRC//4WhuMYlhdg1JFfP5MxcqM/IuyNrlgxJ11W/uAtwFAL1lmHzssqeaBCu RSYYbAfcGridJXR++ZcWP4YA5ZWl5hue4OR0GbI0X1lwldOBYmqfxiqxxhZifCsPV5w0Zj4UtIN 7d9PrySJgzqpgSPxFnK/lq5ztCM7eAYs1OiL47+Ne9Gvpq9veonBd9O/B0XQydh7fai0SW3Dx6m WpqMaJ/TuRj6S2XuiP5yPDiJSzR/k1f1L2ql1qx8ACckslfYMiaJKCwyeGRM8UHS/ZzfAKEn4AZ q109kDFHD/Y3IMqdO2gorKZNn5kVm4UnWXJGnHl4Bz5KqmMtqbclPjMlR04= X-Google-Smtp-Source: AGHT+IHEFf7grzY94/EZisBZ3lNCPHtTPvKUZTkfh9id4a7YRLpUPPa6simNh/YtbM71Y3Zm/EJSud5o4itr X-Received: by 2002:a17:902:ef8c:b0:226:3781:379d with SMTP id d9443c01a7336-231d452db69mr238520285ad.33.1747890652606; Wed, 21 May 2025 22:10:52 -0700 (PDT) Received: from postal.iol.unh.edu (postal.iol.unh.edu. [132.177.123.84]) by smtp-relay.gmail.com with ESMTPS id d9443c01a7336-231d4aa6f49sm7037845ad.26.2025.05.21.22.10.52 (version=TLS1_2 cipher=ECDHE-ECDSA-AES128-GCM-SHA256 bits=128/128); Wed, 21 May 2025 22:10:52 -0700 (PDT) X-Relaying-Domain: iol.unh.edu Date: Wed, 21 May 2025 22:10:52 -0700 (PDT) Message-ID: <682eb1dc.170a0220.2ead12.5205SMTPIN_ADDED_MISSING@mx.google.com> Received: from [172.21.0.5] (unknown [172.18.0.240]) by postal.iol.unh.edu (Postfix) with ESMTP id CDC156052471; Thu, 22 May 2025 01:10:51 -0400 (EDT) Subject: |SUCCESS| [GIT MASTER] 4c5634de9f933555bab9c64a533d3dca999071cd From: dpdklab@iol.unh.edu To: Test Report Cc: dpdk-test-reports@iol.unh.edu, Xueming Li , Christian Ehrhardt , Kevin Traynor , Luca Boccassi Content-Type: text/plain X-BeenThere: test-report@dpdk.org X-Mailman-Version: 2.1.29 Precedence: list List-Id: automatic DPDK test reports List-Unsubscribe: , List-Archive: List-Post: List-Help: List-Subscribe: , Errors-To: test-report-bounces@dpdk.org _Testing PASS_ Branch: tags/v24.11 4c5634de9f933555bab9c64a533d3dca999071cd --> testing pass Upstream job id: Generic-DPDK-Compile-ABI#127280 Test environment and result as below: +-------------------+----------+ | Environment | abi_test | +===================+==========+ | CentOS Stream 9 | PASS | +-------------------+----------+ | CentOS Stream 10 | PASS | +-------------------+----------+ | Debian 12 | PASS | +-------------------+----------+ | Fedora 40 (Clang) | PASS | +-------------------+----------+ | Fedora 40 | PASS | +-------------------+----------+ | Fedora 41 (Clang) | PASS | +-------------------+----------+ | Fedora 41 | PASS | +-------------------+----------+ | openSUSE Leap 15 | PASS | +-------------------+----------+ | RHEL8 | PASS | +-------------------+----------+ | Ubuntu 22.04 | PASS | +-------------------+----------+ | Ubuntu 24.04 | PASS | +-------------------+----------+ | RHEL9 | PASS | +-------------------+----------+ CentOS Stream 9 Kernel: Depends on container host Compiler: gcc 11.5.0 20240719 (Red Hat 11.5.0-2) CentOS Stream 10 Kernel: Depends on container host Compiler: gcc 14.2.1 20241104 (Red Hat 14.2.1-6) Debian 12 Kernel: Depends on container host Compiler: gcc (Debian 12.2.0-14) 12.2.0 Fedora 40 (Clang) Kernel: Depends on container host Compiler: clang 18.1.8 (Fedora 18.1.8-1.fc40) Fedora 40 Kernel: Depends on container host Compiler: gcc 14.2.1 20240912 (Red Hat 14.2.1-3) Fedora 41 (Clang) Kernel: Depends on container host Compiler: clang 19.1.5 (Fedora 19.1.5-1.fc41) Fedora 41 Kernel: Depends on container host Compiler: gcc 14.2.1 20240912 (Red Hat 14.2.1-3) openSUSE Leap 15 Kernel: Depends on container host Compiler: gcc (SUSE Linux) 7.5.0 RHEL8 Kernel: Depends on container host Compiler: gcc 8.5.0 20210514 (Red Hat 8.5.0-22) Ubuntu 22.04 Kernel: Depends on container host Compiler: gcc (Ubuntu 11.4.0-1ubuntu1~22.04) 11.4.0 Ubuntu 24.04 Kernel: Depends on container host Compiler: gcc (Ubuntu 13.3.0-6ubuntu2~24.04) 13.3.0 RHEL9 Kernel: Depends on container host Compiler: gcc 11.5.0 20240719 (Red Hat 11.5.0-2) To view detailed results, visit: https://lab.dpdk.org/results/dashboard/tarballs/33611/ UNH-IOL DPDK Community Lab To manage your email subscriptions, visit: https://lab.dpdk.org/results/dashboard/preferences/subscriptions/