From mboxrd@z Thu Jan 1 00:00:00 1970 Return-Path: Received: from mails.dpdk.org (mails.dpdk.org [217.70.189.124]) by inbox.dpdk.org (Postfix) with ESMTP id 09F56467B2 for ; Thu, 22 May 2025 07:11:38 +0200 (CEST) Received: from mails.dpdk.org (localhost [127.0.0.1]) by mails.dpdk.org (Postfix) with ESMTP id 041724027A; Thu, 22 May 2025 07:11:38 +0200 (CEST) Received: from mail-qv1-f100.google.com (mail-qv1-f100.google.com [209.85.219.100]) by mails.dpdk.org (Postfix) with ESMTP id 4B9B540144 for ; Thu, 22 May 2025 07:11:37 +0200 (CEST) Received: by mail-qv1-f100.google.com with SMTP id 6a1803df08f44-6f8c53aeedbso106034826d6.2 for ; Wed, 21 May 2025 22:11:37 -0700 (PDT) DKIM-Signature: v=1; a=rsa-sha256; c=relaxed/relaxed; d=iol.unh.edu; s=unh-iol; t=1747890696; x=1748495496; darn=dpdk.org; h=cc:to:from:subject:message-id:date:from:to:cc:subject:date :message-id:reply-to; bh=v6lNpz+HVuMwKZmW6I22gRkw/r3ZtlWBPUTG5InDA6g=; b=I0+OY4SxpdSpuMhFbB6xzLclhE5TE1DUq+CDdEUy68nP1i6v3ZPJN4dxn3u2E4mYSu t7VKU8rKlVXUGc+57EtXrGkOZeIo0TNJxBXaX2IEBQJKd28WCee3dWF8gjQkWA+C1DCR OyNdQwQvZLALX1ocXFV1VEC8gNkFoyEjAekj8= X-Google-DKIM-Signature: v=1; a=rsa-sha256; c=relaxed/relaxed; d=1e100.net; s=20230601; t=1747890696; x=1748495496; h=cc:to:from:subject:message-id:date:x-gm-message-state:from:to:cc :subject:date:message-id:reply-to; bh=v6lNpz+HVuMwKZmW6I22gRkw/r3ZtlWBPUTG5InDA6g=; b=IkvVlA78ThsfT90l0i0WBQ23Sj0JmacHM252tSlDyYSGDqyJ/QQeyzvU8XGw8HFC1v 7PXmMwbxxyJu5E4Y5lNq7TiS7JpUHlDhH6OSZ6p9LhNJvh2qMapDYcAgKwWw1CUibLMf AOs96Us7I7jld7KMoDbqN0rFI7vtkQChxBdllekZqqBcefTJ2ohwOqynNq2cXaTQcSV+ JgeSkpSyNpx0is4VPSSCFQnzvvv1HhmsqBEXohGIB7zkuZS28gOTi+Sf3sJXHAn78C0Y NerpcK6kRVNwIchzmbBAcBNbUqrI4f/1hhWqNG6iaLr3H+2/87JAN3uZXYGbXKcb3OxH 3bRQ== X-Gm-Message-State: AOJu0Yzp2/DMr/9j6ld7NauKE+ZwW1m9oSYmYUaf3UE0wpq4Aa0Qkgoc OCxkoJlqYbaXUhzFpw460MumJhsXIwEJa0KTdRSH9dVBZvL/fhxGUUTrDYRNJRbKIubP6qDUga5 d2vm4GudeQgVuPJe6c+S/7bfMwT64p6waCkP2 X-Gm-Gg: ASbGncupqPECzKtvdA+XsAZ676/O/pKuIIyzk0sfMVmSAWAaRkrdVmv3eo8Gi1+zT9T 8HLWdhidPbDWa0HWaaF2GzPMlEcd6YsB/JEoeDL0IUiiBUvpokVJe9NJHedbfeXeNiTD1biFI0U qTUQPiI0n5RM/H0RaCxnoJxemLF90hM6oEY3E+XQXjdWNW9wiwtcysoGauwxxmT1adTTMNVxKMf Hhv/NAl3odTqtrkuJbyvH1vuhW8tk9hhRMehPREl1W/wQfqNPULnsRIuM1KvkjgxuHWHIk8hJ4+ shYOBLUONCScpt+rJfkaMA/lgk9Wa08DUBdt5SBHLiUtoTf3dDOF8HQpy78= X-Google-Smtp-Source: AGHT+IEQ5he9XhRT6Y5OQEcQCfoPCr9y35MUM5JEDTl8hUK9uWw6e9X5rNCdIlsXGDWyuNbbTU9u0k7dCaA0 X-Received: by 2002:a05:6214:402:b0:6f2:c7b0:3b16 with SMTP id 6a1803df08f44-6f8b2c32addmr341619366d6.6.1747890696648; Wed, 21 May 2025 22:11:36 -0700 (PDT) Received: from postal.iol.unh.edu (postal.iol.unh.edu. [132.177.123.84]) by smtp-relay.gmail.com with ESMTPS id 6a1803df08f44-6f8b09b5b73sm4993416d6.61.2025.05.21.22.11.36 (version=TLS1_2 cipher=ECDHE-ECDSA-AES128-GCM-SHA256 bits=128/128); Wed, 21 May 2025 22:11:36 -0700 (PDT) X-Relaying-Domain: iol.unh.edu Date: Wed, 21 May 2025 22:11:36 -0700 (PDT) Message-ID: <682eb208.050a0220.3cb530.9fe2SMTPIN_ADDED_MISSING@mx.google.com> Received: from [172.21.0.6] (unknown [172.18.0.240]) by postal.iol.unh.edu (Postfix) with ESMTP id 58E6A6052471; Thu, 22 May 2025 01:11:36 -0400 (EDT) Subject: |SUCCESS| [GIT MASTER] 4c5634de9f933555bab9c64a533d3dca999071cd From: dpdklab@iol.unh.edu To: Test Report Cc: dpdk-test-reports@iol.unh.edu, Xueming Li , Christian Ehrhardt , Kevin Traynor , Luca Boccassi Content-Type: text/plain X-BeenThere: test-report@dpdk.org X-Mailman-Version: 2.1.29 Precedence: list List-Id: automatic DPDK test reports List-Unsubscribe: , List-Archive: List-Post: List-Help: List-Subscribe: , Errors-To: test-report-bounces@dpdk.org _Testing PASS_ Branch: tags/v24.11 4c5634de9f933555bab9c64a533d3dca999071cd --> testing pass Upstream job id: Generic-DPDK-Compile-ABI#127277 Test environment and result as below: +-------------------+----------+ | Environment | abi_test | +===================+==========+ | CentOS Stream 9 | PASS | +-------------------+----------+ | CentOS Stream 10 | PASS | +-------------------+----------+ | Debian 12 | PASS | +-------------------+----------+ | Fedora 40 (Clang) | PASS | +-------------------+----------+ | Fedora 40 | PASS | +-------------------+----------+ | Fedora 41 (Clang) | PASS | +-------------------+----------+ | Fedora 41 | PASS | +-------------------+----------+ | openSUSE Leap 15 | PASS | +-------------------+----------+ | RHEL8 | PASS | +-------------------+----------+ | Ubuntu 22.04 | PASS | +-------------------+----------+ | Ubuntu 24.04 | PASS | +-------------------+----------+ | RHEL9 | PASS | +-------------------+----------+ CentOS Stream 9 Kernel: Depends on container host Compiler: gcc 11.5.0 20240719 (Red Hat 11.5.0-2) CentOS Stream 10 Kernel: Depends on container host Compiler: gcc 14.2.1 20241104 (Red Hat 14.2.1-6) Debian 12 Kernel: Depends on container host Compiler: gcc (Debian 12.2.0-14) 12.2.0 Fedora 40 (Clang) Kernel: Depends on container host Compiler: clang 18.1.8 (Fedora 18.1.8-1.fc40) Fedora 40 Kernel: Depends on container host Compiler: gcc 14.2.1 20240912 (Red Hat 14.2.1-3) Fedora 41 (Clang) Kernel: Depends on container host Compiler: clang 19.1.5 (Fedora 19.1.5-1.fc41) Fedora 41 Kernel: Depends on container host Compiler: gcc 14.2.1 20240912 (Red Hat 14.2.1-3) openSUSE Leap 15 Kernel: Depends on container host Compiler: gcc (SUSE Linux) 7.5.0 RHEL8 Kernel: Depends on container host Compiler: gcc 8.5.0 20210514 (Red Hat 8.5.0-22) Ubuntu 22.04 Kernel: Depends on container host Compiler: gcc (Ubuntu 11.4.0-1ubuntu1~22.04) 11.4.0 Ubuntu 24.04 Kernel: Depends on container host Compiler: gcc (Ubuntu 13.3.0-6ubuntu2~24.04) 13.3.0 RHEL9 Kernel: Depends on container host Compiler: gcc 11.5.0 20240719 (Red Hat 11.5.0-2) To view detailed results, visit: https://lab.dpdk.org/results/dashboard/tarballs/33611/ UNH-IOL DPDK Community Lab To manage your email subscriptions, visit: https://lab.dpdk.org/results/dashboard/preferences/subscriptions/