From mboxrd@z Thu Jan 1 00:00:00 1970 Return-Path: Received: from mails.dpdk.org (mails.dpdk.org [217.70.189.124]) by inbox.dpdk.org (Postfix) with ESMTP id 7CD6A467B2 for ; Thu, 22 May 2025 07:16:04 +0200 (CEST) Received: from mails.dpdk.org (localhost [127.0.0.1]) by mails.dpdk.org (Postfix) with ESMTP id 77EAC4027A; Thu, 22 May 2025 07:16:04 +0200 (CEST) Received: from mail-il1-f225.google.com (mail-il1-f225.google.com [209.85.166.225]) by mails.dpdk.org (Postfix) with ESMTP id 0BCE240144 for ; Thu, 22 May 2025 07:16:03 +0200 (CEST) Received: by mail-il1-f225.google.com with SMTP id e9e14a558f8ab-3dc6b2a8647so14867525ab.2 for ; Wed, 21 May 2025 22:16:02 -0700 (PDT) DKIM-Signature: v=1; a=rsa-sha256; c=relaxed/relaxed; d=iol.unh.edu; s=unh-iol; t=1747890962; x=1748495762; darn=dpdk.org; h=cc:to:from:subject:message-id:date:from:to:cc:subject:date :message-id:reply-to; bh=hdg3kkoiVBs7PCcMuJu/ooVPTUwer+TtwuYbf/ty4yQ=; b=Y8znalsOs+rslcBvz27h973tV+VbuFjKh/2/F75wgHCQoipbaLW1gCakmu/88QWxr+ eQdb6+pOS6LPP30E9m9snRe7LotkKFwJNd8wOawiIAW+rbUkjuGvkWtC0tTNsxNCksB7 xC6YDoggaccbrhT6KQGsadKKRHC7CC7IPuExw= X-Google-DKIM-Signature: v=1; a=rsa-sha256; c=relaxed/relaxed; d=1e100.net; s=20230601; t=1747890962; x=1748495762; h=cc:to:from:subject:message-id:date:x-gm-message-state:from:to:cc :subject:date:message-id:reply-to; bh=hdg3kkoiVBs7PCcMuJu/ooVPTUwer+TtwuYbf/ty4yQ=; b=FqcQPlyRbz6kFV8vn0+YUehB0qjS8dJtykp0Bg+Syf6MC45t26nyL4DLDYUiHb7Bg4 9OKD6dhxs0mfHPUvHmpotpQAvn1imtjgLhzE/z58vSYPl2KpvL7i7fkklqTO6FAqoHhZ xFna4cVyVx6dgrgKUKOZtibv2sQhCfi3lQjGUW+eGWfX/wwG2rHp+yiRSyhqL0uF60gH 3SzPNYxw8Ym0LgEPc6EABGIIt3rEb9V9CXYXV7XavskSNr0CtohDBcRd82SUmDRX31h1 oN2BOJL6TOjms3MdbppGsQFpiyyU9aqRwktn0asu3M3mfe0UYaKzybm1zM5ZghRTxV0H YN6w== X-Gm-Message-State: AOJu0Yz7chIBAPgmQJXCcVzNByiS6hfNzsAekxhcB+6slHQhtOnyMHLx E/h04/jpxbjQg1vfbta81Y24ouGW9alfAGR+8q24KiPKv7VtRZ1NTfMwnQ9Kht9yod76GC/21RH GqQINM3VzzNaf59Q+T7wijDZuDIy8OQDQkfsa0/Xnexkh X-Gm-Gg: ASbGncuJ5BbnNFw4XZCjxGS89OqG6cK3gnekZJmvNxeyWNkvFq45Q26bc/MbEsak29F 1Z1l+RCO55RDLXI7XiPnbE5QWygPoxyMRX2t20oxfx5OoliYhYmH+6rFMeHTcRKezwY9Vu4ul8P i2ICWtnZciZgfgfCL8MuXVm3nSs3O9+Lc/qnGIhDSXJgt5z37qrXyYvfWMS6nLxpdw3/A6d3x4/ LMM6CHqFEscQafuehUu//vGSc4tgB18Wi+NLxWqh/UPQLOHBFUjYQxqGla7ypk43+2rE3YTNDZS L5p5PPwalLsADnzT34/NUDngP/8LBaOwkDWKg94J5WX8iSZAho9uWOzYH0Y= X-Google-Smtp-Source: AGHT+IH2gJVBIKWee/v8saZiJeKjDoPv5kkqWm0YXlAT/LGlDfyIT6AqUGXxGB3hPnoTykPv3ZTv4edAnD68 X-Received: by 2002:a05:6e02:5e0a:b0:3dc:79fa:ed70 with SMTP id e9e14a558f8ab-3dc79faf06fmr86552535ab.2.1747890962426; Wed, 21 May 2025 22:16:02 -0700 (PDT) Received: from postal.iol.unh.edu (postal.iol.unh.edu. [132.177.123.84]) by smtp-relay.gmail.com with ESMTPS id 8926c6da1cb9f-4fbcc3dcaedsm643847173.38.2025.05.21.22.16.02 (version=TLS1_2 cipher=ECDHE-ECDSA-AES128-GCM-SHA256 bits=128/128); Wed, 21 May 2025 22:16:02 -0700 (PDT) X-Relaying-Domain: iol.unh.edu Date: Wed, 21 May 2025 22:16:02 -0700 (PDT) Message-ID: <682eb312.050a0220.1ab52f.2170SMTPIN_ADDED_MISSING@mx.google.com> Received: from [172.21.0.5] (unknown [172.18.0.240]) by postal.iol.unh.edu (Postfix) with ESMTP id D20C76052471; Thu, 22 May 2025 01:16:01 -0400 (EDT) Subject: |SUCCESS| [GIT MASTER] 117e86c4b96ed761e9a7ab766261208fe81bf5ca From: dpdklab@iol.unh.edu To: Test Report Cc: dpdk-test-reports@iol.unh.edu Content-Type: text/plain X-BeenThere: test-report@dpdk.org X-Mailman-Version: 2.1.29 Precedence: list List-Id: automatic DPDK test reports List-Unsubscribe: , List-Archive: List-Post: List-Help: List-Subscribe: , Errors-To: test-report-bounces@dpdk.org _Testing PASS_ Branch: dpdk 117e86c4b96ed761e9a7ab766261208fe81bf5ca --> testing pass Upstream job id: Generic-Unit-Test-DPDK#339795 Test environment and result as below: +-----------------------------+---------------------------+--------------+------------------------------+----------------+ | Environment | cryptodev_sw_zuc_autotest | lpm_autotest | cryptodev_sw_snow3g_autotest | dpdk_unit_test | +=============================+===========================+==============+==============================+================+ | Debian 12 (arm) | PASS | SKIPPED | PASS | PASS | +-----------------------------+---------------------------+--------------+------------------------------+----------------+ | Ubuntu 20.04 ARM SVE | SKIPPED | PASS | SKIPPED | SKIPPED | +-----------------------------+---------------------------+--------------+------------------------------+----------------+ | CentOS Stream 10 (ARM) | SKIPPED | SKIPPED | SKIPPED | PASS | +-----------------------------+---------------------------+--------------+------------------------------+----------------+ | Fedora 40 (ARM) | SKIPPED | SKIPPED | SKIPPED | PASS | +-----------------------------+---------------------------+--------------+------------------------------+----------------+ | CentOS Stream 9 (ARM) | SKIPPED | SKIPPED | SKIPPED | PASS | +-----------------------------+---------------------------+--------------+------------------------------+----------------+ | Fedora 41 (ARM) | SKIPPED | SKIPPED | SKIPPED | PASS | +-----------------------------+---------------------------+--------------+------------------------------+----------------+ | Fedora 40 (ARM Clang) | SKIPPED | SKIPPED | SKIPPED | PASS | +-----------------------------+---------------------------+--------------+------------------------------+----------------+ | RHEL9 (ARM) | SKIPPED | SKIPPED | SKIPPED | PASS | +-----------------------------+---------------------------+--------------+------------------------------+----------------+ | Fedora 41 (ARM Clang) | SKIPPED | SKIPPED | SKIPPED | PASS | +-----------------------------+---------------------------+--------------+------------------------------+----------------+ | Ubuntu 24.04 (ARM) | SKIPPED | SKIPPED | SKIPPED | PASS | +-----------------------------+---------------------------+--------------+------------------------------+----------------+ | Ubuntu 22.04 (ARM) | SKIPPED | SKIPPED | SKIPPED | PASS | +-----------------------------+---------------------------+--------------+------------------------------+----------------+ | Ubuntu 20.04 (ARM) | SKIPPED | SKIPPED | SKIPPED | PASS | +-----------------------------+---------------------------+--------------+------------------------------+----------------+ | 32-bit Ubuntu 22.04.4 (ARM) | SKIPPED | SKIPPED | SKIPPED | PASS | +-----------------------------+---------------------------+--------------+------------------------------+----------------+ Debian 12 (arm) Kernel: Depends on container host Compiler: gcc (Debian 12.2.0-14) 12.2.0 Ubuntu 20.04 ARM SVE Kernel: Depends on container host Compiler: gcc (Ubuntu 10.5.0-1ubuntu1~20.04) 10.5.0 CentOS Stream 10 (ARM) Kernel: Depends on container host Compiler: gcc 14.2.1 20241104 (Red Hat 14.2.1-6) Fedora 40 (ARM) Kernel: Depends on container host Compiler: gcc 14.2.1 20240912 (Red Hat 14.2.1-3) CentOS Stream 9 (ARM) Kernel: Depends on container host Compiler: gcc 11.5.0 20240719 (Red Hat 11.5.0-2) Fedora 41 (ARM) Kernel: Depends on container host Compiler: gcc 14.2.1 20240912 (Red Hat 14.2.1-3) Fedora 40 (ARM Clang) Kernel: Depends on container host Compiler: clang 18.1.8 (Fedora 18.1.8-1.fc40) RHEL9 (ARM) Kernel: Depends on container host Compiler: gcc 11.5.0 20240719 (Red Hat 11.5.0-2) Fedora 41 (ARM Clang) Kernel: Depends on container host Compiler: clang 19.1.5 (Fedora 19.1.5-1.fc41) Ubuntu 24.04 (ARM) Kernel: Depends on container host Compiler: gcc (Ubuntu 13.3.0-6ubuntu2~24.04) 13.3.0 Ubuntu 22.04 (ARM) Kernel: Depends on container host Compiler: gcc (Ubuntu 11.4.0-1ubuntu1~22.04) 11.4.0 Ubuntu 20.04 (ARM) Kernel: Depends on container host Compiler: gcc (Ubuntu 9.4.0-1ubuntu1~20.04.2) 9.4.0 32-bit Ubuntu 22.04.4 (ARM) Kernel: 5.15.83+ aarch64 Compiler: gcc (Ubuntu 11.4.0-1ubuntu1~22.04) 11.4.0 To view detailed results, visit: https://lab.dpdk.org/results/dashboard/tarballs/33610/ UNH-IOL DPDK Community Lab To manage your email subscriptions, visit: https://lab.dpdk.org/results/dashboard/preferences/subscriptions/