From mboxrd@z Thu Jan 1 00:00:00 1970 Return-Path: Received: from mails.dpdk.org (mails.dpdk.org [217.70.189.124]) by inbox.dpdk.org (Postfix) with ESMTP id D19AE467B3 for ; Thu, 22 May 2025 08:01:05 +0200 (CEST) Received: from mails.dpdk.org (localhost [127.0.0.1]) by mails.dpdk.org (Postfix) with ESMTP id B65FB4027A; Thu, 22 May 2025 08:01:05 +0200 (CEST) Received: from mail-yb1-f227.google.com (mail-yb1-f227.google.com [209.85.219.227]) by mails.dpdk.org (Postfix) with ESMTP id 4444F40144 for ; Thu, 22 May 2025 08:01:04 +0200 (CEST) Received: by mail-yb1-f227.google.com with SMTP id 3f1490d57ef6-e7d56716544so2437530276.3 for ; Wed, 21 May 2025 23:01:04 -0700 (PDT) DKIM-Signature: v=1; a=rsa-sha256; c=relaxed/relaxed; d=iol.unh.edu; s=unh-iol; t=1747893663; x=1748498463; darn=dpdk.org; h=cc:to:from:subject:message-id:date:from:to:cc:subject:date :message-id:reply-to; bh=zI2VECcFiD1Ab16ZzW5feNl92DWEo8cajKXLlSziLsk=; b=fyHwiRKRBuQKyHVU7EzHuMuOri/6bUnFFktJyLd237nzhWwxJnQbwC7z1SUMx9+sK9 Nv/SxCaldmr5j8qHrSamXjqpFWkYg4nnXkfgSta7oWpE+LBlmSvAavtCc+eDbuqpnvkh 86nxtOBa7WhJtBrQ3tcsqWN6IDwur9ZE81GKE= X-Google-DKIM-Signature: v=1; a=rsa-sha256; c=relaxed/relaxed; d=1e100.net; s=20230601; t=1747893663; x=1748498463; h=cc:to:from:subject:message-id:date:x-gm-message-state:from:to:cc :subject:date:message-id:reply-to; bh=zI2VECcFiD1Ab16ZzW5feNl92DWEo8cajKXLlSziLsk=; b=ZlBlhqacqbp8jn0wUxrOjWFLsINXBJK8xIZx9rl9Cn3TGk94hgl9UmsiD7MUv8xmc2 s0Fm6rjibCu1S2XfJXPfaN7Db+HwbMDl86IMA4qPLeVXqpZX3rMvKzR1dbYV0duyywl6 Xfhgl7njf7R19OpjoaM9qJXikOlnyuAu56WAdY6AairBVJDpaX8ilZqGBRmbIgDKvtZb moQpGbmlZPaE1PFk4bPeKS4U3D7YCAPxGtmtWi+E1AwTq+fcpqm2Xfmf3FovhrFaTtj3 sC7AV9aABWvjjiQ64HrJ05zrdPLl3zN6fp+M5lUEOy7NB7G5BjehVf3G6yhe9BlwRTLh w3EQ== X-Gm-Message-State: AOJu0YxtvsegJngA0LPbFFHkPxvvrmjdfv+sBwijFFir/MrPJwW8gSko y6UP9a+8KpS3gsfFNaIYb5nMkooH2VN/dkifmabClzfEy5zw3hVMy1n9yfMDrXtUrPA7hVCZszm YBJAmdi6hvQCaMZpyXsuTo16m0E9IXBTdifX0 X-Gm-Gg: ASbGncs/VL1zZ+IzXOfPjiHHJoZ30wzRF47LBlNUHYBSMW73trxIKQDioU+3+Y6bNDB lAHPhc5P31h+H5Eiy9rqR9WO1nVQwU348SWT1d4oEaRAqUboGNnCZVIc29L3I56btc20dBvirXt FaLbSg97kPKDK66PDNhaudPsIRYoIH59R/9ag2379AMWQHxJ/Vaq9T2KqknxWVBnmrD/bq7nbgE 7D1atd+Ns/dNk6JJyjqWOsJi38fPfSXxmlqjSzCFrL2Gh8NUUtISHdeZNwd+tYb1/orJRXs9EL2 CnZC8BATvXFvvewVRJc6+ddck62+oCrX+AgR/4Ot1JgNBUb87I/PXvQAGF4= X-Google-Smtp-Source: AGHT+IFfo+uYYgCnoam2r2aYiqdjsI4EC0MzTvR0UTC2luUyTlgo6wHV8LAvecGWXyG9NAhYW5/uBHQnjawX X-Received: by 2002:a05:6902:f81:b0:e6d:da84:e901 with SMTP id 3f1490d57ef6-e7b6d444bacmr32407977276.27.1747893663589; Wed, 21 May 2025 23:01:03 -0700 (PDT) Received: from postal.iol.unh.edu (postal.iol.unh.edu. [132.177.123.84]) by smtp-relay.gmail.com with ESMTPS id 3f1490d57ef6-e7b6ae097absm294525276.21.2025.05.21.23.01.03 (version=TLS1_2 cipher=ECDHE-ECDSA-AES128-GCM-SHA256 bits=128/128); Wed, 21 May 2025 23:01:03 -0700 (PDT) X-Relaying-Domain: iol.unh.edu Date: Wed, 21 May 2025 23:01:03 -0700 (PDT) Message-ID: <682ebd9f.5b0a0220.25460.eaecSMTPIN_ADDED_MISSING@mx.google.com> Received: from [172.21.0.5] (unknown [172.18.0.240]) by postal.iol.unh.edu (Postfix) with ESMTP id 34AD76052471; Thu, 22 May 2025 02:01:03 -0400 (EDT) Subject: |SUCCESS| [GIT MASTER] 4401486b5e30d43a134f80f9802f60b5f43e74a8 From: dpdklab@iol.unh.edu To: Test Report Cc: dpdk-test-reports@iol.unh.edu, Xueming Li , Christian Ehrhardt , Kevin Traynor , Luca Boccassi Content-Type: text/plain X-BeenThere: test-report@dpdk.org X-Mailman-Version: 2.1.29 Precedence: list List-Id: automatic DPDK test reports List-Unsubscribe: , List-Archive: List-Post: List-Help: List-Subscribe: , Errors-To: test-report-bounces@dpdk.org _Testing PASS_ Branch: tags/v22.11 4401486b5e30d43a134f80f9802f60b5f43e74a8 --> testing pass Upstream job id: Generic-DPDK-Compile-ABI#127285 Test environment and result as below: +-------------------+----------+ | Environment | abi_test | +===================+==========+ | CentOS Stream 9 | PASS | +-------------------+----------+ | CentOS Stream 10 | PASS | +-------------------+----------+ | Debian 12 | PASS | +-------------------+----------+ | Fedora 40 (Clang) | PASS | +-------------------+----------+ | Fedora 40 | PASS | +-------------------+----------+ | Fedora 41 (Clang) | PASS | +-------------------+----------+ | Fedora 41 | PASS | +-------------------+----------+ | openSUSE Leap 15 | PASS | +-------------------+----------+ | RHEL8 | PASS | +-------------------+----------+ | RHEL9 | PASS | +-------------------+----------+ | Ubuntu 22.04 | PASS | +-------------------+----------+ | Ubuntu 24.04 | PASS | +-------------------+----------+ CentOS Stream 9 Kernel: Depends on container host Compiler: gcc 11.5.0 20240719 (Red Hat 11.5.0-2) CentOS Stream 10 Kernel: Depends on container host Compiler: gcc 14.2.1 20241104 (Red Hat 14.2.1-6) Debian 12 Kernel: Depends on container host Compiler: gcc (Debian 12.2.0-14) 12.2.0 Fedora 40 (Clang) Kernel: Depends on container host Compiler: clang 18.1.8 (Fedora 18.1.8-1.fc40) Fedora 40 Kernel: Depends on container host Compiler: gcc 14.2.1 20240912 (Red Hat 14.2.1-3) Fedora 41 (Clang) Kernel: Depends on container host Compiler: clang 19.1.5 (Fedora 19.1.5-1.fc41) Fedora 41 Kernel: Depends on container host Compiler: gcc 14.2.1 20240912 (Red Hat 14.2.1-3) openSUSE Leap 15 Kernel: Depends on container host Compiler: gcc (SUSE Linux) 7.5.0 RHEL8 Kernel: Depends on container host Compiler: gcc 8.5.0 20210514 (Red Hat 8.5.0-22) RHEL9 Kernel: Depends on container host Compiler: gcc 11.5.0 20240719 (Red Hat 11.5.0-2) Ubuntu 22.04 Kernel: Depends on container host Compiler: gcc (Ubuntu 11.4.0-1ubuntu1~22.04) 11.4.0 Ubuntu 24.04 Kernel: Depends on container host Compiler: gcc (Ubuntu 13.3.0-6ubuntu2~24.04) 13.3.0 To view detailed results, visit: https://lab.dpdk.org/results/dashboard/tarballs/33612/ UNH-IOL DPDK Community Lab To manage your email subscriptions, visit: https://lab.dpdk.org/results/dashboard/preferences/subscriptions/