From mboxrd@z Thu Jan  1 00:00:00 1970
Return-Path: <test-report-bounces@dpdk.org>
Received: from mails.dpdk.org (mails.dpdk.org [217.70.189.124])
	by inbox.dpdk.org (Postfix) with ESMTP id 3AD1C467B6
	for <public@inbox.dpdk.org>; Thu, 22 May 2025 08:29:07 +0200 (CEST)
Received: from mails.dpdk.org (localhost [127.0.0.1])
	by mails.dpdk.org (Postfix) with ESMTP id 346E8402D5;
	Thu, 22 May 2025 08:29:07 +0200 (CEST)
Received: from mail-yb1-f225.google.com (mail-yb1-f225.google.com
 [209.85.219.225])
 by mails.dpdk.org (Postfix) with ESMTP id 5C432402D5
 for <test-report@dpdk.org>; Thu, 22 May 2025 08:29:06 +0200 (CEST)
Received: by mail-yb1-f225.google.com with SMTP id
 3f1490d57ef6-e7d56716544so2454202276.3
 for <test-report@dpdk.org>; Wed, 21 May 2025 23:29:06 -0700 (PDT)
DKIM-Signature: v=1; a=rsa-sha256; c=relaxed/relaxed;
 d=iol.unh.edu; s=unh-iol; t=1747895345; x=1748500145; darn=dpdk.org;
 h=cc:to:from:subject:message-id:date:from:to:cc:subject:date
 :message-id:reply-to;
 bh=8wUVaLkMd2cbMYe88meUilsTCpJaU5MlY/o3eepd0Ls=;
 b=JzdqXqpWWhhK2zeEZuk4WNWfrm6z02MoIUKTLehsjvbwi08L9/XSuY9ZAPY8bRkUTR
 FgacvTKgGlMfL4SWaaCH9JZQ/XFl6adaYPzCaEt55oM12niH9rQddOKVfR5ocM3WsSmG
 dP1I00W5+8aelyij6htSK+iuWNEfiTEdyGU2w=
X-Google-DKIM-Signature: v=1; a=rsa-sha256; c=relaxed/relaxed;
 d=1e100.net; s=20230601; t=1747895345; x=1748500145;
 h=cc:to:from:subject:message-id:date:x-gm-message-state:from:to:cc
 :subject:date:message-id:reply-to;
 bh=8wUVaLkMd2cbMYe88meUilsTCpJaU5MlY/o3eepd0Ls=;
 b=WZYMf9AfGJkAFtxwMsI9G4nwyi3gBei6Llj3gUJ8BAV3E0L9Kva3qm6tNatWqMeaLD
 gdO7wcn8kJff0rGAnS57e/oZ1BjHsQprqU82B3ZCOOhSZXJYynuxIAaN5dh5/ggato0R
 8aqGJM3/nTOdFWd1rnaTKSYeRzv5Cu1pEVaBUXhC6iHY1ESo9+2lId960hHLPShN7NHW
 dEjxwOes3wFFcA8T0i8IosPYyJca28Cl4hzptgnFp2rsZpJF2D3WypU8Ar+UHHmh6MYB
 rDoRgsSOnhMy/g2+p43EQr2IMp4fdrxTdPGuHqy1aeM5JfNDUjuJnjlE1Ak4MLcMhM4a
 tPWw==
X-Gm-Message-State: AOJu0YzDR26OTgd8dTHhLGx78K3ZMhHgWEb6fK/7jydZ4cYDWf48+cBc
 ZDeANKq1CD4iTpe2wuidaJNumvp1FbDcUSxwJGjh1gqH2CG3G2/JLURYCMFvMQn3ELhLFY2SDK6
 S2kNUlFV8MOdurCo36LHcgDbBCYhyRyFEALMzZBFXPdxTRhRqXfNyDohp0i8I
X-Gm-Gg: ASbGncuEE9gM66brvgn0qwEWXncmV53NxyMPxPGNQ3zGWjsXZlKmMaieah5djGgwA7G
 8/w6CLunoOIOIrwveQKyoAvbpsmz4XU1gVIgwyOWXGYFXNjq39mhGQEIuqgXfRWqFvzNsPrqWwZ
 YShXuj+88gBI5Lx0A6jQHEuPAd9IZ3Uz9xTMBNCWIJ0KCnlU4fTtXoBKRTHt1ftyOerjjcxhHce
 l9YYME6sYSpuSDjwdk55orj8O0hhHaXRvf8bl/HvTgPGJoF6cUkOXsG/XggTj+y6n2/E13oVLa8
 yCSP9R5IxzcnqS574tO+hHhTfAaDhgFqy1a9
X-Google-Smtp-Source: AGHT+IFnm5KPqe7hgf8M8ql9cU2bg3LTgnD6vcUSOQb3+ypqAS0umfv5Kmm94Xs1b8bo1xnZjRjLlKOMPrvv
X-Received: by 2002:a05:6902:1102:b0:e7d:6829:2089 with SMTP id
 3f1490d57ef6-e7d6829219cmr4585682276.11.1747895345730; 
 Wed, 21 May 2025 23:29:05 -0700 (PDT)
Received: from postal.iol.unh.edu (postal.iol.unh.edu.
 [2606:4100:3880:1234::84]) by smtp-relay.gmail.com with ESMTPS id
 3f1490d57ef6-e7d5f08c121sm71692276.17.2025.05.21.23.29.05
 (version=TLS1_2 cipher=ECDHE-ECDSA-AES128-GCM-SHA256 bits=128/128);
 Wed, 21 May 2025 23:29:05 -0700 (PDT)
X-Relaying-Domain: iol.unh.edu
Date: Wed, 21 May 2025 23:29:05 -0700 (PDT)
Message-ID: <682ec431.050a0220.56dbb.3744SMTPIN_ADDED_MISSING@mx.google.com>
Received: from [172.21.0.6] (unknown [172.18.0.240])
 by postal.iol.unh.edu (Postfix) with ESMTP id 4B06B6052471;
 Thu, 22 May 2025 02:29:05 -0400 (EDT)
Subject: |SUCCESS| [GIT MASTER] 117e86c4b96ed761e9a7ab766261208fe81bf5ca
From: dpdklab@iol.unh.edu
To: Test Report <test-report@dpdk.org>
Cc: dpdk-test-reports@iol.unh.edu
Content-Type: text/plain
X-BeenThere: test-report@dpdk.org
X-Mailman-Version: 2.1.29
Precedence: list
List-Id: automatic DPDK test reports <test-report.dpdk.org>
List-Unsubscribe: <https://mails.dpdk.org/options/test-report>,
 <mailto:test-report-request@dpdk.org?subject=unsubscribe>
List-Archive: <http://mails.dpdk.org/archives/test-report/>
List-Post: <mailto:test-report@dpdk.org>
List-Help: <mailto:test-report-request@dpdk.org?subject=help>
List-Subscribe: <https://mails.dpdk.org/listinfo/test-report>,
 <mailto:test-report-request@dpdk.org?subject=subscribe>
Errors-To: test-report-bounces@dpdk.org

_Testing PASS_

Branch: dpdk

117e86c4b96ed761e9a7ab766261208fe81bf5ca --> testing pass

Upstream job id: Generic-DPDK-Compile-Meson#390279

Test environment and result as below:

+----------------------------------------+--------------------+
|              Environment               | dpdk_meson_compile |
+========================================+====================+
| RHEL9 (ARM)                            | PASS               |
+----------------------------------------+--------------------+
| Debian 12 with MUSDK                   | PASS               |
+----------------------------------------+--------------------+
| Ubuntu 20.04 ARM SVE                   | PASS               |
+----------------------------------------+--------------------+
| Fedora 40 (ARM Clang)                  | PASS               |
+----------------------------------------+--------------------+
| Fedora 40 (ARM)                        | PASS               |
+----------------------------------------+--------------------+
| Fedora 41 (ARM)                        | PASS               |
+----------------------------------------+--------------------+
| Ubuntu 22.04 (ARM)                     | PASS               |
+----------------------------------------+--------------------+
| CentOS Stream 9 (ARM)                  | PASS               |
+----------------------------------------+--------------------+
| Ubuntu 20.04 (ARM)                     | PASS               |
+----------------------------------------+--------------------+
| Fedora 41 (ARM Clang)                  | PASS               |
+----------------------------------------+--------------------+
| Ubuntu 24.04 (ARM)                     | PASS               |
+----------------------------------------+--------------------+
| CentOS Stream 10 (ARM)                 | PASS               |
+----------------------------------------+--------------------+
| Debian 12 (arm)                        | PASS               |
+----------------------------------------+--------------------+
| Ubuntu 20.04 ARM Clang Cross Compile   | PASS               |
+----------------------------------------+--------------------+
| Ubuntu 20.04 aarch32 GCC Cross Compile | PASS               |
+----------------------------------------+--------------------+


RHEL9 (ARM)
	Kernel: Depends on container host
	Compiler: gcc 11.5.0 20240719 (Red Hat 11.5.0-2)

Debian 12 with MUSDK
	Kernel: Depends on container host
	Compiler: gcc (Debian 12.2.0-14) 12.2.0

Ubuntu 20.04 ARM SVE
	Kernel: Depends on container host
	Compiler: gcc (Ubuntu 10.5.0-1ubuntu1~20.04) 10.5.0

Fedora 40 (ARM Clang)
	Kernel: Depends on container host
	Compiler: clang 18.1.8 (Fedora 18.1.8-1.fc40)

Fedora 40 (ARM)
	Kernel: Depends on container host
	Compiler: gcc 14.2.1 20240912 (Red Hat 14.2.1-3)

Fedora 41 (ARM)
	Kernel: Depends on container host
	Compiler: gcc 14.2.1 20240912 (Red Hat 14.2.1-3)

Ubuntu 22.04 (ARM)
	Kernel: Depends on container host
	Compiler: gcc (Ubuntu 11.4.0-1ubuntu1~22.04) 11.4.0

CentOS Stream 9 (ARM)
	Kernel: Depends on container host
	Compiler: gcc 11.5.0 20240719 (Red Hat 11.5.0-2)

Ubuntu 20.04 (ARM)
	Kernel: Depends on container host
	Compiler: gcc (Ubuntu 9.4.0-1ubuntu1~20.04.2) 9.4.0

Fedora 41 (ARM Clang)
	Kernel: Depends on container host
	Compiler: clang 19.1.5 (Fedora 19.1.5-1.fc41)

Ubuntu 24.04 (ARM)
	Kernel: Depends on container host
	Compiler: gcc (Ubuntu 13.3.0-6ubuntu2~24.04) 13.3.0

CentOS Stream 10 (ARM)
	Kernel: Depends on container host
	Compiler: gcc 14.2.1 20241104 (Red Hat 14.2.1-6)

Debian 12 (arm)
	Kernel: Depends on container host
	Compiler: gcc (Debian 12.2.0-14) 12.2.0

Ubuntu 20.04 ARM Clang Cross Compile
	Kernel: Depends on container host
	Compiler: clang 10.0.0-4ubuntu1

Ubuntu 20.04 aarch32 GCC Cross Compile
	Kernel: Depends on container host
	Compiler: gcc 9.4.0

To view detailed results, visit:
https://lab.dpdk.org/results/dashboard/tarballs/33610/

UNH-IOL DPDK Community Lab

To manage your email subscriptions, visit: 
https://lab.dpdk.org/results/dashboard/preferences/subscriptions/