From mboxrd@z Thu Jan 1 00:00:00 1970 Return-Path: Received: from mails.dpdk.org (mails.dpdk.org [217.70.189.124]) by inbox.dpdk.org (Postfix) with ESMTP id ED78F467B6 for ; Thu, 22 May 2025 08:34:16 +0200 (CEST) Received: from mails.dpdk.org (localhost [127.0.0.1]) by mails.dpdk.org (Postfix) with ESMTP id CEE024027A; Thu, 22 May 2025 08:34:16 +0200 (CEST) Received: from mail-qk1-f226.google.com (mail-qk1-f226.google.com [209.85.222.226]) by mails.dpdk.org (Postfix) with ESMTP id C7FA940144 for ; Thu, 22 May 2025 08:34:15 +0200 (CEST) Received: by mail-qk1-f226.google.com with SMTP id af79cd13be357-7cadd46ea9aso1113209085a.1 for ; Wed, 21 May 2025 23:34:15 -0700 (PDT) DKIM-Signature: v=1; a=rsa-sha256; c=relaxed/relaxed; d=iol.unh.edu; s=unh-iol; t=1747895655; x=1748500455; darn=dpdk.org; h=cc:to:from:subject:message-id:date:from:to:cc:subject:date :message-id:reply-to; bh=WGmpvWIjPL7EvQuBEPWG+9Up35Pf4OZ34kja+2PNYhU=; b=KmvgCny/cmO8hG+w2nSdBCs67H7y5VbGDtcGDPhR6sOJZko/JYK8WsnN7ElRBbyhpW wlKtrCK/ZpOyhS5Bb2RuyupIRMMTqd+xjYLx0WofN5LwLeVAE4g+j7/L0CN8Yw3lJAkK cLdfZkKWdv97daKWhz7/kJGG6L7O+pDSlB9ls= X-Google-DKIM-Signature: v=1; a=rsa-sha256; c=relaxed/relaxed; d=1e100.net; s=20230601; t=1747895655; x=1748500455; h=cc:to:from:subject:message-id:date:x-gm-message-state:from:to:cc :subject:date:message-id:reply-to; bh=WGmpvWIjPL7EvQuBEPWG+9Up35Pf4OZ34kja+2PNYhU=; b=ehHS69/WwELHNzPj2OhMWmfWQTotvuqKbrRHjqRWWRH9N9p3A1akoVMJcBdNPdtxRQ HnSdsg8st8Mjbk4XhouJ3zrBFR4D5ukSpkcRR8kZZ3O4HFxefSOW5nNDCFKBnBviZKFS VuH5OlHHK2p9nh1LobOvIKFuyVcsTY1aD+6WxNeqTpstorhU2I+rS5Qv7G9lsrJrc1jM YI/E/bPIyzd+Jwoo9S5ukjXudsgdcT3iqtd0yLmRJHPNFP355PF1GnsNoXEm8nG88R44 ZJgKw6qhDvF1FQh3cza2M0yqby6sjD2YiAk+XtJqkrSVLb1+j39rM2IE6D5twVj4QDna RDww== X-Gm-Message-State: AOJu0YxxeQghwISoZeQXQqqUQxAizXm2u7RL63Zg8bbWMBKAeWrGYNDx dNTHfIYdLnTyfzcLwfrWenrosBGZ74/nWD814U0f2XpijO1zrZVIrXviYO8C4/yn0xr+9JEuvfK t10wLV/HuF4GLu5vV4mxBBz9OKqN1ZSTlAEgl X-Gm-Gg: ASbGncsQXtyn5IgahjgPSj+A0s3RpcSHoreQ6rNeat+eRKbO27w7Bt5ZC9jgI+InL0M xFBPIvYijQGgsJwY0XCTUVP1g+gqqBbHocGeFpTJU9mIc/tW9P+43N6OybwX0NPYF9KX5z5j/33 QX+zDiESSLCCwCah+mu0405stOLACPycNYNJRZw432MF1pt3KdaF0u/XRb5d45tdL+3ftYCf1/z P1v4Ppg0E4jZivPXfRRm8ci000585VhJobGGQrdNavNeHsl4Il2n2zIKx9u8ma6zUxIscimGxux Wqhd/hId5Ax7uhonjhD/gsXEPpiOs3U9e8JkCyg29lErL2+ouSCoQ+jPcNk= X-Google-Smtp-Source: AGHT+IF8ul8RUAKiNRN0XV+ck80xCpWSSNrjFrG/hpZ4jDzb6oU3uFJ3iIzwMb+XTZuzpFqV8KHH5fGn/ebc X-Received: by 2002:a17:903:32ce:b0:223:f928:4553 with SMTP id d9443c01a7336-231de3bb1a1mr331704205ad.44.1747895644601; Wed, 21 May 2025 23:34:04 -0700 (PDT) Received: from postal.iol.unh.edu (postal.iol.unh.edu. [132.177.123.84]) by smtp-relay.gmail.com with ESMTPS id d9443c01a7336-231d4eb9456sm7469545ad.96.2025.05.21.23.34.04 (version=TLS1_2 cipher=ECDHE-ECDSA-AES128-GCM-SHA256 bits=128/128); Wed, 21 May 2025 23:34:04 -0700 (PDT) X-Relaying-Domain: iol.unh.edu Date: Wed, 21 May 2025 23:34:04 -0700 (PDT) Message-ID: <682ec55c.170a0220.2a53f.879bSMTPIN_ADDED_MISSING@mx.google.com> Received: from [172.21.0.6] (unknown [172.18.0.240]) by postal.iol.unh.edu (Postfix) with ESMTP id C21F96052471; Thu, 22 May 2025 02:34:03 -0400 (EDT) Subject: |SUCCESS| [GIT MASTER] 83a7a648344674c0269fcaeb71d8d16468421a0e From: dpdklab@iol.unh.edu To: Test Report Cc: dpdk-test-reports@iol.unh.edu, Xueming Li , Christian Ehrhardt , Kevin Traynor , Luca Boccassi Content-Type: text/plain X-BeenThere: test-report@dpdk.org X-Mailman-Version: 2.1.29 Precedence: list List-Id: automatic DPDK test reports List-Unsubscribe: , List-Archive: List-Post: List-Help: List-Subscribe: , Errors-To: test-report-bounces@dpdk.org _Testing PASS_ Branch: tags/v23.11 83a7a648344674c0269fcaeb71d8d16468421a0e --> testing pass Upstream job id: Generic-DPDK-Compile-ABI#127305 Test environment and result as below: +-------------------+----------+ | Environment | abi_test | +===================+==========+ | CentOS Stream 9 | PASS | +-------------------+----------+ | CentOS Stream 10 | PASS | +-------------------+----------+ | Debian 12 | PASS | +-------------------+----------+ | Fedora 40 (Clang) | PASS | +-------------------+----------+ | Fedora 40 | PASS | +-------------------+----------+ | Fedora 41 (Clang) | PASS | +-------------------+----------+ | Fedora 41 | PASS | +-------------------+----------+ | RHEL8 | PASS | +-------------------+----------+ | RHEL9 | PASS | +-------------------+----------+ | Ubuntu 22.04 | PASS | +-------------------+----------+ | Ubuntu 24.04 | PASS | +-------------------+----------+ CentOS Stream 9 Kernel: Depends on container host Compiler: gcc 11.5.0 20240719 (Red Hat 11.5.0-2) CentOS Stream 10 Kernel: Depends on container host Compiler: gcc 14.2.1 20241104 (Red Hat 14.2.1-6) Debian 12 Kernel: Depends on container host Compiler: gcc (Debian 12.2.0-14) 12.2.0 Fedora 40 (Clang) Kernel: Depends on container host Compiler: clang 18.1.8 (Fedora 18.1.8-1.fc40) Fedora 40 Kernel: Depends on container host Compiler: gcc 14.2.1 20240912 (Red Hat 14.2.1-3) Fedora 41 (Clang) Kernel: Depends on container host Compiler: clang 19.1.5 (Fedora 19.1.5-1.fc41) Fedora 41 Kernel: Depends on container host Compiler: gcc 14.2.1 20240912 (Red Hat 14.2.1-3) RHEL8 Kernel: Depends on container host Compiler: gcc 8.5.0 20210514 (Red Hat 8.5.0-22) RHEL9 Kernel: Depends on container host Compiler: gcc 11.5.0 20240719 (Red Hat 11.5.0-2) Ubuntu 22.04 Kernel: Depends on container host Compiler: gcc (Ubuntu 11.4.0-1ubuntu1~22.04) 11.4.0 Ubuntu 24.04 Kernel: Depends on container host Compiler: gcc (Ubuntu 13.3.0-6ubuntu2~24.04) 13.3.0 To view detailed results, visit: https://lab.dpdk.org/results/dashboard/tarballs/33613/ UNH-IOL DPDK Community Lab To manage your email subscriptions, visit: https://lab.dpdk.org/results/dashboard/preferences/subscriptions/