From mboxrd@z Thu Jan 1 00:00:00 1970 Return-Path: Received: from mails.dpdk.org (mails.dpdk.org [217.70.189.124]) by inbox.dpdk.org (Postfix) with ESMTP id 1CB50467B6 for ; Thu, 22 May 2025 08:35:59 +0200 (CEST) Received: from mails.dpdk.org (localhost [127.0.0.1]) by mails.dpdk.org (Postfix) with ESMTP id 0856B4027A; Thu, 22 May 2025 08:35:59 +0200 (CEST) Received: from mail-qv1-f98.google.com (mail-qv1-f98.google.com [209.85.219.98]) by mails.dpdk.org (Postfix) with ESMTP id 6EB2C40144 for ; Thu, 22 May 2025 08:35:58 +0200 (CEST) Received: by mail-qv1-f98.google.com with SMTP id 6a1803df08f44-6f0cfbe2042so76547916d6.1 for ; Wed, 21 May 2025 23:35:58 -0700 (PDT) DKIM-Signature: v=1; a=rsa-sha256; c=relaxed/relaxed; d=iol.unh.edu; s=unh-iol; t=1747895757; x=1748500557; darn=dpdk.org; h=cc:to:from:subject:message-id:date:from:to:cc:subject:date :message-id:reply-to; bh=dpQrCbkTTdD61pFwICGAexIFYHofl9zZY1f0ND7Xk+o=; b=AduhItPnMSIhOyCuDQ7xNYtDxyKD+UFLTnoteASDMkBDmTsFpqzfs71TnMfLnrcJP4 GjNLJMb6sVF0JQP1x/CClSNy/q/zodAKqzGs4paBnOgv+5wqQBUVLY7uuuld9Hh/alVw nsMpXear6ClGQjUHozcOSRtJyd4v+Izgf/RK8= X-Google-DKIM-Signature: v=1; a=rsa-sha256; c=relaxed/relaxed; d=1e100.net; s=20230601; t=1747895757; x=1748500557; h=cc:to:from:subject:message-id:date:x-gm-message-state:from:to:cc :subject:date:message-id:reply-to; bh=dpQrCbkTTdD61pFwICGAexIFYHofl9zZY1f0ND7Xk+o=; b=vecrBYM760bSQfkS9penjSzlHLTIrs3g269ZrWpxC8PSW7GhyMS4JGVcn5JlU4olrk hIOHvb8ei5/r96/ffB/q/4kwhcYbGzn+pYEQ9xD/sibrWID9ZM1IIurxGN5+Af4aNp4K O5+ePfIXxjdmv5zf/r+1fTKYY7+eUBUnH/0k1vqC40QMNAQSmiL/4O45XVFXgkmjVsud eWtFm3R2OA4FHBLvLzZfIXZM1i8x6xw1MXxO59JpY4k/gmyCapxrwx/CuaMmN6gy6dJH HTwqc3nj61VT2l/hYlrttuSNSBcyzIXkxCDZrNBov/TXol2aAOcex/WVv4kSFd+f2cfK xDdA== X-Gm-Message-State: AOJu0Yy4BVYVF1vraCWw3esDxMfWxJ30WMVbAGV7lSh49RZHKpwDk7nE uwmQtNyJ9YIh47T/5i1Rikf5GSMMRX5orQNEy3f1qRMj/MgmxXGJOaNfpuoMXAGJHZ0xZAKE3Rq yJ7P3aHxX6O0LtZZU+Sy65ifsOi9jnZCmPE7DHDQnc2AnIrR/oUfd X-Gm-Gg: ASbGnctm77P0rRkbujGXOnW9wUkPX/BFG/IBMDWB59Ddcb7szygsgP8ZUetmnj4IGT6 SrUHq4GDSruQIDTBTzqgF15A3HJa0L5SahkePORfi6UT4ldIAAQ9aiwOgP63H736IOHY3m5vsSD 3YiOaTiFxKqGnyJAS6ZuYQRXR7q2nrEcI6yMsLXTyK6eoiLjX/Ougw81a9CeJ6K8kW2GNhMZ9DT JlADw3p3PlvqU/QBQ5dxpwP3gf79pZpikoP+Q+Hel5dTKOFwQI/oNisLw1V58z7LZbbDoZKSBOT y7nPAka18G07O8OLCUMZwDMjKbtliIOracVb X-Google-Smtp-Source: AGHT+IFxtyJOxuCAn5c5im9gbquCxdh/E2/khRlf9HySXUWZeZIv0obJsWYYS+AIxCQE5lwlfure50j8vlDW X-Received: by 2002:a05:6214:2386:b0:6e4:5317:64a0 with SMTP id 6a1803df08f44-6f8a31c4863mr430011976d6.13.1747895757631; Wed, 21 May 2025 23:35:57 -0700 (PDT) Received: from postal.iol.unh.edu (postal.iol.unh.edu. [2606:4100:3880:1234::84]) by smtp-relay.gmail.com with ESMTPS id 6a1803df08f44-6f8b09b3f71sm5129326d6.60.2025.05.21.23.35.57 (version=TLS1_2 cipher=ECDHE-ECDSA-AES128-GCM-SHA256 bits=128/128); Wed, 21 May 2025 23:35:57 -0700 (PDT) X-Relaying-Domain: iol.unh.edu Date: Wed, 21 May 2025 23:35:57 -0700 (PDT) Message-ID: <682ec5cd.0c0a0220.2aa7ad.a88dSMTPIN_ADDED_MISSING@mx.google.com> Received: from [172.21.0.5] (unknown [172.18.0.240]) by postal.iol.unh.edu (Postfix) with ESMTP id 48B096052471; Thu, 22 May 2025 02:35:57 -0400 (EDT) Subject: |SUCCESS| [GIT MASTER] 4c5634de9f933555bab9c64a533d3dca999071cd From: dpdklab@iol.unh.edu To: Test Report Cc: dpdk-test-reports@iol.unh.edu, Xueming Li , Christian Ehrhardt , Kevin Traynor , Luca Boccassi Content-Type: text/plain X-BeenThere: test-report@dpdk.org X-Mailman-Version: 2.1.29 Precedence: list List-Id: automatic DPDK test reports List-Unsubscribe: , List-Archive: List-Post: List-Help: List-Subscribe: , Errors-To: test-report-bounces@dpdk.org _Testing PASS_ Branch: tags/v24.11 4c5634de9f933555bab9c64a533d3dca999071cd --> testing pass Upstream job id: Generic-Unit-Test-DPDK#339819 Test environment and result as below: +-----------------------------+----------------+---------------------------+------------------------------+--------------+ | Environment | dpdk_unit_test | cryptodev_sw_zuc_autotest | cryptodev_sw_snow3g_autotest | lpm_autotest | +=============================+================+===========================+==============================+==============+ | CentOS Stream 9 (ARM) | PASS | SKIPPED | SKIPPED | SKIPPED | +-----------------------------+----------------+---------------------------+------------------------------+--------------+ | Fedora 40 (ARM Clang) | PASS | SKIPPED | SKIPPED | SKIPPED | +-----------------------------+----------------+---------------------------+------------------------------+--------------+ | Debian 12 (arm) | PASS | PASS | PASS | SKIPPED | +-----------------------------+----------------+---------------------------+------------------------------+--------------+ | Fedora 41 (ARM Clang) | PASS | SKIPPED | SKIPPED | SKIPPED | +-----------------------------+----------------+---------------------------+------------------------------+--------------+ | Fedora 40 (ARM) | PASS | SKIPPED | SKIPPED | SKIPPED | +-----------------------------+----------------+---------------------------+------------------------------+--------------+ | RHEL9 (ARM) | PASS | SKIPPED | SKIPPED | SKIPPED | +-----------------------------+----------------+---------------------------+------------------------------+--------------+ | Fedora 41 (ARM) | PASS | SKIPPED | SKIPPED | SKIPPED | +-----------------------------+----------------+---------------------------+------------------------------+--------------+ | CentOS Stream 10 (ARM) | PASS | SKIPPED | SKIPPED | SKIPPED | +-----------------------------+----------------+---------------------------+------------------------------+--------------+ | Ubuntu 20.04 (ARM) | PASS | SKIPPED | SKIPPED | SKIPPED | +-----------------------------+----------------+---------------------------+------------------------------+--------------+ | Ubuntu 24.04 (ARM) | PASS | SKIPPED | SKIPPED | SKIPPED | +-----------------------------+----------------+---------------------------+------------------------------+--------------+ | Ubuntu 22.04 (ARM) | PASS | SKIPPED | SKIPPED | SKIPPED | +-----------------------------+----------------+---------------------------+------------------------------+--------------+ | 32-bit Ubuntu 22.04.4 (ARM) | PASS | SKIPPED | SKIPPED | SKIPPED | +-----------------------------+----------------+---------------------------+------------------------------+--------------+ | Ubuntu 20.04 ARM SVE | SKIPPED | SKIPPED | SKIPPED | PASS | +-----------------------------+----------------+---------------------------+------------------------------+--------------+ CentOS Stream 9 (ARM) Kernel: Depends on container host Compiler: gcc 11.5.0 20240719 (Red Hat 11.5.0-2) Fedora 40 (ARM Clang) Kernel: Depends on container host Compiler: clang 18.1.8 (Fedora 18.1.8-1.fc40) Debian 12 (arm) Kernel: Depends on container host Compiler: gcc (Debian 12.2.0-14) 12.2.0 Fedora 41 (ARM Clang) Kernel: Depends on container host Compiler: clang 19.1.5 (Fedora 19.1.5-1.fc41) Fedora 40 (ARM) Kernel: Depends on container host Compiler: gcc 14.2.1 20240912 (Red Hat 14.2.1-3) RHEL9 (ARM) Kernel: Depends on container host Compiler: gcc 11.5.0 20240719 (Red Hat 11.5.0-2) Fedora 41 (ARM) Kernel: Depends on container host Compiler: gcc 14.2.1 20240912 (Red Hat 14.2.1-3) CentOS Stream 10 (ARM) Kernel: Depends on container host Compiler: gcc 14.2.1 20241104 (Red Hat 14.2.1-6) Ubuntu 20.04 (ARM) Kernel: Depends on container host Compiler: gcc (Ubuntu 9.4.0-1ubuntu1~20.04.2) 9.4.0 Ubuntu 24.04 (ARM) Kernel: Depends on container host Compiler: gcc (Ubuntu 13.3.0-6ubuntu2~24.04) 13.3.0 Ubuntu 22.04 (ARM) Kernel: Depends on container host Compiler: gcc (Ubuntu 11.4.0-1ubuntu1~22.04) 11.4.0 32-bit Ubuntu 22.04.4 (ARM) Kernel: 5.15.83+ aarch64 Compiler: gcc (Ubuntu 11.4.0-1ubuntu1~22.04) 11.4.0 Ubuntu 20.04 ARM SVE Kernel: Depends on container host Compiler: gcc (Ubuntu 10.5.0-1ubuntu1~20.04) 10.5.0 To view detailed results, visit: https://lab.dpdk.org/results/dashboard/tarballs/33611/ UNH-IOL DPDK Community Lab To manage your email subscriptions, visit: https://lab.dpdk.org/results/dashboard/preferences/subscriptions/