From mboxrd@z Thu Jan 1 00:00:00 1970 Return-Path: Received: from mails.dpdk.org (mails.dpdk.org [217.70.189.124]) by inbox.dpdk.org (Postfix) with ESMTP id 26D48467B6 for ; Thu, 22 May 2025 08:52:32 +0200 (CEST) Received: from mails.dpdk.org (localhost [127.0.0.1]) by mails.dpdk.org (Postfix) with ESMTP id 2093A402C2; Thu, 22 May 2025 08:52:32 +0200 (CEST) Received: from mail-oi1-f227.google.com (mail-oi1-f227.google.com [209.85.167.227]) by mails.dpdk.org (Postfix) with ESMTP id 7A803402B9 for ; Thu, 22 May 2025 08:52:30 +0200 (CEST) Received: by mail-oi1-f227.google.com with SMTP id 5614622812f47-3fa6c54cc1aso5156311b6e.1 for ; Wed, 21 May 2025 23:52:30 -0700 (PDT) DKIM-Signature: v=1; a=rsa-sha256; c=relaxed/relaxed; d=iol.unh.edu; s=unh-iol; t=1747896750; x=1748501550; darn=dpdk.org; h=cc:to:from:subject:message-id:date:from:to:cc:subject:date :message-id:reply-to; bh=WqCvGvBi1x+ANe5FKBoMkX8XXOob+kwfY0Y8MH8F73E=; b=JMkSkKsTVj1EQdURcIS3KjxhIBDL5V1QoiCRY85ZeeaXl1d0sIeZc6IMsHtZdYaC6v yM/7//eKPIGZv3AOCm2fQGStIs+sPZJ2pEH3UXje7JlVSLNWQohXc/h705ukNEFY8nd7 GIW98AFcY18jKUBKcixSnNfDc9L2Twz+2g+KE= X-Google-DKIM-Signature: v=1; a=rsa-sha256; c=relaxed/relaxed; d=1e100.net; s=20230601; t=1747896750; x=1748501550; h=cc:to:from:subject:message-id:date:x-gm-message-state:from:to:cc :subject:date:message-id:reply-to; bh=WqCvGvBi1x+ANe5FKBoMkX8XXOob+kwfY0Y8MH8F73E=; b=B2ASn4CqfxuOgNy2enXZuZoMI4mdMRNTUj6qmhQasu4asDrUTQixdpgQASTpGwnRnW omKGDmZq1O4IhpoGgZtbCpR1K8Y9ukG6ya8KK9ZeVDEInPSev08id68z6rm/FOgszokB 40MQSGm/pn9kU2Z9bQT69CoUu5X0GwuukPr5nfXV/1SOTLrj8oo2caeSEbu/OBf98Z0L c7qzzvLNOg3MrrxHx2HqTX9UGJXbd0MheSlfJEkYLf69r1IabWoTdwzbq5WTyP0LyN+B +x21Zw63bL2IxjVSmE2HP1bHdT2zPiAJ82bVBIOjwU2v94ViWuWiErVXX+EclhnmqNhL XBhw== X-Gm-Message-State: AOJu0Yzm/iNb++yB8m+ZMFTOCqvupBH+MhppyKcMBo9YbRcG7+9UR3XF a9SAEJeZiruN92NUSd6oPzIEi50Xr4/JLiS2xErmyMjKaIxvXP/ma1MuPCsPUkbtufTjhWJaW9f WJlHoCvH1RyJvYUgiryQCCc3dMzD5Sn1ThVgcTRPpjKwb7oT+j7TO X-Gm-Gg: ASbGncs4nhn17U5rsnhv0HtIa4wdL2XbFcAn+FrHidJuy1GinEEjejwPUnc0USh/mkX eHmvGE1STJz6ERTSQSgSpwwqlY1c9fhNBNnYv7u5z65MRP6ZbkyEj9ht2SKyKz0p6u9RQEAw8g3 bRDUj6TgiszyZXbiLlSuSRGmog8LiYLH+KtknA6RT6WseYhgejxCUfuaObzO6Yl4YS17QS7RLzx puVtXW8n0uhJkn6NKZ4RQ6ObcUMFgwvEw/qEUw66CoYv5HfWM0IjuvLoLIaVhiTJFos4oiJxJyA Q71rVNE3s2etYwa1Ki2Thyl5XraTqqiNl9ro X-Google-Smtp-Source: AGHT+IHzVX4f7FETHyy3HGB96AStj1ZRaGm0v7FrNiai8zW1n4ecYKrftZofVWypnIMDHbua6BsEwWNvARVl X-Received: by 2002:a05:6808:3305:b0:404:ee1a:2054 with SMTP id 5614622812f47-404ee1a2183mr10965335b6e.36.1747896749760; Wed, 21 May 2025 23:52:29 -0700 (PDT) Received: from postal.iol.unh.edu (postal.iol.unh.edu. [2606:4100:3880:1234::84]) by smtp-relay.gmail.com with ESMTPS id 006d021491bc7-60a05566fcasm366874eaf.20.2025.05.21.23.52.29 (version=TLS1_2 cipher=ECDHE-ECDSA-AES128-GCM-SHA256 bits=128/128); Wed, 21 May 2025 23:52:29 -0700 (PDT) X-Relaying-Domain: iol.unh.edu Date: Wed, 21 May 2025 23:52:29 -0700 (PDT) Message-ID: <682ec9ad.4a0a0220.1ec446.2d73SMTPIN_ADDED_MISSING@mx.google.com> Received: from [172.21.0.6] (unknown [172.18.0.240]) by postal.iol.unh.edu (Postfix) with ESMTP id 236DC6052471; Thu, 22 May 2025 02:52:29 -0400 (EDT) Subject: |SUCCESS| [GIT MASTER] 4c5634de9f933555bab9c64a533d3dca999071cd From: dpdklab@iol.unh.edu To: Test Report Cc: dpdk-test-reports@iol.unh.edu, Xueming Li , Christian Ehrhardt , Kevin Traynor , Luca Boccassi Content-Type: text/plain X-BeenThere: test-report@dpdk.org X-Mailman-Version: 2.1.29 Precedence: list List-Id: automatic DPDK test reports List-Unsubscribe: , List-Archive: List-Post: List-Help: List-Subscribe: , Errors-To: test-report-bounces@dpdk.org _Testing PASS_ Branch: tags/v24.11 4c5634de9f933555bab9c64a533d3dca999071cd --> testing pass Upstream job id: Generic-Unit-Test-DPDK#339818 Test environment and result as below: +---------------------+----------------+ | Environment | dpdk_unit_test | +=====================+================+ | CentOS Stream 9 | PASS | +---------------------+----------------+ | CentOS Stream 10 | PASS | +---------------------+----------------+ | Fedora 40 (Clang) | PASS | +---------------------+----------------+ | Fedora 41 (Clang) | PASS | +---------------------+----------------+ | Debian 12 | PASS | +---------------------+----------------+ | Ubuntu 24.04 | PASS | +---------------------+----------------+ | Fedora 40 | PASS | +---------------------+----------------+ | RHEL8 | PASS | +---------------------+----------------+ | RHEL9 | PASS | +---------------------+----------------+ | Fedora 41 | PASS | +---------------------+----------------+ | Ubuntu 20.04 | PASS | +---------------------+----------------+ | Ubuntu 22.04 | PASS | +---------------------+----------------+ | Windows Server 2022 | PASS | +---------------------+----------------+ CentOS Stream 9 Kernel: Depends on container host Compiler: gcc 11.5.0 20240719 (Red Hat 11.5.0-2) CentOS Stream 10 Kernel: Depends on container host Compiler: gcc 14.2.1 20241104 (Red Hat 14.2.1-6) Fedora 40 (Clang) Kernel: Depends on container host Compiler: clang 18.1.8 (Fedora 18.1.8-1.fc40) Fedora 41 (Clang) Kernel: Depends on container host Compiler: clang 19.1.5 (Fedora 19.1.5-1.fc41) Debian 12 Kernel: Depends on container host Compiler: gcc (Debian 12.2.0-14) 12.2.0 Ubuntu 24.04 Kernel: Depends on container host Compiler: gcc (Ubuntu 13.3.0-6ubuntu2~24.04) 13.3.0 Fedora 40 Kernel: Depends on container host Compiler: gcc 14.2.1 20240912 (Red Hat 14.2.1-3) RHEL8 Kernel: Depends on container host Compiler: gcc 8.5.0 20210514 (Red Hat 8.5.0-22) RHEL9 Kernel: Depends on container host Compiler: gcc 11.5.0 20240719 (Red Hat 11.5.0-2) Fedora 41 Kernel: Depends on container host Compiler: gcc 14.2.1 20240912 (Red Hat 14.2.1-3) Ubuntu 20.04 Kernel: Depends on container host Compiler: gcc (Ubuntu 9.4.0-1ubuntu1~20.04.2) 9.4.0 Ubuntu 22.04 Kernel: Depends on container host Compiler: gcc (Ubuntu 11.4.0-1ubuntu1~22.04) 11.4.0 Windows Server 2022 Kernel: 10.0.20348.2031 Compiler: clang 15.0.7, gcc 14.1.0 (MinGW), and MSVC VS 19.39.33521 To view detailed results, visit: https://lab.dpdk.org/results/dashboard/tarballs/33611/ UNH-IOL DPDK Community Lab To manage your email subscriptions, visit: https://lab.dpdk.org/results/dashboard/preferences/subscriptions/