From mboxrd@z Thu Jan 1 00:00:00 1970 Return-Path: Received: from mails.dpdk.org (mails.dpdk.org [217.70.189.124]) by inbox.dpdk.org (Postfix) with ESMTP id 6EB2646714 for ; Thu, 22 May 2025 09:33:40 +0200 (CEST) Received: from mails.dpdk.org (localhost [127.0.0.1]) by mails.dpdk.org (Postfix) with ESMTP id 64C29402B9; Thu, 22 May 2025 09:33:40 +0200 (CEST) Received: from mail-qv1-f100.google.com (mail-qv1-f100.google.com [209.85.219.100]) by mails.dpdk.org (Postfix) with ESMTP id 6152940144 for ; Thu, 22 May 2025 09:33:39 +0200 (CEST) Received: by mail-qv1-f100.google.com with SMTP id 6a1803df08f44-6f8aa9e6ffdso81222566d6.3 for ; Thu, 22 May 2025 00:33:39 -0700 (PDT) DKIM-Signature: v=1; a=rsa-sha256; c=relaxed/relaxed; d=iol.unh.edu; s=unh-iol; t=1747899218; x=1748504018; darn=dpdk.org; h=cc:to:from:subject:message-id:date:from:to:cc:subject:date :message-id:reply-to; bh=irgfJRIi/crg5Rkkaaoi48TM0CUnycIirUfXoMIEoms=; b=WyNhs1LT6cH66OtIooK+uWNrtse9RuVcEZRt4p03TFV04W14EOtO5FPnywXT4o9n8i VLKYYQ/wIjSNay5t3w9+Q2nKpy4JspyZZ2KxRDGZnSli24jbTQaCuejjBcRCz5iFCOQ/ CrOxVzup3KNR0u3r94Fm0kVWnwk6XpNFKYT6I= X-Google-DKIM-Signature: v=1; a=rsa-sha256; c=relaxed/relaxed; d=1e100.net; s=20230601; t=1747899218; x=1748504018; h=cc:to:from:subject:message-id:date:x-gm-message-state:from:to:cc :subject:date:message-id:reply-to; bh=irgfJRIi/crg5Rkkaaoi48TM0CUnycIirUfXoMIEoms=; b=JzO+25KFsw2HGS0HgoYGQhVsIuRsNIpklzsrtpVYDWRiGrxpzhFQ1lBkhwZKpurWVa WUtZUDP6qwOfApKYbUEm6VS1r4yGr9xk6Xv7Zsoh0UbQiK/yyWawPbwEExF0+cQXcEPQ JF0MUqwqMjrzasBYZNKddpUPUEkbQjVVD6B2tOEm31xbUWgQlfwJ+OLCRaogn6wdDqU6 chC0AZRZR5mgFFPrDvqE/bv+TRV6SAk/Y5e5OOlycOZiptc0yzfC0avW+MNqDwQ9Y0e6 tIQnTT73uLAflCe/ByIJGpRRhr70PTddm5r6lPOqwHU6ScGP5grJnavHbeD5O0jtNMYp 5WxA== X-Gm-Message-State: AOJu0YwZHjnhrfZ6t67m50m+sr3k+YSAz7YqARFtZjz6NaYqV1zL5P4m 3/55zsItwxzrYowE+awhBw/hnfRUEZgzemhHYOdi4M44LNNjiS2O2H8281T2J1Nsn2CnFq84pLZ Zf4J/D8DQdrM/8rZRdtd6RO5yn1wCpR/5gn5l X-Gm-Gg: ASbGncuGGIEf8+pou+EdYTb8f00f9p1l65xdV+mUeTX4fA3vM9djjefcmB4Fhv/vg1N QxEIbYibaFl+Ny5HgTDQZYf6ODZK+qZVw17gMHxY25+r5Jw5bSA5azjUelXsjaYfWoYK49ciqvV OiqjXW3WHRUdaVZa1MERhUj+YhI51bYMTG2aV+Lk7g5bQ29cCZLNCOKKQytVfnlWNX23mjQwXRb hsMm5nEA2Dkz+JEFF616YcjrfZytMY3gZRD46E+g6F6YDSlIbW1DMxf3bskeavkiC28feoNT9QV cBfMZq0deuoNA9UCEIjKseHKSE7mHmuEJIVEPkjijl/VUfjMUSRzAodrZ98= X-Google-Smtp-Source: AGHT+IFQTQfRgSPLH8hdJcEmSaOhV93CRrNRfK/nEmt/FmWgIrPqGTMDJdEzHOSML7LM0xZ/UMLNsqXz5coK X-Received: by 2002:ad4:576c:0:b0:6d8:6a74:ae68 with SMTP id 6a1803df08f44-6f8b08d3dedmr340511356d6.29.1747899216391; Thu, 22 May 2025 00:33:36 -0700 (PDT) Received: from postal.iol.unh.edu (postal.iol.unh.edu. [132.177.123.84]) by smtp-relay.gmail.com with ESMTPS id 6a1803df08f44-6f8b08c8596sm4667666d6.39.2025.05.22.00.33.36 (version=TLS1_2 cipher=ECDHE-ECDSA-AES128-GCM-SHA256 bits=128/128); Thu, 22 May 2025 00:33:36 -0700 (PDT) X-Relaying-Domain: iol.unh.edu Date: Thu, 22 May 2025 00:33:36 -0700 (PDT) Message-ID: <682ed350.d40a0220.3d6762.7e71SMTPIN_ADDED_MISSING@mx.google.com> Received: from [172.21.0.7] (unknown [172.18.0.240]) by postal.iol.unh.edu (Postfix) with ESMTP id 068AA6052471; Thu, 22 May 2025 03:33:36 -0400 (EDT) Subject: |WARNING| [GIT MASTER] 4c5634de9f933555bab9c64a533d3dca999071cd From: dpdklab@iol.unh.edu To: Test Report Cc: dpdk-test-reports@iol.unh.edu, Xueming Li , Christian Ehrhardt , Kevin Traynor , Luca Boccassi Content-Type: text/plain X-BeenThere: test-report@dpdk.org X-Mailman-Version: 2.1.29 Precedence: list List-Id: automatic DPDK test reports List-Unsubscribe: , List-Archive: List-Post: List-Help: List-Subscribe: , Errors-To: test-report-bounces@dpdk.org _Testing issues_ Branch: tags/v24.11 4c5634de9f933555bab9c64a533d3dca999071cd --> testing issues Upstream job id: Generic-DPDK-Compile-Meson#390317 Test environment and result as below: +-----------------------------------+--------------------+-------------------+------------------+-------------------------+-------------------+----------------------+ | Environment | dpdk_meson_compile | dpdk_compile_spdk | dpdk_compile_ovs | dpdk_llvm_clang_compile | dpdk_msvc_compile | dpdk_mingw64_compile | +===================================+====================+===================+==================+=========================+===================+======================+ | CentOS Stream 9 | PASS | PASS | SKIPPED | SKIPPED | SKIPPED | SKIPPED | +-----------------------------------+--------------------+-------------------+------------------+-------------------------+-------------------+----------------------+ | CentOS Stream 10 | PASS | SKIPPED | SKIPPED | SKIPPED | SKIPPED | SKIPPED | +-----------------------------------+--------------------+-------------------+------------------+-------------------------+-------------------+----------------------+ | Debian 12 | PASS | PASS | SKIPPED | SKIPPED | SKIPPED | SKIPPED | +-----------------------------------+--------------------+-------------------+------------------+-------------------------+-------------------+----------------------+ | Fedora 40 | PASS | PASS | SKIPPED | SKIPPED | SKIPPED | SKIPPED | +-----------------------------------+--------------------+-------------------+------------------+-------------------------+-------------------+----------------------+ | Fedora 40 (Clang) | PASS | WARN | SKIPPED | SKIPPED | SKIPPED | SKIPPED | +-----------------------------------+--------------------+-------------------+------------------+-------------------------+-------------------+----------------------+ | Fedora 41 (Clang) | PASS | WARN | PASS | SKIPPED | SKIPPED | SKIPPED | +-----------------------------------+--------------------+-------------------+------------------+-------------------------+-------------------+----------------------+ | Fedora 41 | PASS | PASS | PASS | SKIPPED | SKIPPED | SKIPPED | +-----------------------------------+--------------------+-------------------+------------------+-------------------------+-------------------+----------------------+ | openSUSE Leap 15 | PASS | SKIPPED | SKIPPED | SKIPPED | SKIPPED | SKIPPED | +-----------------------------------+--------------------+-------------------+------------------+-------------------------+-------------------+----------------------+ | RHEL8 | PASS | SKIPPED | SKIPPED | SKIPPED | SKIPPED | SKIPPED | +-----------------------------------+--------------------+-------------------+------------------+-------------------------+-------------------+----------------------+ | Ubuntu 24.04 | PASS | PASS | PASS | SKIPPED | SKIPPED | SKIPPED | +-----------------------------------+--------------------+-------------------+------------------+-------------------------+-------------------+----------------------+ | RHEL9 | PASS | SKIPPED | SKIPPED | SKIPPED | SKIPPED | SKIPPED | +-----------------------------------+--------------------+-------------------+------------------+-------------------------+-------------------+----------------------+ | Ubuntu 22.04 | PASS | PASS | SKIPPED | SKIPPED | SKIPPED | SKIPPED | +-----------------------------------+--------------------+-------------------+------------------+-------------------------+-------------------+----------------------+ | Ubuntu 20.04 | PASS | SKIPPED | SKIPPED | SKIPPED | SKIPPED | SKIPPED | +-----------------------------------+--------------------+-------------------+------------------+-------------------------+-------------------+----------------------+ | Alpine | PASS | SKIPPED | SKIPPED | SKIPPED | SKIPPED | SKIPPED | +-----------------------------------+--------------------+-------------------+------------------+-------------------------+-------------------+----------------------+ | Ubuntu 24.04 32 Bit Cross Compile | PASS | SKIPPED | SKIPPED | SKIPPED | SKIPPED | SKIPPED | +-----------------------------------+--------------------+-------------------+------------------+-------------------------+-------------------+----------------------+ | FreeBSD 14.2 | PASS | SKIPPED | SKIPPED | SKIPPED | SKIPPED | SKIPPED | +-----------------------------------+--------------------+-------------------+------------------+-------------------------+-------------------+----------------------+ | Windows Server 2022 | SKIPPED | SKIPPED | SKIPPED | PASS | PASS | PASS | +-----------------------------------+--------------------+-------------------+------------------+-------------------------+-------------------+----------------------+ ==== 20 line log output for Fedora 41 (Clang) (dpdk_compile_spdk): ==== --- Failed to get log output --- ==== End log output ==== CentOS Stream 9 Kernel: Depends on container host Compiler: gcc 11.5.0 20240719 (Red Hat 11.5.0-2) CentOS Stream 10 Kernel: Depends on container host Compiler: gcc 14.2.1 20241104 (Red Hat 14.2.1-6) Debian 12 Kernel: Depends on container host Compiler: gcc (Debian 12.2.0-14) 12.2.0 Fedora 40 Kernel: Depends on container host Compiler: gcc 14.2.1 20240912 (Red Hat 14.2.1-3) Fedora 40 (Clang) Kernel: Depends on container host Compiler: clang 18.1.8 (Fedora 18.1.8-1.fc40) Fedora 41 (Clang) Kernel: Depends on container host Compiler: clang 19.1.5 (Fedora 19.1.5-1.fc41) Fedora 41 Kernel: Depends on container host Compiler: gcc 14.2.1 20240912 (Red Hat 14.2.1-3) openSUSE Leap 15 Kernel: Depends on container host Compiler: gcc (SUSE Linux) 7.5.0 RHEL8 Kernel: Depends on container host Compiler: gcc 8.5.0 20210514 (Red Hat 8.5.0-22) Ubuntu 24.04 Kernel: Depends on container host Compiler: gcc (Ubuntu 13.3.0-6ubuntu2~24.04) 13.3.0 RHEL9 Kernel: Depends on container host Compiler: gcc 11.5.0 20240719 (Red Hat 11.5.0-2) Ubuntu 22.04 Kernel: Depends on container host Compiler: gcc (Ubuntu 11.4.0-1ubuntu1~22.04) 11.4.0 Ubuntu 20.04 Kernel: Depends on container host Compiler: gcc (Ubuntu 9.4.0-1ubuntu1~20.04.2) 9.4.0 Alpine Kernel: Depends on container host Compiler: gcc (Alpine 14.2.0) 14.2.0 Ubuntu 24.04 32 Bit Cross Compile Kernel: Depends on container host Compiler: gcc (Ubuntu 13.3.0-6ubuntu2~24.04) 13.3.0 FreeBSD 14.2 Kernel: 14.2-RELEASE Compiler: clang 18.1.6 Windows Server 2022 Kernel: 10.0.20348.2031 Compiler: clang 15.0.7, gcc 14.1.0 (MinGW), and MSVC VS 19.39.33521 To view detailed results, visit: https://lab.dpdk.org/results/dashboard/tarballs/33611/ UNH-IOL DPDK Community Lab To manage your email subscriptions, visit: https://lab.dpdk.org/results/dashboard/preferences/subscriptions/