From mboxrd@z Thu Jan 1 00:00:00 1970 Return-Path: Received: from mails.dpdk.org (mails.dpdk.org [217.70.189.124]) by inbox.dpdk.org (Postfix) with ESMTP id 69585467B6 for ; Thu, 22 May 2025 10:13:33 +0200 (CEST) Received: from mails.dpdk.org (localhost [127.0.0.1]) by mails.dpdk.org (Postfix) with ESMTP id 5D044402B9; Thu, 22 May 2025 10:13:33 +0200 (CEST) Received: from mail-ot1-f100.google.com (mail-ot1-f100.google.com [209.85.210.100]) by mails.dpdk.org (Postfix) with ESMTP id 5B98F40144 for ; Thu, 22 May 2025 10:13:32 +0200 (CEST) Received: by mail-ot1-f100.google.com with SMTP id 46e09a7af769-72ec926e828so2183636a34.0 for ; Thu, 22 May 2025 01:13:32 -0700 (PDT) DKIM-Signature: v=1; a=rsa-sha256; c=relaxed/relaxed; d=iol.unh.edu; s=unh-iol; t=1747901611; x=1748506411; darn=dpdk.org; h=cc:to:from:subject:message-id:date:from:to:cc:subject:date :message-id:reply-to; bh=YXWzPrc8KBgQp06XIRapx0KiTcw5VOljTfGYLyRAxTY=; b=Yxby3MR9qBmADm4Ka1zLiifiyF/CuXRp12WQ5X/sPjypQ75TvFX9s92iV5mpgdCy+/ mqG23/GlscS9SnK8fVEM/gVgMz8Hi0Vu7bVRb5TpO6D7yTJk80Ru4UNIso33cbKnf38B 4VxznI9IpXM3DR2+3R6KLNpoFgarJPKBj9yIo= X-Google-DKIM-Signature: v=1; a=rsa-sha256; c=relaxed/relaxed; d=1e100.net; s=20230601; t=1747901611; x=1748506411; h=cc:to:from:subject:message-id:date:x-gm-message-state:from:to:cc :subject:date:message-id:reply-to; bh=YXWzPrc8KBgQp06XIRapx0KiTcw5VOljTfGYLyRAxTY=; b=RVtXBlRqW9QfOqmr+MD5KHbSkkcf3nB+DwD6SmkjVkEyZQp1kQjfVPE4HEUZ0kGc+r 4D7k/gzCrZSQeYqRXVcO0sRSaeylbZD6NMvnwZ7v13hIbxNJ6M2VlzjDDqngaj150PeF tYf33TsyvJUvbHrzvvG9hTbmVa7WPhTK/zLD+40EAGXObKxTbmUIuJTnYi0IOIw3HIQk OUnO6lmVJvQd02TUT+dmTXUm6jrRoLrW23+viGAUYOfsG00E2ankrrZb0r4oe01/7Idn 3yRXuSxwbH+1DI3b7LAsFElmeCKctxwnBVPZDupfz6ECbp3u4KyXoPwyNKCiif+Tjmeu KjkA== X-Gm-Message-State: AOJu0YxvTqqXOusKkdsc5gTdshn+YFR+kfSnwR+P+6O61E2ImyDzOPH9 yLPS83wmtDhujFACwg9Ee7n191ux1DlIdnxY9JhFE1DilJtC6yj9u2xl20lIhjDvU+D7TrdwJ3M kCnxwu2jO1dhmQ6682jh9YStXgffGmQiGVOzo X-Gm-Gg: ASbGncsN+lxINYkps2Y7SS406WJjh0Qkk1CvO3ZGSJFKRpwlHta2DGwayCaq0/jIg9N r/ZejveQoLS9eIoYLoYbXKy8ri4KKvXnn4i+wRQvUGBc6nNjkEnwUthpPtZuF8cd766mSqVfNB7 n3zItS7cp2mNEIxXdGtCLE/dCL4ET1SscFLf6ZOQndcRXCanTVz8tKqIbKPEHpLchSsBgdrHZCW ioV5vvNZRCVLSzjUn7kXCL9M+LAPutuD/zL2U+Erj86N9icQaiiMdha2TkhTmouBVEF01hvtWix wMlWniuWI8v7cGsLrtcwk7gTc1mdhXPdwZswUfvmnHz0xsqzwGOqeMFaqWQ= X-Google-Smtp-Source: AGHT+IGNjghOcLABYgLKeW7DiCvpPET8nBb8v2+lG7NAM+4tPH+ax/1O6B6OYXObhaS/5/8dzjCG5Y1C8Ghd X-Received: by 2002:a05:6871:5e11:b0:2d4:dc79:b8f with SMTP id 586e51a60fabf-2e3c81725c5mr13733555fac.2.1747901611316; Thu, 22 May 2025 01:13:31 -0700 (PDT) Received: from postal.iol.unh.edu (postal.iol.unh.edu. [132.177.123.84]) by smtp-relay.gmail.com with ESMTPS id 586e51a60fabf-2e3c0792900sm690263fac.21.2025.05.22.01.13.31 (version=TLS1_2 cipher=ECDHE-ECDSA-AES128-GCM-SHA256 bits=128/128); Thu, 22 May 2025 01:13:31 -0700 (PDT) X-Relaying-Domain: iol.unh.edu Date: Thu, 22 May 2025 01:13:31 -0700 (PDT) Message-ID: <682edcab.050a0220.362f4b.341fSMTPIN_ADDED_MISSING@mx.google.com> Received: from [172.21.0.5] (unknown [172.18.0.240]) by postal.iol.unh.edu (Postfix) with ESMTP id BCC2B6052471; Thu, 22 May 2025 04:13:30 -0400 (EDT) Subject: |WARNING| [GIT MASTER] 83a7a648344674c0269fcaeb71d8d16468421a0e From: dpdklab@iol.unh.edu To: Test Report Cc: dpdk-test-reports@iol.unh.edu, Xueming Li , Christian Ehrhardt , Kevin Traynor , Luca Boccassi Content-Type: text/plain X-BeenThere: test-report@dpdk.org X-Mailman-Version: 2.1.29 Precedence: list List-Id: automatic DPDK test reports List-Unsubscribe: , List-Archive: List-Post: List-Help: List-Subscribe: , Errors-To: test-report-bounces@dpdk.org _Testing issues_ Branch: tags/v23.11 83a7a648344674c0269fcaeb71d8d16468421a0e --> testing issues Upstream job id: Generic-DPDK-Compile-Meson#390363 Test environment and result as below: +---------------------+--------------------+-------------------+------------------+-------------------+-------------------------+ | Environment | dpdk_meson_compile | dpdk_compile_spdk | dpdk_compile_ovs | dpdk_msvc_compile | dpdk_llvm_clang_compile | +=====================+====================+===================+==================+===================+=========================+ | CentOS Stream 9 | PASS | PASS | SKIPPED | SKIPPED | SKIPPED | +---------------------+--------------------+-------------------+------------------+-------------------+-------------------------+ | Debian 12 | PEND | PEND | SKIPPED | SKIPPED | SKIPPED | +---------------------+--------------------+-------------------+------------------+-------------------+-------------------------+ | CentOS Stream 10 | PEND | SKIPPED | SKIPPED | SKIPPED | SKIPPED | +---------------------+--------------------+-------------------+------------------+-------------------+-------------------------+ | Fedora 40 (Clang) | PASS | WARN | SKIPPED | SKIPPED | SKIPPED | +---------------------+--------------------+-------------------+------------------+-------------------+-------------------------+ | Fedora 41 (Clang) | PEND | PEND | PEND | SKIPPED | SKIPPED | +---------------------+--------------------+-------------------+------------------+-------------------+-------------------------+ | Fedora 40 | PEND | PEND | SKIPPED | SKIPPED | SKIPPED | +---------------------+--------------------+-------------------+------------------+-------------------+-------------------------+ | Ubuntu 24.04 | PEND | PEND | PEND | SKIPPED | SKIPPED | +---------------------+--------------------+-------------------+------------------+-------------------+-------------------------+ | Fedora 41 | PEND | PEND | PEND | SKIPPED | SKIPPED | +---------------------+--------------------+-------------------+------------------+-------------------+-------------------------+ | RHEL9 | PEND | SKIPPED | SKIPPED | SKIPPED | SKIPPED | +---------------------+--------------------+-------------------+------------------+-------------------+-------------------------+ | Ubuntu 20.04 | PEND | SKIPPED | SKIPPED | SKIPPED | SKIPPED | +---------------------+--------------------+-------------------+------------------+-------------------+-------------------------+ | openSUSE Leap 15 | PEND | SKIPPED | SKIPPED | SKIPPED | SKIPPED | +---------------------+--------------------+-------------------+------------------+-------------------+-------------------------+ | Ubuntu 22.04 | PEND | PEND | SKIPPED | SKIPPED | SKIPPED | +---------------------+--------------------+-------------------+------------------+-------------------+-------------------------+ | RHEL8 | PEND | SKIPPED | SKIPPED | SKIPPED | SKIPPED | +---------------------+--------------------+-------------------+------------------+-------------------+-------------------------+ | Alpine | PEND | SKIPPED | SKIPPED | SKIPPED | SKIPPED | +---------------------+--------------------+-------------------+------------------+-------------------+-------------------------+ | FreeBSD 14.2 | PASS | SKIPPED | SKIPPED | SKIPPED | SKIPPED | +---------------------+--------------------+-------------------+------------------+-------------------+-------------------------+ | Windows Server 2022 | SKIPPED | SKIPPED | SKIPPED | PASS | PASS | +---------------------+--------------------+-------------------+------------------+-------------------+-------------------------+ ==== 20 line log output for Fedora 40 (Clang) (dpdk_compile_spdk): ==== --- Failed to get log output --- ==== End log output ==== CentOS Stream 9 Kernel: Depends on container host Compiler: gcc 11.5.0 20240719 (Red Hat 11.5.0-2) Debian 12 Kernel: Depends on container host Compiler: gcc (Debian 12.2.0-14) 12.2.0 CentOS Stream 10 Kernel: Depends on container host Compiler: gcc 14.2.1 20241104 (Red Hat 14.2.1-6) Fedora 40 (Clang) Kernel: Depends on container host Compiler: clang 18.1.8 (Fedora 18.1.8-1.fc40) Fedora 41 (Clang) Kernel: Depends on container host Compiler: clang 19.1.5 (Fedora 19.1.5-1.fc41) Fedora 40 Kernel: Depends on container host Compiler: gcc 14.2.1 20240912 (Red Hat 14.2.1-3) Ubuntu 24.04 Kernel: Depends on container host Compiler: gcc (Ubuntu 13.3.0-6ubuntu2~24.04) 13.3.0 Fedora 41 Kernel: Depends on container host Compiler: gcc 14.2.1 20240912 (Red Hat 14.2.1-3) RHEL9 Kernel: Depends on container host Compiler: gcc 11.5.0 20240719 (Red Hat 11.5.0-2) Ubuntu 20.04 Kernel: 4.19.325-0419325-generic Compiler: gcc (Ubuntu 9.4.0-1ubuntu1~20.04.2) 9.4.0 openSUSE Leap 15 Kernel: Depends on container host Compiler: gcc (SUSE Linux) 7.5.0 Ubuntu 22.04 Kernel: Depends on container host Compiler: gcc (Ubuntu 11.4.0-1ubuntu1~22.04) 11.4.0 RHEL8 Kernel: Depends on container host Compiler: gcc 8.5.0 20210514 (Red Hat 8.5.0-22) Alpine Kernel: Depends on container host Compiler: gcc (Alpine 14.2.0) 14.2.0 FreeBSD 14.2 Kernel: 14.2-RELEASE Compiler: clang 18.1.6 Windows Server 2022 Kernel: 10.0.20348.2031 Compiler: clang 15.0.7, gcc 14.1.0 (MinGW), and MSVC VS 19.39.33521 To view detailed results, visit: https://lab.dpdk.org/results/dashboard/tarballs/33613/ UNH-IOL DPDK Community Lab To manage your email subscriptions, visit: https://lab.dpdk.org/results/dashboard/preferences/subscriptions/