From mboxrd@z Thu Jan 1 00:00:00 1970 Return-Path: Received: from mails.dpdk.org (mails.dpdk.org [217.70.189.124]) by inbox.dpdk.org (Postfix) with ESMTP id 844F6467B6 for ; Thu, 22 May 2025 10:13:48 +0200 (CEST) Received: from mails.dpdk.org (localhost [127.0.0.1]) by mails.dpdk.org (Postfix) with ESMTP id 808E2402B9; Thu, 22 May 2025 10:13:48 +0200 (CEST) Received: from mail-oa1-f98.google.com (mail-oa1-f98.google.com [209.85.160.98]) by mails.dpdk.org (Postfix) with ESMTP id D501F40144 for ; Thu, 22 May 2025 10:13:41 +0200 (CEST) Received: by mail-oa1-f98.google.com with SMTP id 586e51a60fabf-2cc89c59cc0so3767487fac.0 for ; Thu, 22 May 2025 01:13:41 -0700 (PDT) DKIM-Signature: v=1; a=rsa-sha256; c=relaxed/relaxed; d=iol.unh.edu; s=unh-iol; t=1747901621; x=1748506421; darn=dpdk.org; h=cc:to:from:subject:message-id:date:from:to:cc:subject:date :message-id:reply-to; bh=nAuWQfNAHatilmtYCnbJmUCEXKcDIVQFEj2dPMUmXUw=; b=A7IbrsvfkAjq+JfiDcy/4F/E1obd3jjtI9/HRyLpj+ot9BIT3uFHn68IRp2jQyuD4U /Hpigb9dKac+x62ilUUHa0i9PJXUMG5bS+zuUidoZn3yRSDU9n2d7guf/EUnhzEwvqcf F9kJwcwwbTkF7E5ggHovDWGJJfO4e0+mJa2Kk= X-Google-DKIM-Signature: v=1; a=rsa-sha256; c=relaxed/relaxed; d=1e100.net; s=20230601; t=1747901621; x=1748506421; h=cc:to:from:subject:message-id:date:x-gm-message-state:from:to:cc :subject:date:message-id:reply-to; bh=nAuWQfNAHatilmtYCnbJmUCEXKcDIVQFEj2dPMUmXUw=; b=UCEkpngUUS4LntZi62XetMLJILjjeryLfITVIl3gokSOVR/GoB5EThBDesZVprk6sf XN57PYn5/TjbnBY8DYSSfNKDcwKJ4JABf8P/cQ2baBODH2x2YWq/Tki92daLF13/Lvnw 2ZouZfEL1Hb2rixz3AENbH1XbIbCiycGZ+ski2PCQ9SiNDPQt379Ibbbk/7hMqO4uQGe Af/MxuP7qUA0NEpkvH2QhUUJSvw1Cd8wIaGDz1dm8mRGaVy67juwoYB3cwg79gk1cziW cTnXHzTDexuaVeUjU/+9CxbLZatmq4Tc+GfjxGUGwtjyqGsw2JeJ8MIe/XSbFiDtWK1/ wNkw== X-Gm-Message-State: AOJu0Yw1gE5PDypAriLJbNaWLbQyI6f7ts2ILteqvPyF72hxQs35sJLE 4uQ7a6+GU+sVxHNU4X2UjAvwCzSAC4I8JVFXJYnnWeDueXgrysjabksLWhOyiNKzIVyABW3zAa+ 5MH53rim6+pZy1gJdx4hZUlQwdDE1lLaHaWoJ X-Gm-Gg: ASbGncsRJyLL6qnDj76lnQSA38u4EZHiVp/mgzg0nqk0JjGamgN/+NxdrMj15drkMDI jx7Jxc6GFr7B1rGOni07kwqvFJQcDoorSvH/MLxOtD63dn0U/Vz1yAwT8blYN09YmdkXFjM1OCr I/3xJMaqIgJnjC0EYSnkDTOOYo78rq+iOO2DUEngqsNNqZheCfQOCly7HcAlJsGDiHBmQHm24ue vz2i3T22qKYMVUw3vY2JRl+6XMnhz8C478kVk4BXFHABF95dQC/bZZKNMVszgOt6vMYom9Z5ZeN /FXmrfZP04Sjph4kn446XuiD8BU8CD+at5006O/W2I1tbLe3o0d8Yj4hiv4= X-Google-Smtp-Source: AGHT+IHn3iz21jcycfRoxLjyaO8asZlp7K1gIl9wv3maIsoQl0lfTf2l02jaH3332Fju9cMYavX+PkW2na5h X-Received: by 2002:a05:6870:891b:b0:2e4:c5c8:707b with SMTP id 586e51a60fabf-2e4c5c87711mr325113fac.6.1747901621039; Thu, 22 May 2025 01:13:41 -0700 (PDT) Received: from postal.iol.unh.edu (postal.iol.unh.edu. [132.177.123.84]) by smtp-relay.gmail.com with ESMTPS id 586e51a60fabf-2e3c06c0d57sm649360fac.16.2025.05.22.01.13.40 (version=TLS1_2 cipher=ECDHE-ECDSA-AES128-GCM-SHA256 bits=128/128); Thu, 22 May 2025 01:13:41 -0700 (PDT) X-Relaying-Domain: iol.unh.edu Date: Thu, 22 May 2025 01:13:41 -0700 (PDT) Message-ID: <682edcb5.050a0220.1b5bf7.5bd8SMTPIN_ADDED_MISSING@mx.google.com> Received: from [172.21.0.7] (unknown [172.18.0.240]) by postal.iol.unh.edu (Postfix) with ESMTP id 83C846052471; Thu, 22 May 2025 04:13:40 -0400 (EDT) Subject: |SUCCESS| [GIT MASTER] 4401486b5e30d43a134f80f9802f60b5f43e74a8 From: dpdklab@iol.unh.edu To: Test Report Cc: dpdk-test-reports@iol.unh.edu, Xueming Li , Christian Ehrhardt , Kevin Traynor , Luca Boccassi Content-Type: text/plain X-BeenThere: test-report@dpdk.org X-Mailman-Version: 2.1.29 Precedence: list List-Id: automatic DPDK test reports List-Unsubscribe: , List-Archive: List-Post: List-Help: List-Subscribe: , Errors-To: test-report-bounces@dpdk.org _Testing PASS_ Branch: tags/v22.11 4401486b5e30d43a134f80f9802f60b5f43e74a8 --> testing pass Upstream job id: Generic-Unit-Test-DPDK#339834 Test environment and result as below: +-----------------------------+---------------------------+--------------+------------------------------+----------------+ | Environment | cryptodev_sw_zuc_autotest | lpm_autotest | cryptodev_sw_snow3g_autotest | dpdk_unit_test | +=============================+===========================+==============+==============================+================+ | Debian 12 (arm) | PASS | SKIPPED | PASS | SKIPPED | +-----------------------------+---------------------------+--------------+------------------------------+----------------+ | Ubuntu 20.04 ARM SVE | SKIPPED | PASS | SKIPPED | SKIPPED | +-----------------------------+---------------------------+--------------+------------------------------+----------------+ | 32-bit Ubuntu 22.04.4 (ARM) | SKIPPED | SKIPPED | SKIPPED | PASS | +-----------------------------+---------------------------+--------------+------------------------------+----------------+ Debian 12 (arm) Kernel: Depends on container host Compiler: gcc (Debian 12.2.0-14) 12.2.0 Ubuntu 20.04 ARM SVE Kernel: Depends on container host Compiler: gcc (Ubuntu 10.5.0-1ubuntu1~20.04) 10.5.0 32-bit Ubuntu 22.04.4 (ARM) Kernel: 5.15.83+ aarch64 Compiler: gcc (Ubuntu 11.4.0-1ubuntu1~22.04) 11.4.0 To view detailed results, visit: https://lab.dpdk.org/results/dashboard/tarballs/33612/ UNH-IOL DPDK Community Lab To manage your email subscriptions, visit: https://lab.dpdk.org/results/dashboard/preferences/subscriptions/