From mboxrd@z Thu Jan 1 00:00:00 1970 Return-Path: Received: from mails.dpdk.org (mails.dpdk.org [217.70.189.124]) by inbox.dpdk.org (Postfix) with ESMTP id 4B140467B6 for ; Thu, 22 May 2025 10:20:34 +0200 (CEST) Received: from mails.dpdk.org (localhost [127.0.0.1]) by mails.dpdk.org (Postfix) with ESMTP id 3C30A402C2; Thu, 22 May 2025 10:20:34 +0200 (CEST) Received: from mail-pg1-f226.google.com (mail-pg1-f226.google.com [209.85.215.226]) by mails.dpdk.org (Postfix) with ESMTP id 1FD8E402B9 for ; Thu, 22 May 2025 10:20:33 +0200 (CEST) Received: by mail-pg1-f226.google.com with SMTP id 41be03b00d2f7-b1fd59851baso4776019a12.0 for ; Thu, 22 May 2025 01:20:33 -0700 (PDT) DKIM-Signature: v=1; a=rsa-sha256; c=relaxed/relaxed; d=iol.unh.edu; s=unh-iol; t=1747902032; x=1748506832; darn=dpdk.org; h=cc:to:from:subject:message-id:date:from:to:cc:subject:date :message-id:reply-to; bh=MdBdyFQmq5obpnLZJ2DyU/NW1SpkX9f3RATdvAnLYek=; b=Z6jtVl6nfcVTPZNMZSjKoFZ8kUwRygwv005xvviVGwSho5kK/CmM6WwkfsgzmyaIqd q5CG7nx20SvR074znLfKh78FlC4A3cjxopBYQaRoWB098sZjjbw0NAJjMYUI2Aa/qPbU V7ZXt9fSGTrWygYdUbjRxNkHfENO3P8+6DDXk= X-Google-DKIM-Signature: v=1; a=rsa-sha256; c=relaxed/relaxed; d=1e100.net; s=20230601; t=1747902032; x=1748506832; h=cc:to:from:subject:message-id:date:x-gm-message-state:from:to:cc :subject:date:message-id:reply-to; bh=MdBdyFQmq5obpnLZJ2DyU/NW1SpkX9f3RATdvAnLYek=; b=spp5Z/nxivp0rD8LZ6a+WOW0RNPpqtHp3OzHfBjBNylP5pm5uuIiCk7J4khuFhX1v3 LRKe9X+jjsV9CxVpkvjhcBYx7HXgHo9XnTOFu9RtwKi8JhYTFs2oWa7qjiVtWLl/fPOp EPSpQhleSA9gVhBB3Ve/qZbN2YG2KtIR4IkeQzYpcC7uRYolPAJ1C3RpIQA/tnUC27/K V2Uivox3oSZp+V7p688uK2HgnB6wHcJIxk1hSdQzFyA3iVJiifC3yttyo26h9ZHKkybF 3dbec9/wVTwcWHnPoMWwHHvmlQRdC4+MTXpz+ZU7+5jzb9PlxT8IBEh2fWO8t6UGLP2Z y5yA== X-Gm-Message-State: AOJu0YzsS0HI9FzhtfWP8I8vyZxQz2v2/lUfsFAMAw3z4MQnGDeW2vnO FAgp35EWjXWQyRqCuRaeKT9wpuJQYf2QUJpQruZMTZTIzmWfIhEgh3Eq0sv7dxbQldXUi3ZWQbQ Z1xVcjKMgreuYTja+t8KA2tbebXY95Jw+g+X5 X-Gm-Gg: ASbGnctNQrhAdz4OrZiUoNFLTYv3tHj2lcmdrseb1oWg0VqvGS/cjh5gQNllo05hJQT 3AKOlJRuC7Npw0qPWYX55DIzjOpK3LudeWZVeKAjGfrWqo/N4EFyAlboSdL5uIWjuyLXDJVmtCn tGPtlq0Yfr/cXNV4Y6Sxe1YhM/AsEBXvwOTs0Yj9PRykXqNbDrzKx84WuQXEIxCevALUiPg8nxl D0rtewqbooc3mdNKCBuJD12/FUyK2OCrCD0Ftsef8wyFHThq0KyQDYETIQqONPHUUIUVbjq+DPI Ny2hXWWYjuyGlhF9fUJdTNbSwMzxb7iSQSNA1iDnE+iomJEhro3MvAOssls= X-Google-Smtp-Source: AGHT+IEPmWqz2J/wo9qWWeJk/eBiMLky3Or88i+/ge+iXz408RyXHfmtIqMlsWNOOwOoYygvAYw29KxbQBBb X-Received: by 2002:a17:903:1246:b0:224:26f2:97d6 with SMTP id d9443c01a7336-231de3427cfmr354677385ad.28.1747902032292; Thu, 22 May 2025 01:20:32 -0700 (PDT) Received: from postal.iol.unh.edu (postal.iol.unh.edu. [132.177.123.84]) by smtp-relay.gmail.com with ESMTPS id d9443c01a7336-231d4ed165dsm7359985ad.126.2025.05.22.01.20.32 (version=TLS1_2 cipher=ECDHE-ECDSA-AES128-GCM-SHA256 bits=128/128); Thu, 22 May 2025 01:20:32 -0700 (PDT) X-Relaying-Domain: iol.unh.edu Date: Thu, 22 May 2025 01:20:32 -0700 (PDT) Message-ID: <682ede50.170a0220.747eb.6fb7SMTPIN_ADDED_MISSING@mx.google.com> Received: from [172.21.0.5] (unknown [172.18.0.240]) by postal.iol.unh.edu (Postfix) with ESMTP id 7568C6052471; Thu, 22 May 2025 04:20:31 -0400 (EDT) Subject: |SUCCESS| [GIT MASTER] 83a7a648344674c0269fcaeb71d8d16468421a0e From: dpdklab@iol.unh.edu To: Test Report Cc: dpdk-test-reports@iol.unh.edu, Xueming Li , Christian Ehrhardt , Kevin Traynor , Luca Boccassi Content-Type: text/plain X-BeenThere: test-report@dpdk.org X-Mailman-Version: 2.1.29 Precedence: list List-Id: automatic DPDK test reports List-Unsubscribe: , List-Archive: List-Post: List-Help: List-Subscribe: , Errors-To: test-report-bounces@dpdk.org _Testing PASS_ Branch: tags/v23.11 83a7a648344674c0269fcaeb71d8d16468421a0e --> testing pass Upstream job id: Generic-Unit-Test-DPDK#339862 Test environment and result as below: +-----------------------------+---------------------------+--------------+----------------+------------------------------+ | Environment | cryptodev_sw_zuc_autotest | lpm_autotest | dpdk_unit_test | cryptodev_sw_snow3g_autotest | +=============================+===========================+==============+================+==============================+ | Debian 12 (arm) | PASS | SKIPPED | PASS | PASS | +-----------------------------+---------------------------+--------------+----------------+------------------------------+ | Ubuntu 20.04 ARM SVE | SKIPPED | PASS | SKIPPED | SKIPPED | +-----------------------------+---------------------------+--------------+----------------+------------------------------+ | CentOS Stream 9 (ARM) | SKIPPED | SKIPPED | PASS | SKIPPED | +-----------------------------+---------------------------+--------------+----------------+------------------------------+ | Fedora 40 (ARM) | SKIPPED | SKIPPED | PASS | SKIPPED | +-----------------------------+---------------------------+--------------+----------------+------------------------------+ | CentOS Stream 10 (ARM) | SKIPPED | SKIPPED | PASS | SKIPPED | +-----------------------------+---------------------------+--------------+----------------+------------------------------+ | Fedora 40 (ARM Clang) | SKIPPED | SKIPPED | PASS | SKIPPED | +-----------------------------+---------------------------+--------------+----------------+------------------------------+ | Fedora 41 (ARM Clang) | SKIPPED | SKIPPED | PASS | SKIPPED | +-----------------------------+---------------------------+--------------+----------------+------------------------------+ | Fedora 41 (ARM) | SKIPPED | SKIPPED | PASS | SKIPPED | +-----------------------------+---------------------------+--------------+----------------+------------------------------+ | RHEL9 (ARM) | SKIPPED | SKIPPED | PASS | SKIPPED | +-----------------------------+---------------------------+--------------+----------------+------------------------------+ | Ubuntu 20.04 (ARM) | SKIPPED | SKIPPED | PASS | SKIPPED | +-----------------------------+---------------------------+--------------+----------------+------------------------------+ | Ubuntu 22.04 (ARM) | SKIPPED | SKIPPED | PASS | SKIPPED | +-----------------------------+---------------------------+--------------+----------------+------------------------------+ | Ubuntu 24.04 (ARM) | SKIPPED | SKIPPED | PASS | SKIPPED | +-----------------------------+---------------------------+--------------+----------------+------------------------------+ | 32-bit Ubuntu 22.04.4 (ARM) | SKIPPED | SKIPPED | PASS | SKIPPED | +-----------------------------+---------------------------+--------------+----------------+------------------------------+ Debian 12 (arm) Kernel: Depends on container host Compiler: gcc (Debian 12.2.0-14) 12.2.0 Ubuntu 20.04 ARM SVE Kernel: Depends on container host Compiler: gcc (Ubuntu 10.5.0-1ubuntu1~20.04) 10.5.0 CentOS Stream 9 (ARM) Kernel: Depends on container host Compiler: gcc 11.5.0 20240719 (Red Hat 11.5.0-2) Fedora 40 (ARM) Kernel: Depends on container host Compiler: gcc 14.2.1 20240912 (Red Hat 14.2.1-3) CentOS Stream 10 (ARM) Kernel: Depends on container host Compiler: gcc 14.2.1 20241104 (Red Hat 14.2.1-6) Fedora 40 (ARM Clang) Kernel: Depends on container host Compiler: clang 18.1.8 (Fedora 18.1.8-1.fc40) Fedora 41 (ARM Clang) Kernel: Depends on container host Compiler: clang 19.1.5 (Fedora 19.1.5-1.fc41) Fedora 41 (ARM) Kernel: Depends on container host Compiler: gcc 14.2.1 20240912 (Red Hat 14.2.1-3) RHEL9 (ARM) Kernel: Depends on container host Compiler: gcc 11.5.0 20240719 (Red Hat 11.5.0-2) Ubuntu 20.04 (ARM) Kernel: Depends on container host Compiler: gcc (Ubuntu 9.4.0-1ubuntu1~20.04.2) 9.4.0 Ubuntu 22.04 (ARM) Kernel: Depends on container host Compiler: gcc (Ubuntu 11.4.0-1ubuntu1~22.04) 11.4.0 Ubuntu 24.04 (ARM) Kernel: Depends on container host Compiler: gcc (Ubuntu 13.3.0-6ubuntu2~24.04) 13.3.0 32-bit Ubuntu 22.04.4 (ARM) Kernel: 5.15.83+ aarch64 Compiler: gcc (Ubuntu 11.4.0-1ubuntu1~22.04) 11.4.0 To view detailed results, visit: https://lab.dpdk.org/results/dashboard/tarballs/33613/ UNH-IOL DPDK Community Lab To manage your email subscriptions, visit: https://lab.dpdk.org/results/dashboard/preferences/subscriptions/