From mboxrd@z Thu Jan 1 00:00:00 1970 Return-Path: Received: from mails.dpdk.org (mails.dpdk.org [217.70.189.124]) by inbox.dpdk.org (Postfix) with ESMTP id 8C146467B6 for ; Thu, 22 May 2025 10:50:36 +0200 (CEST) Received: from mails.dpdk.org (localhost [127.0.0.1]) by mails.dpdk.org (Postfix) with ESMTP id 87CF5402C2; Thu, 22 May 2025 10:50:36 +0200 (CEST) Received: from mail-vs1-f98.google.com (mail-vs1-f98.google.com [209.85.217.98]) by mails.dpdk.org (Postfix) with ESMTP id A09D8402B9 for ; Thu, 22 May 2025 10:50:34 +0200 (CEST) Received: by mail-vs1-f98.google.com with SMTP id ada2fe7eead31-4e1aa5d8039so3461814137.0 for ; Thu, 22 May 2025 01:50:34 -0700 (PDT) DKIM-Signature: v=1; a=rsa-sha256; c=relaxed/relaxed; d=iol.unh.edu; s=unh-iol; t=1747903834; x=1748508634; darn=dpdk.org; h=cc:to:from:subject:message-id:date:from:to:cc:subject:date :message-id:reply-to; bh=IWepDi5wkQfoR2KEJO/5JnDpbwffQi8pePrD3aAbBnA=; b=Vtq/ZXGpo88NDcavFKJ2lx1cC9HOLgPKOhHoEoJRcaOq9kIL6wXdin+khXkcrxMt8a 2AynXjqFdcDaPKg29Cf+2QsiUUM0yIKOi1tIV5TRMS8heOCkXUMZFAg0zNxHHZmMF1F7 oXIogMZlJI+gk9RZPvV6/GemJob74crrMdUCg= X-Google-DKIM-Signature: v=1; a=rsa-sha256; c=relaxed/relaxed; d=1e100.net; s=20230601; t=1747903834; x=1748508634; h=cc:to:from:subject:message-id:date:x-gm-message-state:from:to:cc :subject:date:message-id:reply-to; bh=IWepDi5wkQfoR2KEJO/5JnDpbwffQi8pePrD3aAbBnA=; b=O4jz5Wa6la5i+O9aW09xDzHC+eLiIPjOKHU0jRGxBNVtE045NAC/NxeoNSuvtDswoq iCXDRa6okJR2v3F7tayBChYGLxKBjDWo7cjtbp73w/6TjvkHvhcvZia4BnQFUfSwnLdC 0Ejl8IL4bNgChaYXabduEEyWjNr7RDBiFWgo3iN7Wy1Hn3z6cEua5gwoatP1QgC27Z2u 6LIBiW2NfwX1U55DuW1HR0s8S0E/e/oous8XAj5AosMF2pgy8P/OdOUf+sLB72iiAtaV nggYOq7oDoA57He/3LWNRLQKq72glWS7jphmwls21n6G1KR/4/n6Y0O76JKrdzeF3Ue7 6Eug== X-Gm-Message-State: AOJu0YwZcVRu+uz5z5Zrsa3Y664InKUaK5YnzZYpmPcdAdbbFVHhyXe8 qJ5yWQTGTNr6qKlQt7Wa08qzDp4XwwkeXP1QHDXrOYf5DsPbDwxZHRQBVI0Kgv0f87gzPoQRJOu jWpsFLsr1RGJt7DaIAWJb9d7J0WVnxsL6WT58zkVtxxANO1uALnbw X-Gm-Gg: ASbGnct2AgigaNesy/SB5D4D5bTh7qByFt46gFqWANcIiteOfPxFvBzfn4Qkm5woe95 tx0BNGdz2rsHDJ3TFpbZjXPFK8d/ZWhri/vz+oPcQ9bzvv9SulZKt/x0gTEKaYGnzFNSgwREV6b PDtnpMod8UKDJkf7uDNS7lEau0cpDDm8DUeXV8+9uvO/zLNzTZOJXphK5Nb5BxnPyICyk+gE1r9 P6WBPZ02Tnd2lkiypcGce6hG5r+z8Og00Vy4Nxql2hN+w5T7w84OqQJkw1m0R6e4kv4ac9mGMRs 3aLwTEYXudAVSVOlWLp//QFAVRSGqAFtLuCG X-Google-Smtp-Source: AGHT+IHjl9IW9lXf2zLwsqMNWJINO0inffURCWq5sFjKuisBBhI1S0CWz/fU9Oy0JAjMm/Bia6WyM4F9ahJ/ X-Received: by 2002:a05:6214:493:b0:6f4:c15a:6215 with SMTP id 6a1803df08f44-6f8b08d563dmr368574996d6.39.1747903823350; Thu, 22 May 2025 01:50:23 -0700 (PDT) Received: from postal.iol.unh.edu (postal.iol.unh.edu. [2606:4100:3880:1234::84]) by smtp-relay.gmail.com with ESMTPS id 6a1803df08f44-6f8b08b2b2bsm4699136d6.19.2025.05.22.01.50.23 (version=TLS1_2 cipher=ECDHE-ECDSA-AES128-GCM-SHA256 bits=128/128); Thu, 22 May 2025 01:50:23 -0700 (PDT) X-Relaying-Domain: iol.unh.edu Date: Thu, 22 May 2025 01:50:23 -0700 (PDT) Message-ID: <682ee54f.d40a0220.1e7768.90fbSMTPIN_ADDED_MISSING@mx.google.com> Received: from [172.21.0.7] (unknown [172.18.0.240]) by postal.iol.unh.edu (Postfix) with ESMTP id 114D66052471; Thu, 22 May 2025 04:50:23 -0400 (EDT) Subject: |SUCCESS| [GIT MASTER] 4c5634de9f933555bab9c64a533d3dca999071cd From: dpdklab@iol.unh.edu To: Test Report Cc: dpdk-test-reports@iol.unh.edu, Xueming Li , Christian Ehrhardt , Kevin Traynor , Luca Boccassi Content-Type: text/plain X-BeenThere: test-report@dpdk.org X-Mailman-Version: 2.1.29 Precedence: list List-Id: automatic DPDK test reports List-Unsubscribe: , List-Archive: List-Post: List-Help: List-Subscribe: , Errors-To: test-report-bounces@dpdk.org _Testing PASS_ Branch: tags/v24.11 4c5634de9f933555bab9c64a533d3dca999071cd --> testing pass Upstream job id: Generic-DPDK-Compile-Meson#390320 Test environment and result as below: +------------------------------------+--------------------+ | Environment | dpdk_meson_compile | +====================================+====================+ | RHEL9 (ARM) | PASS | +------------------------------------+--------------------+ | Ubuntu 20.04 ARM GCC Cross Compile | PASS | +------------------------------------+--------------------+ | Debian 12 with MUSDK | PASS | +------------------------------------+--------------------+ | Fedora 40 (ARM) | PASS | +------------------------------------+--------------------+ | Ubuntu 20.04 ARM SVE | PASS | +------------------------------------+--------------------+ | Fedora 41 (ARM) | PASS | +------------------------------------+--------------------+ | Fedora 40 (ARM Clang) | PASS | +------------------------------------+--------------------+ | Ubuntu 20.04 (ARM) | PASS | +------------------------------------+--------------------+ | Fedora 41 (ARM Clang) | PASS | +------------------------------------+--------------------+ | Ubuntu 22.04 (ARM) | PASS | +------------------------------------+--------------------+ | Ubuntu 24.04 (ARM) | PASS | +------------------------------------+--------------------+ | CentOS Stream 9 (ARM) | PASS | +------------------------------------+--------------------+ | CentOS Stream 10 (ARM) | PASS | +------------------------------------+--------------------+ | Debian 12 (arm) | PASS | +------------------------------------+--------------------+ RHEL9 (ARM) Kernel: Depends on container host Compiler: gcc 11.5.0 20240719 (Red Hat 11.5.0-2) Ubuntu 20.04 ARM GCC Cross Compile Kernel: Depends on container host Compiler: aarch64-linux-gnu-gcc (Ubuntu 9.4.0-1ubuntu1~20.04.2) 9.4.0 Debian 12 with MUSDK Kernel: Depends on container host Compiler: gcc (Debian 12.2.0-14) 12.2.0 Fedora 40 (ARM) Kernel: Depends on container host Compiler: gcc 14.2.1 20240912 (Red Hat 14.2.1-3) Ubuntu 20.04 ARM SVE Kernel: Depends on container host Compiler: gcc (Ubuntu 10.5.0-1ubuntu1~20.04) 10.5.0 Fedora 41 (ARM) Kernel: Depends on container host Compiler: gcc 14.2.1 20240912 (Red Hat 14.2.1-3) Fedora 40 (ARM Clang) Kernel: Depends on container host Compiler: clang 18.1.8 (Fedora 18.1.8-1.fc40) Ubuntu 20.04 (ARM) Kernel: Depends on container host Compiler: gcc (Ubuntu 9.4.0-1ubuntu1~20.04.2) 9.4.0 Fedora 41 (ARM Clang) Kernel: Depends on container host Compiler: clang 19.1.5 (Fedora 19.1.5-1.fc41) Ubuntu 22.04 (ARM) Kernel: Depends on container host Compiler: gcc (Ubuntu 11.4.0-1ubuntu1~22.04) 11.4.0 Ubuntu 24.04 (ARM) Kernel: Depends on container host Compiler: gcc (Ubuntu 13.3.0-6ubuntu2~24.04) 13.3.0 CentOS Stream 9 (ARM) Kernel: Depends on container host Compiler: gcc 11.5.0 20240719 (Red Hat 11.5.0-2) CentOS Stream 10 (ARM) Kernel: Depends on container host Compiler: gcc 14.2.1 20241104 (Red Hat 14.2.1-6) Debian 12 (arm) Kernel: Depends on container host Compiler: gcc (Debian 12.2.0-14) 12.2.0 To view detailed results, visit: https://lab.dpdk.org/results/dashboard/tarballs/33611/ UNH-IOL DPDK Community Lab To manage your email subscriptions, visit: https://lab.dpdk.org/results/dashboard/preferences/subscriptions/