automatic DPDK test reports
 help / color / mirror / Atom feed
* |SUCCESS| pw153576-153578 [PATCH v2 3/3] dts: add flow validation
       [not found] <20250521192629.294265-3-dmarx@iol.unh.edu>
@ 2025-05-21 19:01 ` qemudev
  2025-05-21 19:05 ` qemudev
                   ` (24 subsequent siblings)
  25 siblings, 0 replies; 26+ messages in thread
From: qemudev @ 2025-05-21 19:01 UTC (permalink / raw)
  To: test-report

Test-Label: loongarch-compilation
Test-Status: SUCCESS
http://dpdk.org/patch/153578

_Compilation OK_

Submitter: Dean Marx <dmarx@iol.unh.edu>
Date: Wed, 21 May 2025 15:26:27 -0400
DPDK git baseline: Repo:dpdk
  Branch: main
  CommitID: 117e86c4b96ed761e9a7ab766261208fe81bf5ca

153576-153578 --> meson & ninja build successfully

Test environment and result as below:

+---------------------+----------------+
|     Environment     | compilation    |
+---------------------+----------------+
| Loongnix-Server 8.3 | PASS           |
+---------------------+----------------+

Loongnix-Server 8.3
    Kernel: 4.19.190+
    Compiler: gcc 8.3


^ permalink raw reply	[flat|nested] 26+ messages in thread

* |SUCCESS| pw153576-153578 [PATCH v2 3/3] dts: add flow validation
       [not found] <20250521192629.294265-3-dmarx@iol.unh.edu>
  2025-05-21 19:01 ` |SUCCESS| pw153576-153578 [PATCH v2 3/3] dts: add flow validation qemudev
@ 2025-05-21 19:05 ` qemudev
  2025-05-21 19:27 ` |SUCCESS| pw153578 " checkpatch
                   ` (23 subsequent siblings)
  25 siblings, 0 replies; 26+ messages in thread
From: qemudev @ 2025-05-21 19:05 UTC (permalink / raw)
  To: test-report

Test-Label: loongarch-unit-testing
Test-Status: SUCCESS
http://dpdk.org/patch/153578

_Unit Testing PASS_

Submitter: Dean Marx <dmarx@iol.unh.edu>
Date: Wed, 21 May 2025 15:26:27 -0400
DPDK git baseline: Repo:dpdk
  Branch: main
  CommitID: 117e86c4b96ed761e9a7ab766261208fe81bf5ca

153576-153578 --> testing pass

Test environment and result as below:

+---------------------+----------------+
|     Environment     | dpdk_unit_test |
+---------------------+----------------+
| Loongnix-Server 8.3 | PASS           |
+---------------------+----------------+

Loongnix-Server 8.3
    Kernel: 4.19.190+
    Compiler: gcc 8.3


Test result details:
  1/119 DPDK:fast-tests / acl_autotest                            OK              3.28s
  2/119 DPDK:fast-tests / alarm_autotest                          OK              1.63s
  3/119 DPDK:fast-tests / argparse_autotest                       OK              0.63s
  4/119 DPDK:fast-tests / atomic_autotest                         OK              6.92s
  5/119 DPDK:fast-tests / bitcount_autotest                       OK              0.31s
  6/119 DPDK:fast-tests / bitmap_autotest                         OK              0.31s
  7/119 DPDK:fast-tests / bitops_autotest                         OK              1.94s
  8/119 DPDK:fast-tests / bitratestats_autotest                   OK              0.31s
  9/119 DPDK:fast-tests / bitset_autotest                         OK              3.04s
 10/119 DPDK:fast-tests / bpf_autotest                            OK              0.31s
 11/119 DPDK:fast-tests / bpf_convert_autotest                    OK              0.31s
 12/119 DPDK:fast-tests / byteorder_autotest                      OK              0.31s
 13/119 DPDK:fast-tests / cfgfile_autotest                        OK              0.31s
 14/119 DPDK:fast-tests / cksum_autotest                          OK              0.31s
 15/119 DPDK:fast-tests / cmdline_autotest                        OK              0.31s
 16/119 DPDK:fast-tests / common_autotest                         OK              1.41s
 17/119 DPDK:fast-tests / compressdev_autotest                    SKIP            0.06s   exit status 77
 18/119 DPDK:fast-tests / cpuflags_autotest                       OK              0.31s
 19/119 DPDK:fast-tests / crc_autotest                            OK              0.41s
 20/119 DPDK:fast-tests / user_delay_us                           OK              0.41s
 21/119 DPDK:fast-tests / debug_autotest                          OK             19.39s
 22/119 DPDK:fast-tests / devargs_autotest                        OK              0.40s
 23/119 DPDK:fast-tests / dispatcher_autotest                     OK              2.45s
 24/119 DPDK:fast-tests / distributor_autotest                    OK              1.20s
 25/119 DPDK:fast-tests / eal_flags_c_opt_autotest                OK              0.75s
 26/119 DPDK:fast-tests / eal_flags_main_opt_autotest             OK              0.21s
 27/119 DPDK:fast-tests / eal_flags_n_opt_autotest                OK              0.19s
 28/119 DPDK:fast-tests / eal_flags_hpet_autotest                 OK              0.12s
 29/119 DPDK:fast-tests / eal_flags_no_huge_autotest              OK              0.21s
 30/119 DPDK:fast-tests / eal_flags_a_opt_autotest                OK              0.29s
 31/119 DPDK:fast-tests / eal_flags_b_opt_autotest                OK              0.24s
 32/119 DPDK:fast-tests / eal_flags_vdev_opt_autotest             OK              0.20s
 33/119 DPDK:fast-tests / eal_flags_r_opt_autotest                OK              0.17s
 34/119 DPDK:fast-tests / eal_flags_mem_autotest                  OK              0.58s
 35/119 DPDK:fast-tests / eal_flags_file_prefix_autotest          OK             22.22s
 36/119 DPDK:fast-tests / eal_flags_misc_autotest                 OK              1.01s
 37/119 DPDK:fast-tests / eal_fs_autotest                         OK              0.30s
 38/119 DPDK:fast-tests / errno_autotest                          OK              0.53s
 39/119 DPDK:fast-tests / ethdev_link_status                      OK              0.31s
 40/119 DPDK:fast-tests / event_eth_tx_adapter_autotest           OK              1.68s
 41/119 DPDK:fast-tests / event_ring_autotest                     OK              0.43s
 42/119 DPDK:fast-tests / eventdev_common_autotest                OK              0.63s
 43/119 DPDK:fast-tests / eventdev_selftest_sw                    OK              7.54s
 44/119 DPDK:fast-tests / fbarray_autotest                        OK              0.63s
 45/119 DPDK:fast-tests / fib_autotest                            OK              1.46s
 46/119 DPDK:fast-tests / fib6_autotest                           OK              1.24s
 47/119 DPDK:fast-tests / func_reentrancy_autotest                OK              2.31s
 48/119 DPDK:fast-tests / graph_autotest                          OK              0.31s
 49/119 DPDK:fast-tests / node_list_dump                          OK              0.31s
 50/119 DPDK:fast-tests / hash_autotest                           OK              0.93s
 51/119 DPDK:fast-tests / hash_readwrite_func_autotest            OK              6.40s
 52/119 DPDK:fast-tests / interrupt_autotest                      OK              1.61s
 53/119 DPDK:fast-tests / ipfrag_autotest                         OK              0.07s
 54/119 DPDK:fast-tests / ipsec_autotest                          SKIP            0.31s   exit status 77
 55/119 DPDK:fast-tests / kvargs_autotest                         OK              0.31s
 56/119 DPDK:fast-tests / latencystats_autotest                   OK              0.31s
 57/119 DPDK:fast-tests / lcore_var_autotest                      OK              0.45s
 58/119 DPDK:fast-tests / lcores_autotest                         OK              5.11s
 59/119 DPDK:fast-tests / logs_autotest                           OK              0.31s
 60/119 DPDK:fast-tests / lpm_autotest                            OK              2.35s
 61/119 DPDK:fast-tests / lpm6_autotest                           OK              5.47s
 62/119 DPDK:fast-tests / malloc_autotest                         OK             60.99s
 63/119 DPDK:fast-tests / mbuf_autotest                           OK              5.26s
 64/119 DPDK:fast-tests / mcslock_autotest                        OK              2.71s
 65/119 DPDK:fast-tests / member_autotest                         OK              1.52s
 66/119 DPDK:fast-tests / memcpy_autotest                         OK              6.75s
 67/119 DPDK:fast-tests / memory_autotest                         OK              0.08s
 68/119 DPDK:fast-tests / mempool_autotest                        OK              0.43s
 69/119 DPDK:fast-tests / memzone_autotest                        OK              0.14s
 70/119 DPDK:fast-tests / meter_autotest                          OK              0.31s
 71/119 DPDK:fast-tests / metrics_autotest                        OK              0.31s
 72/119 DPDK:fast-tests / multiprocess_autotest                   OK              0.18s
 73/119 DPDK:fast-tests / net_ether_autotest                      OK              0.97s
 74/119 DPDK:fast-tests / net_ipv6_autotest                       OK              0.31s
 75/119 DPDK:fast-tests / pcapng_autotest                         OK              6.41s
 76/119 DPDK:fast-tests / pdcp_autotest                           SKIP            0.06s   exit status 77
 77/119 DPDK:fast-tests / pdump_autotest                          OK              0.41s
 78/119 DPDK:fast-tests / per_lcore_autotest                      OK              0.41s
 79/119 DPDK:fast-tests / pflock_autotest                         OK              1.12s
 80/119 DPDK:fast-tests / pie_autotest                            OK              0.31s
 81/119 DPDK:fast-tests / ring_pmd_autotest                       OK              0.31s
 82/119 DPDK:fast-tests / power_autotest                          OK              0.31s
 83/119 DPDK:fast-tests / power_cpufreq_autotest                  SKIP            0.06s   exit status 77
 84/119 DPDK:fast-tests / power_intel_uncore_autotest             SKIP            0.30s   exit status 77
 85/119 DPDK:fast-tests / power_kvm_vm_autotest                   SKIP            0.06s   exit status 77
 86/119 DPDK:fast-tests / prefetch_autotest                       OK              0.30s
 87/119 DPDK:fast-tests / ptr_compress_autotest                   OK              0.31s
 88/119 DPDK:fast-tests / rawdev_autotest                         OK              0.31s
 89/119 DPDK:fast-tests / rcu_qsbr_autotest                       OK              0.83s
 90/119 DPDK:fast-tests / reorder_autotest                        OK              0.36s
 91/119 DPDK:fast-tests / rib_autotest                            OK              8.95s
 92/119 DPDK:fast-tests / rib6_autotest                           OK              8.95s
 93/119 DPDK:fast-tests / ring_autotest                           OK              0.34s
 94/119 DPDK:fast-tests / rwlock_test1_autotest                   OK              1.05s
 95/119 DPDK:fast-tests / rwlock_rda_autotest                     OK              5.31s
 96/119 DPDK:fast-tests / rwlock_rds_wrm_autotest                 OK              5.31s
 97/119 DPDK:fast-tests / rwlock_rde_wro_autotest                 OK              5.42s
 98/119 DPDK:fast-tests / sched_autotest                          OK              0.31s
 99/119 DPDK:fast-tests / security_autotest                       OK              0.06s
100/119 DPDK:fast-tests / seqlock_autotest                        OK              2.30s
101/119 DPDK:fast-tests / service_autotest                        OK              3.01s
102/119 DPDK:fast-tests / soring_autotest                         OK              0.31s
103/119 DPDK:fast-tests / spinlock_autotest                       OK              0.60s
104/119 DPDK:fast-tests / stack_autotest                          OK              0.87s
105/119 DPDK:fast-tests / stack_lf_autotest                       SKIP            0.06s   exit status 77
106/119 DPDK:fast-tests / string_autotest                         OK              0.59s
107/119 DPDK:fast-tests / table_autotest                          OK              7.94s
108/119 DPDK:fast-tests / tailq_autotest                          OK              0.39s
109/119 DPDK:fast-tests / telemetry_data_autotest                 OK              0.40s
110/119 DPDK:fast-tests / telemetry_json_autotest                 OK              0.40s
111/119 DPDK:fast-tests / thash_autotest                          OK              0.41s
112/119 DPDK:fast-tests / threads_autotest                        OK              0.59s
113/119 DPDK:fast-tests / ticketlock_autotest                     OK              0.56s
114/119 DPDK:fast-tests / timer_autotest                          OK              3.88s
115/119 DPDK:fast-tests / trace_autotest                          OK              0.39s
116/119 DPDK:fast-tests / trace_autotest_with_traces              OK              0.40s
117/119 DPDK:fast-tests / vdev_autotest                           OK              0.62s
118/119 DPDK:fast-tests / version_autotest                        OK              0.39s
119/119 DPDK:fast-tests / telemetry_all                           OK              1.32s


Ok:                 112
Expected Fail:      0
Fail:               0
Unexpected Pass:    0
Skipped:            7
Timeout:            0


^ permalink raw reply	[flat|nested] 26+ messages in thread

* |SUCCESS| pw153578 [PATCH v2 3/3] dts: add flow validation
       [not found] <20250521192629.294265-3-dmarx@iol.unh.edu>
  2025-05-21 19:01 ` |SUCCESS| pw153576-153578 [PATCH v2 3/3] dts: add flow validation qemudev
  2025-05-21 19:05 ` qemudev
@ 2025-05-21 19:27 ` checkpatch
  2025-05-21 20:08 ` |SUCCESS| pw153576-153578 [PATCH] [v2,3/3] " dpdklab
                   ` (22 subsequent siblings)
  25 siblings, 0 replies; 26+ messages in thread
From: checkpatch @ 2025-05-21 19:27 UTC (permalink / raw)
  To: test-report

Test-Label: checkpatch
Test-Status: SUCCESS
http://dpdk.org/patch/153578

_coding style OK_



^ permalink raw reply	[flat|nested] 26+ messages in thread

* |SUCCESS| pw153576-153578 [PATCH] [v2,3/3] dts: add flow validation
       [not found] <20250521192629.294265-3-dmarx@iol.unh.edu>
                   ` (2 preceding siblings ...)
  2025-05-21 19:27 ` |SUCCESS| pw153578 " checkpatch
@ 2025-05-21 20:08 ` dpdklab
  2025-05-21 20:14 ` dpdklab
                   ` (21 subsequent siblings)
  25 siblings, 0 replies; 26+ messages in thread
From: dpdklab @ 2025-05-21 20:08 UTC (permalink / raw)
  To: Test Report; +Cc: dpdk-test-reports

Test-Label: iol-marvell-Functional
Test-Status: SUCCESS
http://dpdk.org/patch/153578

_Functional Testing PASS_

Submitter: Dean Marx <dmarx@iol.unh.edu>
Date: Wednesday, May 21 2025 19:26:29 
DPDK git baseline: Repo:dpdk
  Branch: master
  CommitID:1aef42bc97a31906486c9d66b792208948af06f3

153576-153578 --> functional testing pass

Upstream job id: Template-DTS-Pipeline#227050

Test environment and result as below:

Ubuntu 20.04.6
Kernel: 5.4.105
Compiler: gcc 9.4
NIC: Marvell CN106XX 50000 Mbps
Target: arm64-native-linuxapp-gcc

Aggregate Results by Test Suite
+----------------+--------+
|   Test Suite   | Result |
+================+========+
| cmdline        |  PASS  |
+----------------+--------+
| rxtx_callbacks |  PASS  |
+----------------+--------+


To view detailed results, visit:
https://lab.dpdk.org/results/dashboard/patchsets/33226/

UNH-IOL DPDK Community Lab

To manage your email subscriptions, visit: 
https://lab.dpdk.org/results/dashboard/preferences/subscriptions/

^ permalink raw reply	[flat|nested] 26+ messages in thread

* |SUCCESS| pw153576-153578 [PATCH] [v2,3/3] dts: add flow validation
       [not found] <20250521192629.294265-3-dmarx@iol.unh.edu>
                   ` (3 preceding siblings ...)
  2025-05-21 20:08 ` |SUCCESS| pw153576-153578 [PATCH] [v2,3/3] " dpdklab
@ 2025-05-21 20:14 ` dpdklab
  2025-05-21 20:19 ` dpdklab
                   ` (20 subsequent siblings)
  25 siblings, 0 replies; 26+ messages in thread
From: dpdklab @ 2025-05-21 20:14 UTC (permalink / raw)
  To: Test Report; +Cc: dpdk-test-reports

Test-Label: iol-intel-Functional
Test-Status: SUCCESS
http://dpdk.org/patch/153578

_Functional Testing PASS_

Submitter: Dean Marx <dmarx@iol.unh.edu>
Date: Wednesday, May 21 2025 19:26:29 
DPDK git baseline: Repo:dpdk
  Branch: master
  CommitID:1aef42bc97a31906486c9d66b792208948af06f3

153576-153578 --> functional testing pass

Upstream job id: Template-DTS-Pipeline#227046

Test environment and result as below:

Ubuntu 24.04 LTS
Kernel: 6.8.0-44-generic
Compiler: gcc 13.2.0
NIC: Intel Corporation Ethernet Controller XL710 for 40GbE QSFP+ 40 Mbps

Aggregate Results by Test Suite
+----------------------+--------+
|      Test Suite      | Result |
+======================+========+
| TestBlocklist        |  PASS  |
+----------------------+--------+
| TestMacFilter        |  PASS  |
+----------------------+--------+
| TestDynamicConfig    |  PASS  |
+----------------------+--------+
| TestDynamicQueueConf |  PASS  |
+----------------------+--------+
| TestPMDBufferScatter |  PASS  |
+----------------------+--------+
| TestPromiscSupport   |  PASS  |
+----------------------+--------+
| TestUniPkt           |  PASS  |
+----------------------+--------+


Ubuntu 20.04
Kernel: 5.4.0-122-generic
Compiler: gcc 9.4.0
NIC: Intel Corporation Ethernet Converged Network Adapter XL710-QDA2 40000 Mbps

Aggregate Results by Test Suite
+-----------------------------+--------+
|         Test Suite          | Result |
+=============================+========+
| unit_tests_mbuf             |  PASS  |
+-----------------------------+--------+
| vhost_virtio_user_interrupt |  PASS  |
+-----------------------------+--------+
| virtio_smoke                |  PASS  |
+-----------------------------+--------+


To view detailed results, visit:
https://lab.dpdk.org/results/dashboard/patchsets/33226/

UNH-IOL DPDK Community Lab

To manage your email subscriptions, visit: 
https://lab.dpdk.org/results/dashboard/preferences/subscriptions/

^ permalink raw reply	[flat|nested] 26+ messages in thread

* |SUCCESS| pw153576-153578 [PATCH] [v2,3/3] dts: add flow validation
       [not found] <20250521192629.294265-3-dmarx@iol.unh.edu>
                   ` (4 preceding siblings ...)
  2025-05-21 20:14 ` dpdklab
@ 2025-05-21 20:19 ` dpdklab
  2025-05-21 20:21 ` dpdklab
                   ` (19 subsequent siblings)
  25 siblings, 0 replies; 26+ messages in thread
From: dpdklab @ 2025-05-21 20:19 UTC (permalink / raw)
  To: Test Report; +Cc: dpdk-test-reports

Test-Label: iol-intel-Functional
Test-Status: SUCCESS
http://dpdk.org/patch/153578

_Functional Testing PASS_

Submitter: Dean Marx <dmarx@iol.unh.edu>
Date: Wednesday, May 21 2025 19:26:29 
DPDK git baseline: Repo:dpdk
  Branch: master
  CommitID:1aef42bc97a31906486c9d66b792208948af06f3

153576-153578 --> functional testing pass

Upstream job id: Template-DTS-Pipeline#227047

Test environment and result as below:

Ubuntu 24.04 LTS
Kernel: 6.8.0-44-generic
Compiler: gcc 13.2.0
NIC: Intel Corporation Ethernet Controller XL710 for 40GbE QSFP+ 40 Mbps

Aggregate Results by Test Suite
+----------------------+--------+
|      Test Suite      | Result |
+======================+========+
| TestBlocklist        |  PASS  |
+----------------------+--------+
| TestMacFilter        |  PASS  |
+----------------------+--------+
| TestDynamicConfig    |  PASS  |
+----------------------+--------+
| TestDynamicQueueConf |  PASS  |
+----------------------+--------+
| TestPMDBufferScatter |  PASS  |
+----------------------+--------+
| TestPromiscSupport   |  PASS  |
+----------------------+--------+
| TestUniPkt           |  PASS  |
+----------------------+--------+


Ubuntu 20.04
Kernel: 5.4.0-122-generic
Compiler: gcc 9.4.0
NIC: Intel Corporation Ethernet Converged Network Adapter XL710-QDA2 40000 Mbps

Aggregate Results by Test Suite
+-----------------------------+--------+
|         Test Suite          | Result |
+=============================+========+
| unit_tests_mbuf             |  PASS  |
+-----------------------------+--------+
| vhost_virtio_user_interrupt |  PASS  |
+-----------------------------+--------+
| virtio_smoke                |  PASS  |
+-----------------------------+--------+


Ubuntu 22.04
Kernel: 5.15.0-131-generic
Compiler: gcc (Ubuntu 11.4.0-1ubuntu1~22.04) 11.4.0
NIC: Intel Corporation Ethernet Converged Network Adapter 82599ES 10000 Mbps

Aggregate Results by Test Suite
+-----------------------------+--------+
|         Test Suite          | Result |
+=============================+========+
| unit_tests_mbuf             |  PASS  |
+-----------------------------+--------+
| vhost_virtio_user_interrupt |  PASS  |
+-----------------------------+--------+
| virtio_smoke                |  PASS  |
+-----------------------------+--------+


To view detailed results, visit:
https://lab.dpdk.org/results/dashboard/patchsets/33226/

UNH-IOL DPDK Community Lab

To manage your email subscriptions, visit: 
https://lab.dpdk.org/results/dashboard/preferences/subscriptions/

^ permalink raw reply	[flat|nested] 26+ messages in thread

* |SUCCESS| pw153576-153578 [PATCH] [v2,3/3] dts: add flow validation
       [not found] <20250521192629.294265-3-dmarx@iol.unh.edu>
                   ` (5 preceding siblings ...)
  2025-05-21 20:19 ` dpdklab
@ 2025-05-21 20:21 ` dpdklab
  2025-05-21 20:23 ` dpdklab
                   ` (18 subsequent siblings)
  25 siblings, 0 replies; 26+ messages in thread
From: dpdklab @ 2025-05-21 20:21 UTC (permalink / raw)
  To: Test Report; +Cc: dpdk-test-reports

Test-Label: iol-intel-Functional
Test-Status: SUCCESS
http://dpdk.org/patch/153578

_Functional Testing PASS_

Submitter: Dean Marx <dmarx@iol.unh.edu>
Date: Wednesday, May 21 2025 19:26:29 
DPDK git baseline: Repo:dpdk
  Branch: master
  CommitID:1aef42bc97a31906486c9d66b792208948af06f3

153576-153578 --> functional testing pass

Upstream job id: Template-DTS-Pipeline#227049

Test environment and result as below:

Ubuntu 24.04 LTS
Kernel: 6.8.0-44-generic
Compiler: gcc 13.2.0
NIC: Intel Corporation Ethernet Controller XL710 for 40GbE QSFP+ 40 Mbps

Aggregate Results by Test Suite
+----------------------+--------+
|      Test Suite      | Result |
+======================+========+
| TestBlocklist        |  PASS  |
+----------------------+--------+
| TestMacFilter        |  PASS  |
+----------------------+--------+
| TestDynamicConfig    |  PASS  |
+----------------------+--------+
| TestDynamicQueueConf |  PASS  |
+----------------------+--------+
| TestPMDBufferScatter |  PASS  |
+----------------------+--------+
| TestPromiscSupport   |  PASS  |
+----------------------+--------+
| TestUniPkt           |  PASS  |
+----------------------+--------+


Ubuntu 20.04
Kernel: 5.4.0-122-generic
Compiler: gcc 9.4.0
NIC: Intel Corporation Ethernet Converged Network Adapter XL710-QDA2 40000 Mbps

Aggregate Results by Test Suite
+-----------------------------+--------+
|         Test Suite          | Result |
+=============================+========+
| unit_tests_mbuf             |  PASS  |
+-----------------------------+--------+
| vhost_virtio_user_interrupt |  PASS  |
+-----------------------------+--------+
| virtio_smoke                |  PASS  |
+-----------------------------+--------+


Ubuntu 22.04
Kernel: 5.15.0-131-generic
Compiler: gcc (Ubuntu 11.4.0-1ubuntu1~22.04) 11.4.0
NIC: Intel Corporation Ethernet Converged Network Adapter 82599ES 10000 Mbps

Aggregate Results by Test Suite
+-----------------------------+--------+
|         Test Suite          | Result |
+=============================+========+
| unit_tests_mbuf             |  PASS  |
+-----------------------------+--------+
| vhost_virtio_user_interrupt |  PASS  |
+-----------------------------+--------+
| virtio_smoke                |  PASS  |
+-----------------------------+--------+


Arm Ampere Altra - Ubuntu 22.04
Kernel: 5.15.83+
Compiler: gcc 11.4
NIC: Intel Corporation QAT 8970 0 Mbps

Aggregate Results by Test Suite
+----------------------------+--------+
|         Test Suite         | Result |
+============================+========+
| crypto_perf_cryptodev_perf |  PASS  |
+----------------------------+--------+


To view detailed results, visit:
https://lab.dpdk.org/results/dashboard/patchsets/33226/

UNH-IOL DPDK Community Lab

To manage your email subscriptions, visit: 
https://lab.dpdk.org/results/dashboard/preferences/subscriptions/

^ permalink raw reply	[flat|nested] 26+ messages in thread

* |SUCCESS| pw153576-153578 [PATCH] [v2,3/3] dts: add flow validation
       [not found] <20250521192629.294265-3-dmarx@iol.unh.edu>
                   ` (6 preceding siblings ...)
  2025-05-21 20:21 ` dpdklab
@ 2025-05-21 20:23 ` dpdklab
  2025-05-21 20:26 ` dpdklab
                   ` (17 subsequent siblings)
  25 siblings, 0 replies; 26+ messages in thread
From: dpdklab @ 2025-05-21 20:23 UTC (permalink / raw)
  To: Test Report; +Cc: dpdk-test-reports

Test-Label: iol-intel-Functional
Test-Status: SUCCESS
http://dpdk.org/patch/153578

_Functional Testing PASS_

Submitter: Dean Marx <dmarx@iol.unh.edu>
Date: Wednesday, May 21 2025 19:26:29 
DPDK git baseline: Repo:dpdk
  Branch: master
  CommitID:1aef42bc97a31906486c9d66b792208948af06f3

153576-153578 --> functional testing pass

Upstream job id: Template-DTS-Pipeline#227053

Test environment and result as below:

Ubuntu 24.04 LTS
Kernel: 6.8.0-44-generic
Compiler: gcc 13.2.0
NIC: Intel Corporation Ethernet Controller XL710 for 40GbE QSFP+ 40 Mbps

Aggregate Results by Test Suite
+----------------------+--------+
|      Test Suite      | Result |
+======================+========+
| TestBlocklist        |  PASS  |
+----------------------+--------+
| TestMacFilter        |  PASS  |
+----------------------+--------+
| TestDynamicConfig    |  PASS  |
+----------------------+--------+
| TestDynamicQueueConf |  PASS  |
+----------------------+--------+
| TestPMDBufferScatter |  PASS  |
+----------------------+--------+
| TestPromiscSupport   |  PASS  |
+----------------------+--------+
| TestUniPkt           |  PASS  |
+----------------------+--------+


Ubuntu 20.04
Kernel: 5.4.0-122-generic
Compiler: gcc 9.4.0
NIC: Intel Corporation Ethernet Converged Network Adapter XL710-QDA2 40000 Mbps

Aggregate Results by Test Suite
+-----------------------------+--------+
|         Test Suite          | Result |
+=============================+========+
| unit_tests_mbuf             |  PASS  |
+-----------------------------+--------+
| vhost_virtio_user_interrupt |  PASS  |
+-----------------------------+--------+
| virtio_smoke                |  PASS  |
+-----------------------------+--------+


Ubuntu 22.04
Kernel: 5.15.0-131-generic
Compiler: gcc (Ubuntu 11.4.0-1ubuntu1~22.04) 11.4.0
NIC: Intel Corporation Ethernet Converged Network Adapter 82599ES 10000 Mbps

Aggregate Results by Test Suite
+-----------------------------+--------+
|         Test Suite          | Result |
+=============================+========+
| unit_tests_mbuf             |  PASS  |
+-----------------------------+--------+
| vhost_virtio_user_interrupt |  PASS  |
+-----------------------------+--------+
| virtio_smoke                |  PASS  |
+-----------------------------+--------+


Arm Ampere Altra - Ubuntu 22.04
Kernel: 5.15.83+
Compiler: gcc 11.4
NIC: Intel Corporation QAT 8970 0 Mbps

Aggregate Results by Test Suite
+----------------------------+--------+
|         Test Suite         | Result |
+============================+========+
| crypto_perf_cryptodev_perf |  PASS  |
+----------------------------+--------+


Ubuntu 24.04 LTS
Kernel: 6.8.0-55-generic
Compiler: gcc 13.3.0
NIC: Intel Corporation 4xxx Series QAT 0 Mbps

Aggregate Results by Test Suite
+----------------------------+--------+
|         Test Suite         | Result |
+============================+========+
| crypto_perf_cryptodev_perf |  PASS  |
+----------------------------+--------+


To view detailed results, visit:
https://lab.dpdk.org/results/dashboard/patchsets/33226/

UNH-IOL DPDK Community Lab

To manage your email subscriptions, visit: 
https://lab.dpdk.org/results/dashboard/preferences/subscriptions/

^ permalink raw reply	[flat|nested] 26+ messages in thread

* |SUCCESS| pw153576-153578 [PATCH] [v2,3/3] dts: add flow validation
       [not found] <20250521192629.294265-3-dmarx@iol.unh.edu>
                   ` (7 preceding siblings ...)
  2025-05-21 20:23 ` dpdklab
@ 2025-05-21 20:26 ` dpdklab
  2025-05-21 20:34 ` dpdklab
                   ` (16 subsequent siblings)
  25 siblings, 0 replies; 26+ messages in thread
From: dpdklab @ 2025-05-21 20:26 UTC (permalink / raw)
  To: Test Report, Ali Alnubani; +Cc: dpdk-test-reports

Test-Label: iol-mellanox-Performance
Test-Status: SUCCESS
http://dpdk.org/patch/153578

_Performance Testing PASS_

Submitter: Dean Marx <dmarx@iol.unh.edu>
Date: Wednesday, May 21 2025 19:26:29 
DPDK git baseline: Repo:dpdk
  Branch: master
  CommitID:1aef42bc97a31906486c9d66b792208948af06f3

153576-153578 --> performance testing pass

Upstream job id: Template-DTS-Pipeline#227038

Test environment and result as below:

Ubuntu 24.04
Kernel: 6.8.0-45-generic
Compiler: gcc 13.2.0
NIC: Mellanox ConnectX-6 Lx 25000 Mbps
Fail/Total: 0/6

Detail performance results: 
+------------+---------+----------+-------------+------------------------------+
| frame_size | txd/rxd | num_cpus | num_threads |  throughput difference from  |
|            |         |          |             |           expected           |
+============+=========+==========+=============+==============================+
| 64         | 1024    | 1        | 1           | -0.1%                        |
+------------+---------+----------+-------------+------------------------------+
| 128        | 1024    | 1        | 1           | 0.2%                         |
+------------+---------+----------+-------------+------------------------------+
| 256        | 1024    | 1        | 1           | 0.2%                         |
+------------+---------+----------+-------------+------------------------------+
| 512        | 1024    | 1        | 1           | 0.1%                         |
+------------+---------+----------+-------------+------------------------------+
| 1024       | 1024    | 1        | 1           | 0.1%                         |
+------------+---------+----------+-------------+------------------------------+
| 1518       | 1024    | 1        | 1           | 0.1%                         |
+------------+---------+----------+-------------+------------------------------+

Ubuntu 24.04
Kernel: 6.8.0-45-generic
Compiler: gcc 13.2.0
NIC: NVIDIA Mellanox ConnectX-7 100000 Mbps
Fail/Total: 0/6

Detail performance results: 
+------------+---------+----------+-------------+------------------------------+
| frame_size | txd/rxd | num_cpus | num_threads |  throughput difference from  |
|            |         |          |             |           expected           |
+============+=========+==========+=============+==============================+
| 64         | 1024    | 1        | 1           | -0.3%                        |
+------------+---------+----------+-------------+------------------------------+
| 128        | 1024    | 1        | 1           | 0.3%                         |
+------------+---------+----------+-------------+------------------------------+
| 256        | 1024    | 1        | 1           | 0.8%                         |
+------------+---------+----------+-------------+------------------------------+
| 512        | 1024    | 1        | 1           | 0.1%                         |
+------------+---------+----------+-------------+------------------------------+
| 1024       | 1024    | 1        | 1           | 0.1%                         |
+------------+---------+----------+-------------+------------------------------+
| 1518       | 1024    | 1        | 1           | 0.0%                         |
+------------+---------+----------+-------------+------------------------------+

To view detailed results, visit:
https://lab.dpdk.org/results/dashboard/patchsets/33226/

UNH-IOL DPDK Community Lab

To manage your email subscriptions, visit: 
https://lab.dpdk.org/results/dashboard/preferences/subscriptions/

^ permalink raw reply	[flat|nested] 26+ messages in thread

* |SUCCESS| pw153576-153578 [PATCH] [v2,3/3] dts: add flow validation
       [not found] <20250521192629.294265-3-dmarx@iol.unh.edu>
                   ` (8 preceding siblings ...)
  2025-05-21 20:26 ` dpdklab
@ 2025-05-21 20:34 ` dpdklab
  2025-05-21 20:43 ` |SUCCESS| pw153578 [PATCH v2 3/3] " 0-day Robot
                   ` (15 subsequent siblings)
  25 siblings, 0 replies; 26+ messages in thread
From: dpdklab @ 2025-05-21 20:34 UTC (permalink / raw)
  To: Test Report; +Cc: dpdk-test-reports

Test-Label: iol-broadcom-Performance
Test-Status: SUCCESS
http://dpdk.org/patch/153578

_Performance Testing PASS_

Submitter: Dean Marx <dmarx@iol.unh.edu>
Date: Wednesday, May 21 2025 19:26:29 
DPDK git baseline: Repo:dpdk
  Branch: master
  CommitID:1aef42bc97a31906486c9d66b792208948af06f3

153576-153578 --> performance testing pass

Upstream job id: Template-DTS-Pipeline#227044

Test environment and result as below:

Ubuntu 22.04
Kernel: 5.15.0-100-generic
Compiler: gcc (Ubuntu 11.4.0-1ubuntu1~22.04) 11.4.0
NIC: Broadcom Inc. and subsidiaries BCM57414 NetXtreme-E 10Gb/25Gb RDMA Ethernet Controller 16d7 25 Mbps
Fail/Total: 0/3

Detail performance results: 
+------------+---------+----------+-------------+------------------------------+
| frame_size | txd/rxd | num_cpus | num_threads |  throughput difference from  |
|            |         |          |             |           expected           |
+============+=========+==========+=============+==============================+
| 64         | 128     | 1        | 1           | -0.3%                        |
+------------+---------+----------+-------------+------------------------------+
| 64         | 512     | 1        | 1           | -0.3%                        |
+------------+---------+----------+-------------+------------------------------+
| 64         | 2048    | 1        | 1           | 2.5%                         |
+------------+---------+----------+-------------+------------------------------+

Ubuntu 22.04 ARM
Kernel: 5.15.83+
Compiler: gcc 11.4.0
NIC: Arm Broadcom Inc. brcm_57414 25000 Mbps
Fail/Total: 0/2

Detail performance results: 
+------------+---------+----------+-------------+------------------------------+
| frame_size | txd/rxd | num_cpus | num_threads |  throughput difference from  |
|            |         |          |             |           expected           |
+============+=========+==========+=============+==============================+
| 64         | 512     | 1        | 1           | 0.0%                         |
+------------+---------+----------+-------------+------------------------------+
| 64         | 2048    | 1        | 1           | 0.0%                         |
+------------+---------+----------+-------------+------------------------------+

To view detailed results, visit:
https://lab.dpdk.org/results/dashboard/patchsets/33226/

UNH-IOL DPDK Community Lab

To manage your email subscriptions, visit: 
https://lab.dpdk.org/results/dashboard/preferences/subscriptions/

^ permalink raw reply	[flat|nested] 26+ messages in thread

* |SUCCESS| pw153578 [PATCH v2 3/3] dts: add flow validation
       [not found] <20250521192629.294265-3-dmarx@iol.unh.edu>
                   ` (9 preceding siblings ...)
  2025-05-21 20:34 ` dpdklab
@ 2025-05-21 20:43 ` 0-day Robot
  2025-05-21 20:44 ` |SUCCESS| pw153576-153578 [PATCH] [v2,3/3] " dpdklab
                   ` (14 subsequent siblings)
  25 siblings, 0 replies; 26+ messages in thread
From: 0-day Robot @ 2025-05-21 20:43 UTC (permalink / raw)
  To: test-report; +Cc: robot

From: robot@bytheb.org

Test-Label: github-robot: build
Test-Status: SUCCESS
http://patchwork.dpdk.org/patch/153578/

_github build: passed_
Build URL: https://github.com/ovsrobot/dpdk/actions/runs/15171221903

^ permalink raw reply	[flat|nested] 26+ messages in thread

* |SUCCESS| pw153576-153578 [PATCH] [v2,3/3] dts: add flow validation
       [not found] <20250521192629.294265-3-dmarx@iol.unh.edu>
                   ` (10 preceding siblings ...)
  2025-05-21 20:43 ` |SUCCESS| pw153578 [PATCH v2 3/3] " 0-day Robot
@ 2025-05-21 20:44 ` dpdklab
  2025-05-21 20:48 ` dpdklab
                   ` (13 subsequent siblings)
  25 siblings, 0 replies; 26+ messages in thread
From: dpdklab @ 2025-05-21 20:44 UTC (permalink / raw)
  To: Test Report; +Cc: dpdk-test-reports

Test-Label: iol-intel-Performance
Test-Status: SUCCESS
http://dpdk.org/patch/153578

_Performance Testing PASS_

Submitter: Dean Marx <dmarx@iol.unh.edu>
Date: Wednesday, May 21 2025 19:26:29 
DPDK git baseline: Repo:dpdk
  Branch: master
  CommitID:1aef42bc97a31906486c9d66b792208948af06f3

153576-153578 --> performance testing pass

Upstream job id: Template-DTS-Pipeline#227042

Test environment and result as below:

22.04
Kernel: 5.15.0-94-generic
Compiler: gcc 11.4.0
NIC: Intel E810 100000 Mbps
Fail/Total: 0/2

Detail performance results: 
+------------+---------+----------+-------------+------------------------------+
| frame_size | txd/rxd | num_cpus | num_threads |  throughput difference from  |
|            |         |          |             |           expected           |
+============+=========+==========+=============+==============================+
| 64         | 512     | 1        | 1           | 8.1%                         |
+------------+---------+----------+-------------+------------------------------+
| 64         | 2048    | 1        | 1           | 9.7%                         |
+------------+---------+----------+-------------+------------------------------+

Ubuntu 24.04
Kernel: 6.8.0-52-generic
Compiler: gcc 13.3.0
NIC: Intel E810 (Arm Grace Server) 100000 Mbps
Fail/Total: 0/2

Detail performance results: 
+------------+---------+----------+-------------+------------------------------+
| frame_size | txd/rxd | num_cpus | num_threads |  throughput difference from  |
|            |         |          |             |           expected           |
+============+=========+==========+=============+==============================+
| 64         | 512     | 1        | 1           | 1.4%                         |
+------------+---------+----------+-------------+------------------------------+
| 64         | 2048    | 1        | 1           | -0.3%                        |
+------------+---------+----------+-------------+------------------------------+

Ubuntu 20.04
Kernel: 5.4.0-122-generic
Compiler: gcc 9.4.0
NIC: Intel Corporation Ethernet Converged Network Adapter XL710-QDA2 40000 Mbps
Fail/Total: 0/4

Detail performance results: 
+----------+-------------+---------+------------+------------------------------+
| num_cpus | num_threads | txd/rxd | frame_size |  throughput difference from  |
|          |             |         |            |           expected           |
+==========+=============+=========+============+==============================+
| 1        | 2           | 512     | 64         | -0.5%                        |
+----------+-------------+---------+------------+------------------------------+
| 1        | 2           | 2048    | 64         | -1.2%                        |
+----------+-------------+---------+------------+------------------------------+
| 1        | 1           | 512     | 64         | -1.5%                        |
+----------+-------------+---------+------------+------------------------------+
| 1        | 1           | 2048    | 64         | 0.4%                         |
+----------+-------------+---------+------------+------------------------------+

Ubuntu 22.04
Kernel: 5.15.0-131-generic
Compiler: gcc (Ubuntu 11.4.0-1ubuntu1~22.04) 11.4.0
NIC: Intel Corporation Ethernet Converged Network Adapter 82599ES 10000 Mbps
Fail/Total: 0/6

Detail performance results: 
+----------+-------------+---------+------------+------------------------------+
| num_cpus | num_threads | txd/rxd | frame_size |  throughput difference from  |
|          |             |         |            |           expected           |
+==========+=============+=========+============+==============================+
| 1        | 2           | 128     | 64         | 0.0%                         |
+----------+-------------+---------+------------+------------------------------+
| 1        | 2           | 512     | 64         | -0.0%                        |
+----------+-------------+---------+------------+------------------------------+
| 1        | 2           | 2048    | 64         | -0.3%                        |
+----------+-------------+---------+------------+------------------------------+
| 1        | 1           | 128     | 64         | -0.0%                        |
+----------+-------------+---------+------------+------------------------------+
| 1        | 1           | 512     | 64         | -0.2%                        |
+----------+-------------+---------+------------+------------------------------+
| 1        | 1           | 2048    | 64         | 0.0%                         |
+----------+-------------+---------+------------+------------------------------+

To view detailed results, visit:
https://lab.dpdk.org/results/dashboard/patchsets/33226/

UNH-IOL DPDK Community Lab

To manage your email subscriptions, visit: 
https://lab.dpdk.org/results/dashboard/preferences/subscriptions/

^ permalink raw reply	[flat|nested] 26+ messages in thread

* |SUCCESS| pw153576-153578 [PATCH] [v2,3/3] dts: add flow validation
       [not found] <20250521192629.294265-3-dmarx@iol.unh.edu>
                   ` (11 preceding siblings ...)
  2025-05-21 20:44 ` |SUCCESS| pw153576-153578 [PATCH] [v2,3/3] " dpdklab
@ 2025-05-21 20:48 ` dpdklab
  2025-05-21 21:01 ` |PENDING| " dpdklab
                   ` (12 subsequent siblings)
  25 siblings, 0 replies; 26+ messages in thread
From: dpdklab @ 2025-05-21 20:48 UTC (permalink / raw)
  To: Test Report; +Cc: dpdk-test-reports

Test-Label: iol-sample-apps-testing
Test-Status: SUCCESS
http://dpdk.org/patch/153578

_Testing PASS_

Submitter: Dean Marx <dmarx@iol.unh.edu>
Date: Wednesday, May 21 2025 19:26:29 
DPDK git baseline: Repo:dpdk
  Branch: master
  CommitID:1aef42bc97a31906486c9d66b792208948af06f3

153576-153578 --> testing pass

Upstream job id: Template-DTS-Pipeline#227051

Test environment and result as below:

+--------------+----------------------+
| Environment  | compressdev_zlib_pmd |
+==============+======================+
| Ubuntu 22.04 | PASS                 |
+--------------+----------------------+


Ubuntu 22.04
	Kernel: 5.15.0-100-generic
	Compiler: gcc gcc (Ubuntu 11.4.0-1ubuntu1~22.04) 11.4.0

To view detailed results, visit:
https://lab.dpdk.org/results/dashboard/patchsets/33226/

UNH-IOL DPDK Community Lab

To manage your email subscriptions, visit: 
https://lab.dpdk.org/results/dashboard/preferences/subscriptions/

^ permalink raw reply	[flat|nested] 26+ messages in thread

* |PENDING| pw153576-153578 [PATCH] [v2,3/3] dts: add flow validation
       [not found] <20250521192629.294265-3-dmarx@iol.unh.edu>
                   ` (12 preceding siblings ...)
  2025-05-21 20:48 ` dpdklab
@ 2025-05-21 21:01 ` dpdklab
  2025-05-21 21:15 ` |SUCCESS| " dpdklab
                   ` (11 subsequent siblings)
  25 siblings, 0 replies; 26+ messages in thread
From: dpdklab @ 2025-05-21 21:01 UTC (permalink / raw)
  To: Test Report; +Cc: dpdk-test-reports

Test-Label: iol-compile-amd64-testing
Test-Status: PENDING
http://dpdk.org/patch/153578

_Testing pending_

Submitter: Dean Marx <dmarx@iol.unh.edu>
Date: Wednesday, May 21 2025 19:26:29 
DPDK git baseline: Repo:dpdk
  Branch: master
  CommitID:1aef42bc97a31906486c9d66b792208948af06f3

153576-153578 --> testing pending

Upstream job id: Generic-VM-DPDK-Compile-Meson#35640

Test environment and result as below:

+---------------------+-------------------------+--------------------+-------------------+
|     Environment     | dpdk_llvm_clang_compile | dpdk_meson_compile | dpdk_msvc_compile |
+=====================+=========================+====================+===================+
| Windows Server 2022 | PEND                    | SKIPPED            | PEND              |
+---------------------+-------------------------+--------------------+-------------------+
| Ubuntu 20.04        | SKIPPED                 | PASS               | SKIPPED           |
+---------------------+-------------------------+--------------------+-------------------+


Windows Server 2022
	Kernel: 10.0.20348.2031
	Compiler: clang 15.0.7, gcc 14.1.0 (MinGW), and MSVC VS 19.39.33521

Ubuntu 20.04
	Kernel: 4.19.325-0419325-generic
	Compiler: gcc (Ubuntu 9.4.0-1ubuntu1~20.04.2) 9.4.0

To view detailed results, visit:
https://lab.dpdk.org/results/dashboard/patchsets/33226/

UNH-IOL DPDK Community Lab

To manage your email subscriptions, visit: 
https://lab.dpdk.org/results/dashboard/preferences/subscriptions/

^ permalink raw reply	[flat|nested] 26+ messages in thread

* |SUCCESS| pw153576-153578 [PATCH] [v2,3/3] dts: add flow validation
       [not found] <20250521192629.294265-3-dmarx@iol.unh.edu>
                   ` (13 preceding siblings ...)
  2025-05-21 21:01 ` |PENDING| " dpdklab
@ 2025-05-21 21:15 ` dpdklab
  2025-05-21 21:19 ` |PENDING| " dpdklab
                   ` (10 subsequent siblings)
  25 siblings, 0 replies; 26+ messages in thread
From: dpdklab @ 2025-05-21 21:15 UTC (permalink / raw)
  To: Test Report; +Cc: dpdk-test-reports

Test-Label: iol-compile-amd64-testing
Test-Status: SUCCESS
http://dpdk.org/patch/153578

_Testing PASS_

Submitter: Dean Marx <dmarx@iol.unh.edu>
Date: Wednesday, May 21 2025 19:26:29 
DPDK git baseline: Repo:dpdk
  Branch: master
  CommitID:1aef42bc97a31906486c9d66b792208948af06f3

153576-153578 --> testing pass

Upstream job id: Generic-VM-DPDK-Compile-Meson#35642

Test environment and result as below:

+---------------------+-------------------------+--------------------+-------------------+
|     Environment     | dpdk_llvm_clang_compile | dpdk_meson_compile | dpdk_msvc_compile |
+=====================+=========================+====================+===================+
| Windows Server 2022 | PASS                    | SKIPPED            | PASS              |
+---------------------+-------------------------+--------------------+-------------------+
| Ubuntu 20.04        | SKIPPED                 | PASS               | SKIPPED           |
+---------------------+-------------------------+--------------------+-------------------+
| FreeBSD 14.2        | SKIPPED                 | PASS               | SKIPPED           |
+---------------------+-------------------------+--------------------+-------------------+


Windows Server 2022
	Kernel: 10.0.20348.2031
	Compiler: clang 15.0.7, gcc 14.1.0 (MinGW), and MSVC VS 19.39.33521

Ubuntu 20.04
	Kernel: 4.19.325-0419325-generic
	Compiler: gcc (Ubuntu 9.4.0-1ubuntu1~20.04.2) 9.4.0

FreeBSD 14.2
	Kernel: 14.2-RELEASE
	Compiler: clang 18.1.6

To view detailed results, visit:
https://lab.dpdk.org/results/dashboard/patchsets/33226/

UNH-IOL DPDK Community Lab

To manage your email subscriptions, visit: 
https://lab.dpdk.org/results/dashboard/preferences/subscriptions/

^ permalink raw reply	[flat|nested] 26+ messages in thread

* |PENDING| pw153576-153578 [PATCH] [v2,3/3] dts: add flow validation
       [not found] <20250521192629.294265-3-dmarx@iol.unh.edu>
                   ` (14 preceding siblings ...)
  2025-05-21 21:15 ` |SUCCESS| " dpdklab
@ 2025-05-21 21:19 ` dpdklab
  2025-05-21 21:48 ` dpdklab
                   ` (9 subsequent siblings)
  25 siblings, 0 replies; 26+ messages in thread
From: dpdklab @ 2025-05-21 21:19 UTC (permalink / raw)
  To: Test Report; +Cc: dpdk-test-reports

Test-Label: iol-unit-amd64-testing
Test-Status: PENDING
http://dpdk.org/patch/153578

_Testing pending_

Submitter: Dean Marx <dmarx@iol.unh.edu>
Date: Wednesday, May 21 2025 19:26:29 
DPDK git baseline: Repo:dpdk
  Branch: master
  CommitID:1aef42bc97a31906486c9d66b792208948af06f3

153576-153578 --> testing pending

Upstream job id: Generic-VM-Unit-Test-DPDK#28673

Test environment and result as below:

+---------------------+----------------+
|     Environment     | dpdk_unit_test |
+=====================+================+
| CentOS Stream 9     | PEND           |
+---------------------+----------------+
| Fedora 40 (Clang)   | PEND           |
+---------------------+----------------+
| Debian 12           | PEND           |
+---------------------+----------------+
| Fedora 40           | PEND           |
+---------------------+----------------+
| CentOS Stream 10    | PEND           |
+---------------------+----------------+
| Fedora 41           | PEND           |
+---------------------+----------------+
| Ubuntu 20.04        | PEND           |
+---------------------+----------------+
| RHEL9               | PEND           |
+---------------------+----------------+
| RHEL8               | PEND           |
+---------------------+----------------+
| Fedora 41 (Clang)   | PEND           |
+---------------------+----------------+
| Ubuntu 24.04        | PEND           |
+---------------------+----------------+
| Ubuntu 22.04        | PEND           |
+---------------------+----------------+
| Windows Server 2022 | PASS           |
+---------------------+----------------+


CentOS Stream 9
	Kernel: Depends on container host
	Compiler: gcc 11.5.0 20240719 (Red Hat 11.5.0-2)

Fedora 40 (Clang)
	Kernel: Depends on container host
	Compiler: clang 18.1.8 (Fedora 18.1.8-1.fc40)

Debian 12
	Kernel: Depends on container host
	Compiler: gcc (Debian 12.2.0-14) 12.2.0

Fedora 40
	Kernel: Depends on container host
	Compiler: gcc 14.2.1 20240912 (Red Hat 14.2.1-3)

CentOS Stream 10
	Kernel: Depends on container host
	Compiler: gcc 14.2.1 20241104 (Red Hat 14.2.1-6)

Fedora 41
	Kernel: Depends on container host
	Compiler: gcc 14.2.1 20240912 (Red Hat 14.2.1-3)

Ubuntu 20.04
	Kernel: Depends on container host
	Compiler: gcc (Ubuntu 9.4.0-1ubuntu1~20.04.2) 9.4.0

RHEL9
	Kernel: Depends on container host
	Compiler: gcc 11.5.0 20240719 (Red Hat 11.5.0-2)

RHEL8
	Kernel: Depends on container host
	Compiler: gcc 8.5.0 20210514 (Red Hat 8.5.0-22)

Fedora 41 (Clang)
	Kernel: Depends on container host
	Compiler: clang 19.1.5 (Fedora 19.1.5-1.fc41)

Ubuntu 24.04
	Kernel: Depends on container host
	Compiler: gcc (Ubuntu 13.3.0-6ubuntu2~24.04) 13.3.0

Ubuntu 22.04
	Kernel: Depends on container host
	Compiler: gcc (Ubuntu 11.4.0-1ubuntu1~22.04) 11.4.0

Windows Server 2022
	Kernel: 10.0.20348.2031
	Compiler: clang 15.0.7, gcc 14.1.0 (MinGW), and MSVC VS 19.39.33521

To view detailed results, visit:
https://lab.dpdk.org/results/dashboard/patchsets/33226/

UNH-IOL DPDK Community Lab

To manage your email subscriptions, visit: 
https://lab.dpdk.org/results/dashboard/preferences/subscriptions/

^ permalink raw reply	[flat|nested] 26+ messages in thread

* |PENDING| pw153576-153578 [PATCH] [v2,3/3] dts: add flow validation
       [not found] <20250521192629.294265-3-dmarx@iol.unh.edu>
                   ` (15 preceding siblings ...)
  2025-05-21 21:19 ` |PENDING| " dpdklab
@ 2025-05-21 21:48 ` dpdklab
  2025-05-21 22:05 ` dpdklab
                   ` (8 subsequent siblings)
  25 siblings, 0 replies; 26+ messages in thread
From: dpdklab @ 2025-05-21 21:48 UTC (permalink / raw)
  To: Test Report; +Cc: dpdk-test-reports

Test-Label: iol-unit-arm64-testing
Test-Status: PENDING
http://dpdk.org/patch/153578

_Testing pending_

Submitter: Dean Marx <dmarx@iol.unh.edu>
Date: Wednesday, May 21 2025 19:26:29 
DPDK git baseline: Repo:dpdk
  Branch: master
  CommitID:1aef42bc97a31906486c9d66b792208948af06f3

153576-153578 --> testing pending

Upstream job id: Aarch32-Unit-Test#6302

Test environment and result as below:

+-----------------------------+------------------------------+---------------------------+--------------+----------------+
|         Environment         | cryptodev_sw_snow3g_autotest | cryptodev_sw_zuc_autotest | lpm_autotest | dpdk_unit_test |
+=============================+==============================+===========================+==============+================+
| Debian 12 (arm)             | PEND                         | PEND                      | SKIPPED      | PEND           |
+-----------------------------+------------------------------+---------------------------+--------------+----------------+
| Ubuntu 20.04 ARM SVE        | SKIPPED                      | SKIPPED                   | PEND         | SKIPPED        |
+-----------------------------+------------------------------+---------------------------+--------------+----------------+
| Fedora 40 (ARM)             | SKIPPED                      | SKIPPED                   | SKIPPED      | PEND           |
+-----------------------------+------------------------------+---------------------------+--------------+----------------+
| CentOS Stream 9 (ARM)       | SKIPPED                      | SKIPPED                   | SKIPPED      | PEND           |
+-----------------------------+------------------------------+---------------------------+--------------+----------------+
| Fedora 40 (ARM Clang)       | SKIPPED                      | SKIPPED                   | SKIPPED      | PEND           |
+-----------------------------+------------------------------+---------------------------+--------------+----------------+
| CentOS Stream 10 (ARM)      | SKIPPED                      | SKIPPED                   | SKIPPED      | PEND           |
+-----------------------------+------------------------------+---------------------------+--------------+----------------+
| Fedora 41 (ARM Clang)       | SKIPPED                      | SKIPPED                   | SKIPPED      | PEND           |
+-----------------------------+------------------------------+---------------------------+--------------+----------------+
| Ubuntu 20.04 (ARM)          | SKIPPED                      | SKIPPED                   | SKIPPED      | PEND           |
+-----------------------------+------------------------------+---------------------------+--------------+----------------+
| Fedora 41 (ARM)             | SKIPPED                      | SKIPPED                   | SKIPPED      | PEND           |
+-----------------------------+------------------------------+---------------------------+--------------+----------------+
| RHEL9 (ARM)                 | SKIPPED                      | SKIPPED                   | SKIPPED      | PEND           |
+-----------------------------+------------------------------+---------------------------+--------------+----------------+
| Ubuntu 24.04 (ARM)          | SKIPPED                      | SKIPPED                   | SKIPPED      | PEND           |
+-----------------------------+------------------------------+---------------------------+--------------+----------------+
| Ubuntu 22.04 (ARM)          | SKIPPED                      | SKIPPED                   | SKIPPED      | PEND           |
+-----------------------------+------------------------------+---------------------------+--------------+----------------+
| 32-bit Ubuntu 22.04.4 (ARM) | SKIPPED                      | SKIPPED                   | SKIPPED      | PASS           |
+-----------------------------+------------------------------+---------------------------+--------------+----------------+


Debian 12 (arm)
	Kernel: Depends on container host
	Compiler: gcc (Debian 12.2.0-14) 12.2.0

Ubuntu 20.04 ARM SVE
	Kernel: Depends on container host
	Compiler: gcc (Ubuntu 10.5.0-1ubuntu1~20.04) 10.5.0

Fedora 40 (ARM)
	Kernel: Depends on container host
	Compiler: gcc 14.2.1 20240912 (Red Hat 14.2.1-3)

CentOS Stream 9 (ARM)
	Kernel: Depends on container host
	Compiler: gcc 11.5.0 20240719 (Red Hat 11.5.0-2)

Fedora 40 (ARM Clang)
	Kernel: Depends on container host
	Compiler: clang 18.1.8 (Fedora 18.1.8-1.fc40)

CentOS Stream 10 (ARM)
	Kernel: Depends on container host
	Compiler: gcc 14.2.1 20241104 (Red Hat 14.2.1-6)

Fedora 41 (ARM Clang)
	Kernel: Depends on container host
	Compiler: clang 19.1.5 (Fedora 19.1.5-1.fc41)

Ubuntu 20.04 (ARM)
	Kernel: Depends on container host
	Compiler: gcc (Ubuntu 9.4.0-1ubuntu1~20.04.2) 9.4.0

Fedora 41 (ARM)
	Kernel: Depends on container host
	Compiler: gcc 14.2.1 20240912 (Red Hat 14.2.1-3)

RHEL9 (ARM)
	Kernel: Depends on container host
	Compiler: gcc 11.5.0 20240719 (Red Hat 11.5.0-2)

Ubuntu 24.04 (ARM)
	Kernel: Depends on container host
	Compiler: gcc (Ubuntu 13.3.0-6ubuntu2~24.04) 13.3.0

Ubuntu 22.04 (ARM)
	Kernel: Depends on container host
	Compiler: gcc (Ubuntu 11.4.0-1ubuntu1~22.04) 11.4.0

32-bit Ubuntu 22.04.4 (ARM)
	Kernel: 5.15.83+ aarch64
	Compiler: gcc (Ubuntu 11.4.0-1ubuntu1~22.04) 11.4.0

To view detailed results, visit:
https://lab.dpdk.org/results/dashboard/patchsets/33226/

UNH-IOL DPDK Community Lab

To manage your email subscriptions, visit: 
https://lab.dpdk.org/results/dashboard/preferences/subscriptions/

^ permalink raw reply	[flat|nested] 26+ messages in thread

* |PENDING| pw153576-153578 [PATCH] [v2,3/3] dts: add flow validation
       [not found] <20250521192629.294265-3-dmarx@iol.unh.edu>
                   ` (16 preceding siblings ...)
  2025-05-21 21:48 ` dpdklab
@ 2025-05-21 22:05 ` dpdklab
  2025-05-21 22:34 ` |SUCCESS| " dpdklab
                   ` (7 subsequent siblings)
  25 siblings, 0 replies; 26+ messages in thread
From: dpdklab @ 2025-05-21 22:05 UTC (permalink / raw)
  To: Test Report; +Cc: dpdk-test-reports

Test-Label: iol-compile-arm64-testing
Test-Status: PENDING
http://dpdk.org/patch/153578

_Testing pending_

Submitter: Dean Marx <dmarx@iol.unh.edu>
Date: Wednesday, May 21 2025 19:26:29 
DPDK git baseline: Repo:dpdk
  Branch: master
  CommitID:1aef42bc97a31906486c9d66b792208948af06f3

153576-153578 --> testing pending

Upstream job id: Generic-DPDK-Compile-Meson#390212

Test environment and result as below:

+----------------------------------------+--------------------+
|              Environment               | dpdk_meson_compile |
+========================================+====================+
| RHEL9 (ARM)                            | PEND               |
+----------------------------------------+--------------------+
| Ubuntu 20.04 ARM GCC Cross Compile     | PEND               |
+----------------------------------------+--------------------+
| Ubuntu 20.04 ARM SVE                   | PASS               |
+----------------------------------------+--------------------+
| Debian 12 with MUSDK                   | PEND               |
+----------------------------------------+--------------------+
| Fedora 40 (ARM)                        | PEND               |
+----------------------------------------+--------------------+
| Fedora 40 (ARM Clang)                  | PEND               |
+----------------------------------------+--------------------+
| Fedora 41 (ARM)                        | PEND               |
+----------------------------------------+--------------------+
| Fedora 41 (ARM Clang)                  | PEND               |
+----------------------------------------+--------------------+
| Ubuntu 20.04 (ARM)                     | PEND               |
+----------------------------------------+--------------------+
| Ubuntu 22.04 (ARM)                     | PEND               |
+----------------------------------------+--------------------+
| Ubuntu 24.04 (ARM)                     | PEND               |
+----------------------------------------+--------------------+
| CentOS Stream 9 (ARM)                  | PEND               |
+----------------------------------------+--------------------+
| CentOS Stream 10 (ARM)                 | PEND               |
+----------------------------------------+--------------------+
| Debian 12 (arm)                        | PEND               |
+----------------------------------------+--------------------+
| Ubuntu 20.04 ARM Clang Cross Compile   | PEND               |
+----------------------------------------+--------------------+
| Ubuntu 20.04 aarch32 GCC Cross Compile | PEND               |
+----------------------------------------+--------------------+


RHEL9 (ARM)
	Kernel: Depends on container host
	Compiler: gcc 11.5.0 20240719 (Red Hat 11.5.0-2)

Ubuntu 20.04 ARM GCC Cross Compile
	Kernel: Depends on container host
	Compiler: aarch64-linux-gnu-gcc (Ubuntu 9.4.0-1ubuntu1~20.04.2) 9.4.0

Ubuntu 20.04 ARM SVE
	Kernel: Depends on container host
	Compiler: gcc (Ubuntu 10.5.0-1ubuntu1~20.04) 10.5.0

Debian 12 with MUSDK
	Kernel: Depends on container host
	Compiler: gcc (Debian 12.2.0-14) 12.2.0

Fedora 40 (ARM)
	Kernel: Depends on container host
	Compiler: gcc 14.2.1 20240912 (Red Hat 14.2.1-3)

Fedora 40 (ARM Clang)
	Kernel: Depends on container host
	Compiler: clang 18.1.8 (Fedora 18.1.8-1.fc40)

Fedora 41 (ARM)
	Kernel: Depends on container host
	Compiler: gcc 14.2.1 20240912 (Red Hat 14.2.1-3)

Fedora 41 (ARM Clang)
	Kernel: Depends on container host
	Compiler: clang 19.1.5 (Fedora 19.1.5-1.fc41)

Ubuntu 20.04 (ARM)
	Kernel: Depends on container host
	Compiler: gcc (Ubuntu 9.4.0-1ubuntu1~20.04.2) 9.4.0

Ubuntu 22.04 (ARM)
	Kernel: Depends on container host
	Compiler: gcc (Ubuntu 11.4.0-1ubuntu1~22.04) 11.4.0

Ubuntu 24.04 (ARM)
	Kernel: Depends on container host
	Compiler: gcc (Ubuntu 13.3.0-6ubuntu2~24.04) 13.3.0

CentOS Stream 9 (ARM)
	Kernel: Depends on container host
	Compiler: gcc 11.5.0 20240719 (Red Hat 11.5.0-2)

CentOS Stream 10 (ARM)
	Kernel: Depends on container host
	Compiler: gcc 14.2.1 20241104 (Red Hat 14.2.1-6)

Debian 12 (arm)
	Kernel: Depends on container host
	Compiler: gcc (Debian 12.2.0-14) 12.2.0

Ubuntu 20.04 ARM Clang Cross Compile
	Kernel: Depends on container host
	Compiler: clang 10.0.0-4ubuntu1

Ubuntu 20.04 aarch32 GCC Cross Compile
	Kernel: Depends on container host
	Compiler: gcc 9.4.0

To view detailed results, visit:
https://lab.dpdk.org/results/dashboard/patchsets/33226/

UNH-IOL DPDK Community Lab

To manage your email subscriptions, visit: 
https://lab.dpdk.org/results/dashboard/preferences/subscriptions/

^ permalink raw reply	[flat|nested] 26+ messages in thread

* |SUCCESS| pw153576-153578 [PATCH] [v2,3/3] dts: add flow validation
       [not found] <20250521192629.294265-3-dmarx@iol.unh.edu>
                   ` (17 preceding siblings ...)
  2025-05-21 22:05 ` dpdklab
@ 2025-05-21 22:34 ` dpdklab
  2025-05-21 22:49 ` |WARNING| " dpdklab
                   ` (6 subsequent siblings)
  25 siblings, 0 replies; 26+ messages in thread
From: dpdklab @ 2025-05-21 22:34 UTC (permalink / raw)
  To: Test Report; +Cc: dpdk-test-reports

Test-Label: iol-abi-testing
Test-Status: SUCCESS
http://dpdk.org/patch/153578

_Testing PASS_

Submitter: Dean Marx <dmarx@iol.unh.edu>
Date: Wednesday, May 21 2025 19:26:29 
DPDK git baseline: Repo:dpdk
  Branch: master
  CommitID:1aef42bc97a31906486c9d66b792208948af06f3

153576-153578 --> testing pass

Upstream job id: Generic-DPDK-Compile-ABI#127251

Test environment and result as below:

+-------------------+----------+
|    Environment    | abi_test |
+===================+==========+
| CentOS Stream 9   | PASS     |
+-------------------+----------+
| CentOS Stream 10  | PASS     |
+-------------------+----------+
| Debian 12         | PASS     |
+-------------------+----------+
| Fedora 40 (Clang) | PASS     |
+-------------------+----------+
| Fedora 40         | PASS     |
+-------------------+----------+
| openSUSE Leap 15  | PASS     |
+-------------------+----------+
| Fedora 41         | PASS     |
+-------------------+----------+
| RHEL8             | PASS     |
+-------------------+----------+
| Ubuntu 22.04      | PASS     |
+-------------------+----------+
| Ubuntu 24.04      | PASS     |
+-------------------+----------+
| RHEL9             | PASS     |
+-------------------+----------+
| Fedora 41 (Clang) | PASS     |
+-------------------+----------+


CentOS Stream 9
	Kernel: Depends on container host
	Compiler: gcc 11.5.0 20240719 (Red Hat 11.5.0-2)

CentOS Stream 10
	Kernel: Depends on container host
	Compiler: gcc 14.2.1 20241104 (Red Hat 14.2.1-6)

Debian 12
	Kernel: Depends on container host
	Compiler: gcc (Debian 12.2.0-14) 12.2.0

Fedora 40 (Clang)
	Kernel: Depends on container host
	Compiler: clang 18.1.8 (Fedora 18.1.8-1.fc40)

Fedora 40
	Kernel: Depends on container host
	Compiler: gcc 14.2.1 20240912 (Red Hat 14.2.1-3)

openSUSE Leap 15
	Kernel: Depends on container host
	Compiler: gcc (SUSE Linux) 7.5.0

Fedora 41
	Kernel: Depends on container host
	Compiler: gcc 14.2.1 20240912 (Red Hat 14.2.1-3)

RHEL8
	Kernel: Depends on container host
	Compiler: gcc 8.5.0 20210514 (Red Hat 8.5.0-22)

Ubuntu 22.04
	Kernel: Depends on container host
	Compiler: gcc (Ubuntu 11.4.0-1ubuntu1~22.04) 11.4.0

Ubuntu 24.04
	Kernel: Depends on container host
	Compiler: gcc (Ubuntu 13.3.0-6ubuntu2~24.04) 13.3.0

RHEL9
	Kernel: Depends on container host
	Compiler: gcc 11.5.0 20240719 (Red Hat 11.5.0-2)

Fedora 41 (Clang)
	Kernel: Depends on container host
	Compiler: clang 19.1.5 (Fedora 19.1.5-1.fc41)

To view detailed results, visit:
https://lab.dpdk.org/results/dashboard/patchsets/33226/

UNH-IOL DPDK Community Lab

To manage your email subscriptions, visit: 
https://lab.dpdk.org/results/dashboard/preferences/subscriptions/

^ permalink raw reply	[flat|nested] 26+ messages in thread

* |WARNING| pw153576-153578 [PATCH] [v2,3/3] dts: add flow validation
       [not found] <20250521192629.294265-3-dmarx@iol.unh.edu>
                   ` (18 preceding siblings ...)
  2025-05-21 22:34 ` |SUCCESS| " dpdklab
@ 2025-05-21 22:49 ` dpdklab
  2025-05-21 22:50 ` dpdklab
                   ` (5 subsequent siblings)
  25 siblings, 0 replies; 26+ messages in thread
From: dpdklab @ 2025-05-21 22:49 UTC (permalink / raw)
  To: Test Report; +Cc: dpdk-test-reports

Test-Label: iol-compile-amd64-testing
Test-Status: WARNING
http://dpdk.org/patch/153578

_Testing issues_

Submitter: Dean Marx <dmarx@iol.unh.edu>
Date: Wednesday, May 21 2025 19:26:29 
DPDK git baseline: Repo:dpdk
  Branch: master
  CommitID:1aef42bc97a31906486c9d66b792208948af06f3

153576-153578 --> testing issues

Upstream job id: Generic-DPDK-Compile-Meson#390227

Test environment and result as below:

+-----------------------------------+-------------------------+--------------------+-------------------+-------------------+------------------+----------------------+
|            Environment            | dpdk_llvm_clang_compile | dpdk_meson_compile | dpdk_msvc_compile | dpdk_compile_spdk | dpdk_compile_ovs | dpdk_mingw64_compile |
+===================================+=========================+====================+===================+===================+==================+======================+
| Windows Server 2022               | PASS                    | SKIPPED            | PASS              | SKIPPED           | SKIPPED          | PASS                 |
+-----------------------------------+-------------------------+--------------------+-------------------+-------------------+------------------+----------------------+
| Ubuntu 20.04                      | SKIPPED                 | PEND               | SKIPPED           | SKIPPED           | SKIPPED          | SKIPPED              |
+-----------------------------------+-------------------------+--------------------+-------------------+-------------------+------------------+----------------------+
| FreeBSD 14.2                      | SKIPPED                 | PASS               | SKIPPED           | SKIPPED           | SKIPPED          | SKIPPED              |
+-----------------------------------+-------------------------+--------------------+-------------------+-------------------+------------------+----------------------+
| CentOS Stream 9                   | SKIPPED                 | PEND               | SKIPPED           | PEND              | SKIPPED          | SKIPPED              |
+-----------------------------------+-------------------------+--------------------+-------------------+-------------------+------------------+----------------------+
| CentOS Stream 10                  | SKIPPED                 | PASS               | SKIPPED           | SKIPPED           | SKIPPED          | SKIPPED              |
+-----------------------------------+-------------------------+--------------------+-------------------+-------------------+------------------+----------------------+
| Debian 12                         | SKIPPED                 | PEND               | SKIPPED           | PEND              | SKIPPED          | SKIPPED              |
+-----------------------------------+-------------------------+--------------------+-------------------+-------------------+------------------+----------------------+
| Fedora 40 (Clang)                 | SKIPPED                 | PASS               | SKIPPED           | WARN              | SKIPPED          | SKIPPED              |
+-----------------------------------+-------------------------+--------------------+-------------------+-------------------+------------------+----------------------+
| Fedora 40                         | SKIPPED                 | PEND               | SKIPPED           | PEND              | SKIPPED          | SKIPPED              |
+-----------------------------------+-------------------------+--------------------+-------------------+-------------------+------------------+----------------------+
| Fedora 41 (Clang)                 | SKIPPED                 | PEND               | SKIPPED           | PEND              | PEND             | SKIPPED              |
+-----------------------------------+-------------------------+--------------------+-------------------+-------------------+------------------+----------------------+
| Fedora 41                         | SKIPPED                 | PEND               | SKIPPED           | PEND              | PEND             | SKIPPED              |
+-----------------------------------+-------------------------+--------------------+-------------------+-------------------+------------------+----------------------+
| openSUSE Leap 15                  | SKIPPED                 | PEND               | SKIPPED           | SKIPPED           | SKIPPED          | SKIPPED              |
+-----------------------------------+-------------------------+--------------------+-------------------+-------------------+------------------+----------------------+
| RHEL8                             | SKIPPED                 | PEND               | SKIPPED           | SKIPPED           | SKIPPED          | SKIPPED              |
+-----------------------------------+-------------------------+--------------------+-------------------+-------------------+------------------+----------------------+
| RHEL9                             | SKIPPED                 | PEND               | SKIPPED           | SKIPPED           | SKIPPED          | SKIPPED              |
+-----------------------------------+-------------------------+--------------------+-------------------+-------------------+------------------+----------------------+
| Ubuntu 22.04                      | SKIPPED                 | PEND               | SKIPPED           | PEND              | SKIPPED          | SKIPPED              |
+-----------------------------------+-------------------------+--------------------+-------------------+-------------------+------------------+----------------------+
| Ubuntu 24.04                      | SKIPPED                 | PEND               | SKIPPED           | PEND              | PEND             | SKIPPED              |
+-----------------------------------+-------------------------+--------------------+-------------------+-------------------+------------------+----------------------+
| Alpine                            | SKIPPED                 | PEND               | SKIPPED           | SKIPPED           | SKIPPED          | SKIPPED              |
+-----------------------------------+-------------------------+--------------------+-------------------+-------------------+------------------+----------------------+
| Ubuntu 24.04 32 Bit Cross Compile | SKIPPED                 | PEND               | SKIPPED           | SKIPPED           | SKIPPED          | SKIPPED              |
+-----------------------------------+-------------------------+--------------------+-------------------+-------------------+------------------+----------------------+

==== 20 line log output for Fedora 40 (Clang) (dpdk_compile_spdk): ====
 --- Failed to get log output --- 
==== End log output ====

Windows Server 2022
	Kernel: 10.0.20348.2031
	Compiler: clang 15.0.7, gcc 14.1.0 (MinGW), and MSVC VS 19.39.33521

Ubuntu 20.04
	Kernel: 4.19.325-0419325-generic
	Compiler: gcc (Ubuntu 9.4.0-1ubuntu1~20.04.2) 9.4.0

FreeBSD 14.2
	Kernel: 14.2-RELEASE
	Compiler: clang 18.1.6

CentOS Stream 9
	Kernel: Depends on container host
	Compiler: gcc 11.5.0 20240719 (Red Hat 11.5.0-2)

CentOS Stream 10
	Kernel: Depends on container host
	Compiler: gcc 14.2.1 20241104 (Red Hat 14.2.1-6)

Debian 12
	Kernel: Depends on container host
	Compiler: gcc (Debian 12.2.0-14) 12.2.0

Fedora 40 (Clang)
	Kernel: Depends on container host
	Compiler: clang 18.1.8 (Fedora 18.1.8-1.fc40)

Fedora 40
	Kernel: Depends on container host
	Compiler: gcc 14.2.1 20240912 (Red Hat 14.2.1-3)

Fedora 41 (Clang)
	Kernel: Depends on container host
	Compiler: clang 19.1.5 (Fedora 19.1.5-1.fc41)

Fedora 41
	Kernel: Depends on container host
	Compiler: gcc 14.2.1 20240912 (Red Hat 14.2.1-3)

openSUSE Leap 15
	Kernel: Depends on container host
	Compiler: gcc (SUSE Linux) 7.5.0

RHEL8
	Kernel: Depends on container host
	Compiler: gcc 8.5.0 20210514 (Red Hat 8.5.0-22)

RHEL9
	Kernel: Depends on container host
	Compiler: gcc 11.5.0 20240719 (Red Hat 11.5.0-2)

Ubuntu 22.04
	Kernel: Depends on container host
	Compiler: gcc (Ubuntu 11.4.0-1ubuntu1~22.04) 11.4.0

Ubuntu 24.04
	Kernel: Depends on container host
	Compiler: gcc (Ubuntu 13.3.0-6ubuntu2~24.04) 13.3.0

Alpine
	Kernel: Depends on container host
	Compiler: gcc (Alpine 14.2.0) 14.2.0

Ubuntu 24.04 32 Bit Cross Compile
	Kernel: Depends on container host
	Compiler: gcc (Ubuntu 13.3.0-6ubuntu2~24.04) 13.3.0

To view detailed results, visit:
https://lab.dpdk.org/results/dashboard/patchsets/33226/

UNH-IOL DPDK Community Lab

To manage your email subscriptions, visit: 
https://lab.dpdk.org/results/dashboard/preferences/subscriptions/

^ permalink raw reply	[flat|nested] 26+ messages in thread

* |WARNING| pw153576-153578 [PATCH] [v2,3/3] dts: add flow validation
       [not found] <20250521192629.294265-3-dmarx@iol.unh.edu>
                   ` (19 preceding siblings ...)
  2025-05-21 22:49 ` |WARNING| " dpdklab
@ 2025-05-21 22:50 ` dpdklab
  2025-05-21 23:09 ` |SUCCESS| " dpdklab
                   ` (4 subsequent siblings)
  25 siblings, 0 replies; 26+ messages in thread
From: dpdklab @ 2025-05-21 22:50 UTC (permalink / raw)
  To: Test Report; +Cc: dpdk-test-reports

Test-Label: iol-compile-amd64-testing
Test-Status: WARNING
http://dpdk.org/patch/153578

_Testing issues_

Submitter: Dean Marx <dmarx@iol.unh.edu>
Date: Wednesday, May 21 2025 19:26:29 
DPDK git baseline: Repo:dpdk
  Branch: master
  CommitID:1aef42bc97a31906486c9d66b792208948af06f3

153576-153578 --> testing issues

Upstream job id: Generic-DPDK-Compile-Meson#390229

Test environment and result as below:

+-----------------------------------+-------------------------+--------------------+-------------------+-------------------+------------------+----------------------+
|            Environment            | dpdk_llvm_clang_compile | dpdk_meson_compile | dpdk_msvc_compile | dpdk_compile_spdk | dpdk_compile_ovs | dpdk_mingw64_compile |
+===================================+=========================+====================+===================+===================+==================+======================+
| Windows Server 2022               | PASS                    | SKIPPED            | PASS              | SKIPPED           | SKIPPED          | PASS                 |
+-----------------------------------+-------------------------+--------------------+-------------------+-------------------+------------------+----------------------+
| Ubuntu 20.04                      | SKIPPED                 | PEND               | SKIPPED           | SKIPPED           | SKIPPED          | SKIPPED              |
+-----------------------------------+-------------------------+--------------------+-------------------+-------------------+------------------+----------------------+
| FreeBSD 14.2                      | SKIPPED                 | PASS               | SKIPPED           | SKIPPED           | SKIPPED          | SKIPPED              |
+-----------------------------------+-------------------------+--------------------+-------------------+-------------------+------------------+----------------------+
| CentOS Stream 9                   | SKIPPED                 | PEND               | SKIPPED           | PEND              | SKIPPED          | SKIPPED              |
+-----------------------------------+-------------------------+--------------------+-------------------+-------------------+------------------+----------------------+
| CentOS Stream 10                  | SKIPPED                 | PASS               | SKIPPED           | SKIPPED           | SKIPPED          | SKIPPED              |
+-----------------------------------+-------------------------+--------------------+-------------------+-------------------+------------------+----------------------+
| Debian 12                         | SKIPPED                 | PEND               | SKIPPED           | PEND              | SKIPPED          | SKIPPED              |
+-----------------------------------+-------------------------+--------------------+-------------------+-------------------+------------------+----------------------+
| Fedora 40 (Clang)                 | SKIPPED                 | PASS               | SKIPPED           | WARN              | SKIPPED          | SKIPPED              |
+-----------------------------------+-------------------------+--------------------+-------------------+-------------------+------------------+----------------------+
| Fedora 40                         | SKIPPED                 | PEND               | SKIPPED           | PEND              | SKIPPED          | SKIPPED              |
+-----------------------------------+-------------------------+--------------------+-------------------+-------------------+------------------+----------------------+
| Fedora 41 (Clang)                 | SKIPPED                 | PEND               | SKIPPED           | PEND              | PEND             | SKIPPED              |
+-----------------------------------+-------------------------+--------------------+-------------------+-------------------+------------------+----------------------+
| Fedora 41                         | SKIPPED                 | PEND               | SKIPPED           | PEND              | PEND             | SKIPPED              |
+-----------------------------------+-------------------------+--------------------+-------------------+-------------------+------------------+----------------------+
| openSUSE Leap 15                  | SKIPPED                 | PEND               | SKIPPED           | SKIPPED           | SKIPPED          | SKIPPED              |
+-----------------------------------+-------------------------+--------------------+-------------------+-------------------+------------------+----------------------+
| RHEL8                             | SKIPPED                 | PEND               | SKIPPED           | SKIPPED           | SKIPPED          | SKIPPED              |
+-----------------------------------+-------------------------+--------------------+-------------------+-------------------+------------------+----------------------+
| RHEL9                             | SKIPPED                 | PEND               | SKIPPED           | SKIPPED           | SKIPPED          | SKIPPED              |
+-----------------------------------+-------------------------+--------------------+-------------------+-------------------+------------------+----------------------+
| Ubuntu 22.04                      | SKIPPED                 | PEND               | SKIPPED           | PEND              | SKIPPED          | SKIPPED              |
+-----------------------------------+-------------------------+--------------------+-------------------+-------------------+------------------+----------------------+
| Ubuntu 24.04                      | SKIPPED                 | PEND               | SKIPPED           | PEND              | PEND             | SKIPPED              |
+-----------------------------------+-------------------------+--------------------+-------------------+-------------------+------------------+----------------------+
| Alpine                            | SKIPPED                 | PEND               | SKIPPED           | SKIPPED           | SKIPPED          | SKIPPED              |
+-----------------------------------+-------------------------+--------------------+-------------------+-------------------+------------------+----------------------+
| Ubuntu 24.04 32 Bit Cross Compile | SKIPPED                 | PEND               | SKIPPED           | SKIPPED           | SKIPPED          | SKIPPED              |
+-----------------------------------+-------------------------+--------------------+-------------------+-------------------+------------------+----------------------+

==== 20 line log output for Fedora 40 (Clang) (dpdk_compile_spdk): ====
 --- Failed to get log output --- 
==== End log output ====

Windows Server 2022
	Kernel: 10.0.20348.2031
	Compiler: clang 15.0.7, gcc 14.1.0 (MinGW), and MSVC VS 19.39.33521

Ubuntu 20.04
	Kernel: 4.19.325-0419325-generic
	Compiler: gcc (Ubuntu 9.4.0-1ubuntu1~20.04.2) 9.4.0

FreeBSD 14.2
	Kernel: 14.2-RELEASE
	Compiler: clang 18.1.6

CentOS Stream 9
	Kernel: Depends on container host
	Compiler: gcc 11.5.0 20240719 (Red Hat 11.5.0-2)

CentOS Stream 10
	Kernel: Depends on container host
	Compiler: gcc 14.2.1 20241104 (Red Hat 14.2.1-6)

Debian 12
	Kernel: Depends on container host
	Compiler: gcc (Debian 12.2.0-14) 12.2.0

Fedora 40 (Clang)
	Kernel: Depends on container host
	Compiler: clang 18.1.8 (Fedora 18.1.8-1.fc40)

Fedora 40
	Kernel: Depends on container host
	Compiler: gcc 14.2.1 20240912 (Red Hat 14.2.1-3)

Fedora 41 (Clang)
	Kernel: Depends on container host
	Compiler: clang 19.1.5 (Fedora 19.1.5-1.fc41)

Fedora 41
	Kernel: Depends on container host
	Compiler: gcc 14.2.1 20240912 (Red Hat 14.2.1-3)

openSUSE Leap 15
	Kernel: Depends on container host
	Compiler: gcc (SUSE Linux) 7.5.0

RHEL8
	Kernel: Depends on container host
	Compiler: gcc 8.5.0 20210514 (Red Hat 8.5.0-22)

RHEL9
	Kernel: Depends on container host
	Compiler: gcc 11.5.0 20240719 (Red Hat 11.5.0-2)

Ubuntu 22.04
	Kernel: Depends on container host
	Compiler: gcc (Ubuntu 11.4.0-1ubuntu1~22.04) 11.4.0

Ubuntu 24.04
	Kernel: Depends on container host
	Compiler: gcc (Ubuntu 13.3.0-6ubuntu2~24.04) 13.3.0

Alpine
	Kernel: Depends on container host
	Compiler: gcc (Alpine 14.2.0) 14.2.0

Ubuntu 24.04 32 Bit Cross Compile
	Kernel: Depends on container host
	Compiler: gcc (Ubuntu 13.3.0-6ubuntu2~24.04) 13.3.0

To view detailed results, visit:
https://lab.dpdk.org/results/dashboard/patchsets/33226/

UNH-IOL DPDK Community Lab

To manage your email subscriptions, visit: 
https://lab.dpdk.org/results/dashboard/preferences/subscriptions/

^ permalink raw reply	[flat|nested] 26+ messages in thread

* |SUCCESS| pw153576-153578 [PATCH] [v2,3/3] dts: add flow validation
       [not found] <20250521192629.294265-3-dmarx@iol.unh.edu>
                   ` (20 preceding siblings ...)
  2025-05-21 22:50 ` dpdklab
@ 2025-05-21 23:09 ` dpdklab
  2025-05-21 23:54 ` |WARNING| " dpdklab
                   ` (3 subsequent siblings)
  25 siblings, 0 replies; 26+ messages in thread
From: dpdklab @ 2025-05-21 23:09 UTC (permalink / raw)
  To: Test Report; +Cc: dpdk-test-reports

Test-Label: iol-unit-amd64-testing
Test-Status: SUCCESS
http://dpdk.org/patch/153578

_Testing PASS_

Submitter: Dean Marx <dmarx@iol.unh.edu>
Date: Wednesday, May 21 2025 19:26:29 
DPDK git baseline: Repo:dpdk
  Branch: master
  CommitID:1aef42bc97a31906486c9d66b792208948af06f3

153576-153578 --> testing pass

Upstream job id: Generic-Unit-Test-DPDK#339741

Test environment and result as below:

+---------------------+----------------+
|     Environment     | dpdk_unit_test |
+=====================+================+
| CentOS Stream 9     | PASS           |
+---------------------+----------------+
| Fedora 40 (Clang)   | PASS           |
+---------------------+----------------+
| Debian 12           | PASS           |
+---------------------+----------------+
| Fedora 40           | PASS           |
+---------------------+----------------+
| CentOS Stream 10    | PASS           |
+---------------------+----------------+
| Fedora 41           | PASS           |
+---------------------+----------------+
| Ubuntu 20.04        | PASS           |
+---------------------+----------------+
| RHEL9               | PASS           |
+---------------------+----------------+
| RHEL8               | PASS           |
+---------------------+----------------+
| Fedora 41 (Clang)   | PASS           |
+---------------------+----------------+
| Ubuntu 24.04        | PASS           |
+---------------------+----------------+
| Ubuntu 22.04        | PASS           |
+---------------------+----------------+
| Windows Server 2022 | PASS           |
+---------------------+----------------+


CentOS Stream 9
	Kernel: Depends on container host
	Compiler: gcc 11.5.0 20240719 (Red Hat 11.5.0-2)

Fedora 40 (Clang)
	Kernel: Depends on container host
	Compiler: clang 18.1.8 (Fedora 18.1.8-1.fc40)

Debian 12
	Kernel: Depends on container host
	Compiler: gcc (Debian 12.2.0-14) 12.2.0

Fedora 40
	Kernel: Depends on container host
	Compiler: gcc 14.2.1 20240912 (Red Hat 14.2.1-3)

CentOS Stream 10
	Kernel: Depends on container host
	Compiler: gcc 14.2.1 20241104 (Red Hat 14.2.1-6)

Fedora 41
	Kernel: Depends on container host
	Compiler: gcc 14.2.1 20240912 (Red Hat 14.2.1-3)

Ubuntu 20.04
	Kernel: Depends on container host
	Compiler: gcc (Ubuntu 9.4.0-1ubuntu1~20.04.2) 9.4.0

RHEL9
	Kernel: Depends on container host
	Compiler: gcc 11.5.0 20240719 (Red Hat 11.5.0-2)

RHEL8
	Kernel: Depends on container host
	Compiler: gcc 8.5.0 20210514 (Red Hat 8.5.0-22)

Fedora 41 (Clang)
	Kernel: Depends on container host
	Compiler: clang 19.1.5 (Fedora 19.1.5-1.fc41)

Ubuntu 24.04
	Kernel: Depends on container host
	Compiler: gcc (Ubuntu 13.3.0-6ubuntu2~24.04) 13.3.0

Ubuntu 22.04
	Kernel: Depends on container host
	Compiler: gcc (Ubuntu 11.4.0-1ubuntu1~22.04) 11.4.0

Windows Server 2022
	Kernel: 10.0.20348.2031
	Compiler: clang 15.0.7, gcc 14.1.0 (MinGW), and MSVC VS 19.39.33521

To view detailed results, visit:
https://lab.dpdk.org/results/dashboard/patchsets/33226/

UNH-IOL DPDK Community Lab

To manage your email subscriptions, visit: 
https://lab.dpdk.org/results/dashboard/preferences/subscriptions/

^ permalink raw reply	[flat|nested] 26+ messages in thread

* |WARNING| pw153576-153578 [PATCH] [v2,3/3] dts: add flow validation
       [not found] <20250521192629.294265-3-dmarx@iol.unh.edu>
                   ` (21 preceding siblings ...)
  2025-05-21 23:09 ` |SUCCESS| " dpdklab
@ 2025-05-21 23:54 ` dpdklab
  2025-05-22  1:06 ` |SUCCESS| " dpdklab
                   ` (2 subsequent siblings)
  25 siblings, 0 replies; 26+ messages in thread
From: dpdklab @ 2025-05-21 23:54 UTC (permalink / raw)
  To: Test Report; +Cc: dpdk-test-reports

Test-Label: iol-compile-amd64-testing
Test-Status: WARNING
http://dpdk.org/patch/153578

_Testing issues_

Submitter: Dean Marx <dmarx@iol.unh.edu>
Date: Wednesday, May 21 2025 19:26:29 
DPDK git baseline: Repo:dpdk
  Branch: master
  CommitID:1aef42bc97a31906486c9d66b792208948af06f3

153576-153578 --> testing issues

Upstream job id: Generic-DPDK-Compile-Meson#390239

Test environment and result as below:

+-----------------------------------+-------------------------+--------------------+-------------------+-------------------+------------------+----------------------+
|            Environment            | dpdk_llvm_clang_compile | dpdk_meson_compile | dpdk_msvc_compile | dpdk_compile_spdk | dpdk_compile_ovs | dpdk_mingw64_compile |
+===================================+=========================+====================+===================+===================+==================+======================+
| Windows Server 2022               | PASS                    | SKIPPED            | PASS              | SKIPPED           | SKIPPED          | PASS                 |
+-----------------------------------+-------------------------+--------------------+-------------------+-------------------+------------------+----------------------+
| Ubuntu 20.04                      | SKIPPED                 | PASS               | SKIPPED           | SKIPPED           | SKIPPED          | SKIPPED              |
+-----------------------------------+-------------------------+--------------------+-------------------+-------------------+------------------+----------------------+
| FreeBSD 14.2                      | SKIPPED                 | PASS               | SKIPPED           | SKIPPED           | SKIPPED          | SKIPPED              |
+-----------------------------------+-------------------------+--------------------+-------------------+-------------------+------------------+----------------------+
| CentOS Stream 9                   | SKIPPED                 | PASS               | SKIPPED           | PASS              | SKIPPED          | SKIPPED              |
+-----------------------------------+-------------------------+--------------------+-------------------+-------------------+------------------+----------------------+
| CentOS Stream 10                  | SKIPPED                 | PASS               | SKIPPED           | SKIPPED           | SKIPPED          | SKIPPED              |
+-----------------------------------+-------------------------+--------------------+-------------------+-------------------+------------------+----------------------+
| Debian 12                         | SKIPPED                 | PASS               | SKIPPED           | PASS              | SKIPPED          | SKIPPED              |
+-----------------------------------+-------------------------+--------------------+-------------------+-------------------+------------------+----------------------+
| Fedora 40 (Clang)                 | SKIPPED                 | PASS               | SKIPPED           | WARN              | SKIPPED          | SKIPPED              |
+-----------------------------------+-------------------------+--------------------+-------------------+-------------------+------------------+----------------------+
| Fedora 40                         | SKIPPED                 | PASS               | SKIPPED           | PASS              | SKIPPED          | SKIPPED              |
+-----------------------------------+-------------------------+--------------------+-------------------+-------------------+------------------+----------------------+
| Fedora 41 (Clang)                 | SKIPPED                 | PASS               | SKIPPED           | WARN              | PASS             | SKIPPED              |
+-----------------------------------+-------------------------+--------------------+-------------------+-------------------+------------------+----------------------+
| Fedora 41                         | SKIPPED                 | PASS               | SKIPPED           | PASS              | PASS             | SKIPPED              |
+-----------------------------------+-------------------------+--------------------+-------------------+-------------------+------------------+----------------------+
| openSUSE Leap 15                  | SKIPPED                 | PASS               | SKIPPED           | SKIPPED           | SKIPPED          | SKIPPED              |
+-----------------------------------+-------------------------+--------------------+-------------------+-------------------+------------------+----------------------+
| RHEL8                             | SKIPPED                 | PASS               | SKIPPED           | SKIPPED           | SKIPPED          | SKIPPED              |
+-----------------------------------+-------------------------+--------------------+-------------------+-------------------+------------------+----------------------+
| RHEL9                             | SKIPPED                 | PASS               | SKIPPED           | SKIPPED           | SKIPPED          | SKIPPED              |
+-----------------------------------+-------------------------+--------------------+-------------------+-------------------+------------------+----------------------+
| Ubuntu 22.04                      | SKIPPED                 | PASS               | SKIPPED           | PASS              | SKIPPED          | SKIPPED              |
+-----------------------------------+-------------------------+--------------------+-------------------+-------------------+------------------+----------------------+
| Ubuntu 24.04                      | SKIPPED                 | PASS               | SKIPPED           | PASS              | PASS             | SKIPPED              |
+-----------------------------------+-------------------------+--------------------+-------------------+-------------------+------------------+----------------------+
| Alpine                            | SKIPPED                 | PASS               | SKIPPED           | SKIPPED           | SKIPPED          | SKIPPED              |
+-----------------------------------+-------------------------+--------------------+-------------------+-------------------+------------------+----------------------+
| Ubuntu 24.04 32 Bit Cross Compile | SKIPPED                 | PASS               | SKIPPED           | SKIPPED           | SKIPPED          | SKIPPED              |
+-----------------------------------+-------------------------+--------------------+-------------------+-------------------+------------------+----------------------+

==== 20 line log output for Fedora 41 (Clang) (dpdk_compile_spdk): ====
 --- Failed to get log output --- 
==== End log output ====

Windows Server 2022
	Kernel: 10.0.20348.2031
	Compiler: clang 15.0.7, gcc 14.1.0 (MinGW), and MSVC VS 19.39.33521

Ubuntu 20.04
	Kernel: 4.19.325-0419325-generic
	Compiler: gcc (Ubuntu 9.4.0-1ubuntu1~20.04.2) 9.4.0

FreeBSD 14.2
	Kernel: 14.2-RELEASE
	Compiler: clang 18.1.6

CentOS Stream 9
	Kernel: Depends on container host
	Compiler: gcc 11.5.0 20240719 (Red Hat 11.5.0-2)

CentOS Stream 10
	Kernel: Depends on container host
	Compiler: gcc 14.2.1 20241104 (Red Hat 14.2.1-6)

Debian 12
	Kernel: Depends on container host
	Compiler: gcc (Debian 12.2.0-14) 12.2.0

Fedora 40 (Clang)
	Kernel: Depends on container host
	Compiler: clang 18.1.8 (Fedora 18.1.8-1.fc40)

Fedora 40
	Kernel: Depends on container host
	Compiler: gcc 14.2.1 20240912 (Red Hat 14.2.1-3)

Fedora 41 (Clang)
	Kernel: Depends on container host
	Compiler: clang 19.1.5 (Fedora 19.1.5-1.fc41)

Fedora 41
	Kernel: Depends on container host
	Compiler: gcc 14.2.1 20240912 (Red Hat 14.2.1-3)

openSUSE Leap 15
	Kernel: Depends on container host
	Compiler: gcc (SUSE Linux) 7.5.0

RHEL8
	Kernel: Depends on container host
	Compiler: gcc 8.5.0 20210514 (Red Hat 8.5.0-22)

RHEL9
	Kernel: Depends on container host
	Compiler: gcc 11.5.0 20240719 (Red Hat 11.5.0-2)

Ubuntu 22.04
	Kernel: Depends on container host
	Compiler: gcc (Ubuntu 11.4.0-1ubuntu1~22.04) 11.4.0

Ubuntu 24.04
	Kernel: Depends on container host
	Compiler: gcc (Ubuntu 13.3.0-6ubuntu2~24.04) 13.3.0

Alpine
	Kernel: Depends on container host
	Compiler: gcc (Alpine 14.2.0) 14.2.0

Ubuntu 24.04 32 Bit Cross Compile
	Kernel: Depends on container host
	Compiler: gcc (Ubuntu 13.3.0-6ubuntu2~24.04) 13.3.0

To view detailed results, visit:
https://lab.dpdk.org/results/dashboard/patchsets/33226/

UNH-IOL DPDK Community Lab

To manage your email subscriptions, visit: 
https://lab.dpdk.org/results/dashboard/preferences/subscriptions/

^ permalink raw reply	[flat|nested] 26+ messages in thread

* |SUCCESS| pw153576-153578 [PATCH] [v2,3/3] dts: add flow validation
       [not found] <20250521192629.294265-3-dmarx@iol.unh.edu>
                   ` (22 preceding siblings ...)
  2025-05-21 23:54 ` |WARNING| " dpdklab
@ 2025-05-22  1:06 ` dpdklab
  2025-05-22  2:30 ` dpdklab
  2025-05-22  9:03 ` dpdklab
  25 siblings, 0 replies; 26+ messages in thread
From: dpdklab @ 2025-05-22  1:06 UTC (permalink / raw)
  To: Test Report; +Cc: dpdk-test-reports

Test-Label: iol-unit-arm64-testing
Test-Status: SUCCESS
http://dpdk.org/patch/153578

_Testing PASS_

Submitter: Dean Marx <dmarx@iol.unh.edu>
Date: Wednesday, May 21 2025 19:26:29 
DPDK git baseline: Repo:dpdk
  Branch: master
  CommitID:1aef42bc97a31906486c9d66b792208948af06f3

153576-153578 --> testing pass

Upstream job id: Generic-Unit-Test-DPDK#339733

Test environment and result as below:

+-----------------------------+------------------------------+---------------------------+--------------+----------------+
|         Environment         | cryptodev_sw_snow3g_autotest | cryptodev_sw_zuc_autotest | lpm_autotest | dpdk_unit_test |
+=============================+==============================+===========================+==============+================+
| Debian 12 (arm)             | PASS                         | PASS                      | SKIPPED      | PASS           |
+-----------------------------+------------------------------+---------------------------+--------------+----------------+
| Ubuntu 20.04 ARM SVE        | SKIPPED                      | SKIPPED                   | PASS         | SKIPPED        |
+-----------------------------+------------------------------+---------------------------+--------------+----------------+
| Fedora 40 (ARM)             | SKIPPED                      | SKIPPED                   | SKIPPED      | PASS           |
+-----------------------------+------------------------------+---------------------------+--------------+----------------+
| CentOS Stream 9 (ARM)       | SKIPPED                      | SKIPPED                   | SKIPPED      | PASS           |
+-----------------------------+------------------------------+---------------------------+--------------+----------------+
| Fedora 40 (ARM Clang)       | SKIPPED                      | SKIPPED                   | SKIPPED      | PASS           |
+-----------------------------+------------------------------+---------------------------+--------------+----------------+
| CentOS Stream 10 (ARM)      | SKIPPED                      | SKIPPED                   | SKIPPED      | PASS           |
+-----------------------------+------------------------------+---------------------------+--------------+----------------+
| Fedora 41 (ARM Clang)       | SKIPPED                      | SKIPPED                   | SKIPPED      | PASS           |
+-----------------------------+------------------------------+---------------------------+--------------+----------------+
| Ubuntu 20.04 (ARM)          | SKIPPED                      | SKIPPED                   | SKIPPED      | PASS           |
+-----------------------------+------------------------------+---------------------------+--------------+----------------+
| Fedora 41 (ARM)             | SKIPPED                      | SKIPPED                   | SKIPPED      | PASS           |
+-----------------------------+------------------------------+---------------------------+--------------+----------------+
| RHEL9 (ARM)                 | SKIPPED                      | SKIPPED                   | SKIPPED      | PASS           |
+-----------------------------+------------------------------+---------------------------+--------------+----------------+
| Ubuntu 24.04 (ARM)          | SKIPPED                      | SKIPPED                   | SKIPPED      | PASS           |
+-----------------------------+------------------------------+---------------------------+--------------+----------------+
| Ubuntu 22.04 (ARM)          | SKIPPED                      | SKIPPED                   | SKIPPED      | PASS           |
+-----------------------------+------------------------------+---------------------------+--------------+----------------+
| 32-bit Ubuntu 22.04.4 (ARM) | SKIPPED                      | SKIPPED                   | SKIPPED      | PASS           |
+-----------------------------+------------------------------+---------------------------+--------------+----------------+


Debian 12 (arm)
	Kernel: Depends on container host
	Compiler: gcc (Debian 12.2.0-14) 12.2.0

Ubuntu 20.04 ARM SVE
	Kernel: Depends on container host
	Compiler: gcc (Ubuntu 10.5.0-1ubuntu1~20.04) 10.5.0

Fedora 40 (ARM)
	Kernel: Depends on container host
	Compiler: gcc 14.2.1 20240912 (Red Hat 14.2.1-3)

CentOS Stream 9 (ARM)
	Kernel: Depends on container host
	Compiler: gcc 11.5.0 20240719 (Red Hat 11.5.0-2)

Fedora 40 (ARM Clang)
	Kernel: Depends on container host
	Compiler: clang 18.1.8 (Fedora 18.1.8-1.fc40)

CentOS Stream 10 (ARM)
	Kernel: Depends on container host
	Compiler: gcc 14.2.1 20241104 (Red Hat 14.2.1-6)

Fedora 41 (ARM Clang)
	Kernel: Depends on container host
	Compiler: clang 19.1.5 (Fedora 19.1.5-1.fc41)

Ubuntu 20.04 (ARM)
	Kernel: Depends on container host
	Compiler: gcc (Ubuntu 9.4.0-1ubuntu1~20.04.2) 9.4.0

Fedora 41 (ARM)
	Kernel: Depends on container host
	Compiler: gcc 14.2.1 20240912 (Red Hat 14.2.1-3)

RHEL9 (ARM)
	Kernel: Depends on container host
	Compiler: gcc 11.5.0 20240719 (Red Hat 11.5.0-2)

Ubuntu 24.04 (ARM)
	Kernel: Depends on container host
	Compiler: gcc (Ubuntu 13.3.0-6ubuntu2~24.04) 13.3.0

Ubuntu 22.04 (ARM)
	Kernel: Depends on container host
	Compiler: gcc (Ubuntu 11.4.0-1ubuntu1~22.04) 11.4.0

32-bit Ubuntu 22.04.4 (ARM)
	Kernel: 5.15.83+ aarch64
	Compiler: gcc (Ubuntu 11.4.0-1ubuntu1~22.04) 11.4.0

To view detailed results, visit:
https://lab.dpdk.org/results/dashboard/patchsets/33226/

UNH-IOL DPDK Community Lab

To manage your email subscriptions, visit: 
https://lab.dpdk.org/results/dashboard/preferences/subscriptions/

^ permalink raw reply	[flat|nested] 26+ messages in thread

* |SUCCESS| pw153576-153578 [PATCH] [v2,3/3] dts: add flow validation
       [not found] <20250521192629.294265-3-dmarx@iol.unh.edu>
                   ` (23 preceding siblings ...)
  2025-05-22  1:06 ` |SUCCESS| " dpdklab
@ 2025-05-22  2:30 ` dpdklab
  2025-05-22  9:03 ` dpdklab
  25 siblings, 0 replies; 26+ messages in thread
From: dpdklab @ 2025-05-22  2:30 UTC (permalink / raw)
  To: Test Report; +Cc: dpdk-test-reports

Test-Label: iol-compile-arm64-testing
Test-Status: SUCCESS
http://dpdk.org/patch/153578

_Testing PASS_

Submitter: Dean Marx <dmarx@iol.unh.edu>
Date: Wednesday, May 21 2025 19:26:29 
DPDK git baseline: Repo:dpdk
  Branch: master
  CommitID:1aef42bc97a31906486c9d66b792208948af06f3

153576-153578 --> testing pass

Upstream job id: Generic-DPDK-Compile-Meson#390223

Test environment and result as below:

+----------------------------------------+--------------------+
|              Environment               | dpdk_meson_compile |
+========================================+====================+
| RHEL9 (ARM)                            | PASS               |
+----------------------------------------+--------------------+
| Ubuntu 20.04 ARM GCC Cross Compile     | PASS               |
+----------------------------------------+--------------------+
| Ubuntu 20.04 ARM SVE                   | PASS               |
+----------------------------------------+--------------------+
| Debian 12 with MUSDK                   | PASS               |
+----------------------------------------+--------------------+
| Fedora 40 (ARM)                        | PASS               |
+----------------------------------------+--------------------+
| Fedora 40 (ARM Clang)                  | PASS               |
+----------------------------------------+--------------------+
| Fedora 41 (ARM)                        | PASS               |
+----------------------------------------+--------------------+
| Fedora 41 (ARM Clang)                  | PASS               |
+----------------------------------------+--------------------+
| Ubuntu 20.04 (ARM)                     | PASS               |
+----------------------------------------+--------------------+
| Ubuntu 22.04 (ARM)                     | PASS               |
+----------------------------------------+--------------------+
| Ubuntu 24.04 (ARM)                     | PASS               |
+----------------------------------------+--------------------+
| CentOS Stream 9 (ARM)                  | PASS               |
+----------------------------------------+--------------------+
| CentOS Stream 10 (ARM)                 | PASS               |
+----------------------------------------+--------------------+
| Debian 12 (arm)                        | PASS               |
+----------------------------------------+--------------------+
| Ubuntu 20.04 ARM Clang Cross Compile   | PASS               |
+----------------------------------------+--------------------+
| Ubuntu 20.04 aarch32 GCC Cross Compile | PASS               |
+----------------------------------------+--------------------+


RHEL9 (ARM)
	Kernel: Depends on container host
	Compiler: gcc 11.5.0 20240719 (Red Hat 11.5.0-2)

Ubuntu 20.04 ARM GCC Cross Compile
	Kernel: Depends on container host
	Compiler: aarch64-linux-gnu-gcc (Ubuntu 9.4.0-1ubuntu1~20.04.2) 9.4.0

Ubuntu 20.04 ARM SVE
	Kernel: Depends on container host
	Compiler: gcc (Ubuntu 10.5.0-1ubuntu1~20.04) 10.5.0

Debian 12 with MUSDK
	Kernel: Depends on container host
	Compiler: gcc (Debian 12.2.0-14) 12.2.0

Fedora 40 (ARM)
	Kernel: Depends on container host
	Compiler: gcc 14.2.1 20240912 (Red Hat 14.2.1-3)

Fedora 40 (ARM Clang)
	Kernel: Depends on container host
	Compiler: clang 18.1.8 (Fedora 18.1.8-1.fc40)

Fedora 41 (ARM)
	Kernel: Depends on container host
	Compiler: gcc 14.2.1 20240912 (Red Hat 14.2.1-3)

Fedora 41 (ARM Clang)
	Kernel: Depends on container host
	Compiler: clang 19.1.5 (Fedora 19.1.5-1.fc41)

Ubuntu 20.04 (ARM)
	Kernel: Depends on container host
	Compiler: gcc (Ubuntu 9.4.0-1ubuntu1~20.04.2) 9.4.0

Ubuntu 22.04 (ARM)
	Kernel: Depends on container host
	Compiler: gcc (Ubuntu 11.4.0-1ubuntu1~22.04) 11.4.0

Ubuntu 24.04 (ARM)
	Kernel: Depends on container host
	Compiler: gcc (Ubuntu 13.3.0-6ubuntu2~24.04) 13.3.0

CentOS Stream 9 (ARM)
	Kernel: Depends on container host
	Compiler: gcc 11.5.0 20240719 (Red Hat 11.5.0-2)

CentOS Stream 10 (ARM)
	Kernel: Depends on container host
	Compiler: gcc 14.2.1 20241104 (Red Hat 14.2.1-6)

Debian 12 (arm)
	Kernel: Depends on container host
	Compiler: gcc (Debian 12.2.0-14) 12.2.0

Ubuntu 20.04 ARM Clang Cross Compile
	Kernel: Depends on container host
	Compiler: clang 10.0.0-4ubuntu1

Ubuntu 20.04 aarch32 GCC Cross Compile
	Kernel: Depends on container host
	Compiler: gcc 9.4.0

To view detailed results, visit:
https://lab.dpdk.org/results/dashboard/patchsets/33226/

UNH-IOL DPDK Community Lab

To manage your email subscriptions, visit: 
https://lab.dpdk.org/results/dashboard/preferences/subscriptions/

^ permalink raw reply	[flat|nested] 26+ messages in thread

* |SUCCESS| pw153576-153578 [PATCH] [v2,3/3] dts: add flow validation
       [not found] <20250521192629.294265-3-dmarx@iol.unh.edu>
                   ` (24 preceding siblings ...)
  2025-05-22  2:30 ` dpdklab
@ 2025-05-22  9:03 ` dpdklab
  25 siblings, 0 replies; 26+ messages in thread
From: dpdklab @ 2025-05-22  9:03 UTC (permalink / raw)
  To: Test Report; +Cc: dpdk-test-reports

Test-Label: iol-sample-apps-testing
Test-Status: SUCCESS
http://dpdk.org/patch/153578

_Testing PASS_

Submitter: Dean Marx <dmarx@iol.unh.edu>
Date: Wednesday, May 21 2025 19:26:29 
DPDK git baseline: Repo:dpdk
  Branch: master
  CommitID:1aef42bc97a31906486c9d66b792208948af06f3

153576-153578 --> testing pass

Upstream job id: ACVP-FIPS-testing#9888

Test environment and result as below:

+--------------+----------------------+----------------------+
| Environment  | compressdev_zlib_pmd | dpdk_fips_validation |
+==============+======================+======================+
| Ubuntu 22.04 | PASS                 | SKIPPED              |
+--------------+----------------------+----------------------+
| Ubuntu 20.04 | SKIPPED              | PASS                 |
+--------------+----------------------+----------------------+


Ubuntu 22.04
	Kernel: 5.15.0-100-generic
	Compiler: gcc gcc (Ubuntu 11.4.0-1ubuntu1~22.04) 11.4.0

Ubuntu 20.04
	Kernel: Depends on container host
	Compiler: gcc (Ubuntu 9.4.0-1ubuntu1~20.04.2) 9.4.0

To view detailed results, visit:
https://lab.dpdk.org/results/dashboard/patchsets/33226/

UNH-IOL DPDK Community Lab

To manage your email subscriptions, visit: 
https://lab.dpdk.org/results/dashboard/preferences/subscriptions/

^ permalink raw reply	[flat|nested] 26+ messages in thread

end of thread, other threads:[~2025-05-22  9:03 UTC | newest]

Thread overview: 26+ messages (download: mbox.gz / follow: Atom feed)
-- links below jump to the message on this page --
     [not found] <20250521192629.294265-3-dmarx@iol.unh.edu>
2025-05-21 19:01 ` |SUCCESS| pw153576-153578 [PATCH v2 3/3] dts: add flow validation qemudev
2025-05-21 19:05 ` qemudev
2025-05-21 19:27 ` |SUCCESS| pw153578 " checkpatch
2025-05-21 20:08 ` |SUCCESS| pw153576-153578 [PATCH] [v2,3/3] " dpdklab
2025-05-21 20:14 ` dpdklab
2025-05-21 20:19 ` dpdklab
2025-05-21 20:21 ` dpdklab
2025-05-21 20:23 ` dpdklab
2025-05-21 20:26 ` dpdklab
2025-05-21 20:34 ` dpdklab
2025-05-21 20:43 ` |SUCCESS| pw153578 [PATCH v2 3/3] " 0-day Robot
2025-05-21 20:44 ` |SUCCESS| pw153576-153578 [PATCH] [v2,3/3] " dpdklab
2025-05-21 20:48 ` dpdklab
2025-05-21 21:01 ` |PENDING| " dpdklab
2025-05-21 21:15 ` |SUCCESS| " dpdklab
2025-05-21 21:19 ` |PENDING| " dpdklab
2025-05-21 21:48 ` dpdklab
2025-05-21 22:05 ` dpdklab
2025-05-21 22:34 ` |SUCCESS| " dpdklab
2025-05-21 22:49 ` |WARNING| " dpdklab
2025-05-21 22:50 ` dpdklab
2025-05-21 23:09 ` |SUCCESS| " dpdklab
2025-05-21 23:54 ` |WARNING| " dpdklab
2025-05-22  1:06 ` |SUCCESS| " dpdklab
2025-05-22  2:30 ` dpdklab
2025-05-22  9:03 ` dpdklab

This is a public inbox, see mirroring instructions
for how to clone and mirror all data and code used for this inbox;
as well as URLs for NNTP newsgroup(s).